BEGIN:VCALENDAR
VERSION:2.0
PRODID:-//Eczacılar Burada - ECPv6.11.2.1//NONSGML v1.0//EN
CALSCALE:GREGORIAN
METHOD:PUBLISH
X-WR-CALNAME:Eczacılar Burada
X-ORIGINAL-URL:https://eczacilarburada.com
X-WR-CALDESC:Eczacılar Burada için etkinlikler
REFRESH-INTERVAL;VALUE=DURATION:PT1H
X-Robots-Tag:noindex
X-PUBLISHED-TTL:PT1H
BEGIN:VTIMEZONE
TZID:Europe/Istanbul
BEGIN:STANDARD
TZOFFSETFROM:+0300
TZOFFSETTO:+0300
TZNAME:+03
DTSTART:20260101T000000
END:STANDARD
END:VTIMEZONE
BEGIN:VEVENT
DTSTART;TZID=Europe/Istanbul:20260413T200000
DTEND;TZID=Europe/Istanbul:20260413T220000
DTSTAMP:20260424T161645
CREATED:20260329T062622Z
LAST-MODIFIED:20260411T151233Z
UID:260913-1776110400-1776117600@eczacilarburada.com
SUMMARY:1. Eğitim
DESCRIPTION:Temel Dermokozmetik Ürün Bilgisi\nKozmetik / Dermokozmetik ürün nedir?
URL:https://eczacilarburada.com/program/1-egitim/
CATEGORIES:Seminerler
ATTACH;FMTTYPE=image/jpeg:https://eczacilarburada.com/wp-content/uploads/2025/04/egitim-banner-dermokozmetik-13nisan.jpg
END:VEVENT
END:VCALENDAR