BEGIN:VCALENDAR
VERSION:2.0
PRODID:-//Eczacılar Burada - ECPv6.11.2.1//NONSGML v1.0//EN
CALSCALE:GREGORIAN
METHOD:PUBLISH
X-WR-CALNAME:Eczacılar Burada
X-ORIGINAL-URL:https://eczacilarburada.com
X-WR-CALDESC:Eczacılar Burada için etkinlikler
REFRESH-INTERVAL;VALUE=DURATION:PT1H
X-Robots-Tag:noindex
X-PUBLISHED-TTL:PT1H
BEGIN:VTIMEZONE
TZID:Europe/Istanbul
BEGIN:STANDARD
TZOFFSETFROM:+0300
TZOFFSETTO:+0300
TZNAME:+03
DTSTART:20240101T000000
END:STANDARD
END:VTIMEZONE
BEGIN:VEVENT
DTSTART;TZID=Europe/Istanbul:20240522T203000
DTEND;TZID=Europe/Istanbul:20240522T223000
DTSTAMP:20260425T030925
CREATED:20250419T220834Z
LAST-MODIFIED:20250419T220834Z
UID:251500-1716409800-1716417000@eczacilarburada.com
SUMMARY:A’dan Z’ye Ruhsatlandırma Yönetimi ve Süreçleri
DESCRIPTION:Ecz. Sibel Gürbüz Çelik ile ilaç endüstrisi\, ruhsatlandırma süreçleri hakkında bilgi sahibi olacağımız harika bir etkinlik gerçekleştireceğiz.\n22 Mayıs Çarşamba akşamı 20.30’da görüşmek üzere… \n \nEcz. Sibel Gürbüz Çelik Kimdir? \n2012 yılında Yeditepe Üniversitesi Eczacılık fakültesinden mezun olan Sibel Çelik yüksek lisans eğitimini Marmara Üniversitesi farmakoloji anabilim dalında tamamlamıştır. İlk olarak Novo Nordisk Türkiye’de Regülasyon İşleri Uzmanı olarak başlamıştır. Türkiye’ye bağlı kuruluşta düzenleyici işler uzmanı olarak kısa süreli görevde bulunmuştur. Novo Nordisk Business Area Near East & Turkey and Russia & CIS (BANEC) Regülatif İşler Uzmanı ve sonrasında Regülatif İşler Proje Yöneticisi olarak devam etmiştir. 2019-2020 yılları arasında Novo Nordisk Business Area Near East & CIS & Africa (BAMEAC) Farmakovijilans ve Hasta Güvenliği Yöneticisi pozisyonunda bulunmuştur. 2021-2023 yılları arasında Johnson & Johnson – Janssen Pharmaceuticals Türkiye’de Regülatif İşler Lideri olarak çalışmıştır.
URL:https://eczacilarburada.com/program/adan-zye-ruhsatlandirma-yonetimi-ve-surecleri/
CATEGORIES:E-Buluşmalar
ATTACH;FMTTYPE=image/png:https://eczacilarburada.com/wp-content/uploads/2025/04/IMG_0864.png
END:VEVENT
END:VCALENDAR