BEGIN:VCALENDAR
VERSION:2.0
PRODID:-//Eczacılar Burada - ECPv6.11.2.1//NONSGML v1.0//EN
CALSCALE:GREGORIAN
METHOD:PUBLISH
X-WR-CALNAME:Eczacılar Burada
X-ORIGINAL-URL:https://eczacilarburada.com
X-WR-CALDESC:Eczacılar Burada için etkinlikler
REFRESH-INTERVAL;VALUE=DURATION:PT1H
X-Robots-Tag:noindex
X-PUBLISHED-TTL:PT1H
BEGIN:VTIMEZONE
TZID:Europe/Istanbul
BEGIN:STANDARD
TZOFFSETFROM:+0300
TZOFFSETTO:+0300
TZNAME:+03
DTSTART:20210101T000000
END:STANDARD
END:VTIMEZONE
BEGIN:VEVENT
DTSTART;TZID=Europe/Istanbul:20210516T203000
DTEND;TZID=Europe/Istanbul:20210516T223000
DTSTAMP:20260425T134936
CREATED:20250419T220622Z
LAST-MODIFIED:20250419T220622Z
UID:251392-1621197000-1621204200@eczacilarburada.com
SUMMARY:Akıl Tutulmasından Bilgeliğe "Liderlik"
DESCRIPTION:Pandemi bir akıl tutulması sürecini de beraberinde getirdi. Kimimiz atlattık\, kimimiz hala üzerinde çalışıyoruz… Yeni bir yaşam başladı ve yapmamız gereken verimli bir şekilde bu yaşama bir an önce adapte olmak.  \nHer sabah uyandığımız yeni dünya bizlere gelecekte ayakta kalmanın yeni yollarını işaret ediyor. Bunun için de sürekli gelişmek\, küresel düşünmek\, değişimi takip etmek\, sadece kâr odaklı değil\, içinde yaşadığımız toplum ve çevreye fayda sağlayan bir büyüme modelini benimsemek ve müşteri ile güven temeline dayanan bir ilişki kurmak zorundayız. Yani bir bilgelik yolculuğuna çıkmanın zamanı çoktan geldi de geçiyor. \nEvde bir liderseniz\, işte bir liderseniz\, üyesi olduğunuz bir grupta liderseniz ya da geleceğin lideriyseniz\, Ayşin Kürkçüoğlu ile gerçekleştireceğimiz geçmişten bugüne liderlik yolculuğumuza hazır olun… \n16 Mayıs saat 18:30’de ZOOM platformu üzerinden ücretsiz olarak gerçekleştireceğimiz webinara kaydınızı https://old.eczacilarburada.com/event/aysin-kurkcuoglu-ile-akil-tutulmasindan-bilgelige-liderlik/. adresinde bulunun Ücretsiz Kaydol formundan yapabilirsiniz. \n  \nECZACILAR BURADA PLATFORMU \nRutin Hayatın Dışına Çık! \n  \n#liderlik #webinar #online #etkinlik #sohbet #onlinesohbet #eczacılarburada #rutinhayatındışınaçık #eczacı #eczacılık \n  \n 
URL:https://eczacilarburada.com/program/akil-tutulmasindan-bilgelige-liderlik/
CATEGORIES:E-Buluşmalar
ATTACH;FMTTYPE=image/png:https://eczacilarburada.com/wp-content/uploads/2025/04/231573_etkinlikresmi.png
END:VEVENT
END:VCALENDAR