BEGIN:VCALENDAR
VERSION:2.0
PRODID:-//Eczacılar Burada - ECPv6.11.2.1//NONSGML v1.0//EN
CALSCALE:GREGORIAN
METHOD:PUBLISH
X-WR-CALNAME:Eczacılar Burada
X-ORIGINAL-URL:https://eczacilarburada.com
X-WR-CALDESC:Eczacılar Burada için etkinlikler
REFRESH-INTERVAL;VALUE=DURATION:PT1H
X-Robots-Tag:noindex
X-PUBLISHED-TTL:PT1H
BEGIN:VTIMEZONE
TZID:Europe/Istanbul
BEGIN:STANDARD
TZOFFSETFROM:+0300
TZOFFSETTO:+0300
TZNAME:+03
DTSTART:20240101T000000
END:STANDARD
END:VTIMEZONE
BEGIN:VEVENT
DTSTART;TZID=Europe/Istanbul:20240313T203000
DTEND;TZID=Europe/Istanbul:20240313T223000
DTSTAMP:20260425T045104
CREATED:20250419T220825Z
LAST-MODIFIED:20250419T220825Z
UID:251490-1710361800-1710369000@eczacilarburada.com
SUMMARY:Akılcı İlaç Kullanımı
DESCRIPTION:Dr. Ecz. Merve Saygı Bacanak-Marmara Üniversitesi’nde doktora öğretim üyesi\, PhytoMel Pharma kurucusu \nModeratörler: Prof.Dr. Afife Mat – Biruni Üniversitesi Eczacılık Fakültesi Farmakognozi AB\nDalı Başkanı \nEcz. Ahmet Turhaner – Eczacılar Burada Platformu Kurucusu \n13 Mart Çarşamba 20.30 \nMerve Saygı Bacanak Kimdir?\nMerve Saygı Bacanak 2007 yılında İstanbul Üniversitesi Eczacılık Fakültesi’nden mezun olmuştur. İstanbul Üniversitesi İstanbul Tıp Fakültesi Tıbbi Farmakoloji ve Klinik Farmakoloji Anabilim Dalı yüksek lisans ve doktorasına sahiptir. 2007-2014 yılları arasında İDE İlaç Danışmanlığında Biyoeşdeğerlik Projesi Müdür Yardımcısı olarak çalışmıştır. Daha sonra İDEAL Biyolojik Ürünler ve İlaç Danışmanlık Eğitim Şirketinde 2 yıl boyunca Klinik Araştırmalarda Teknik Müdür Yardımcısı olarak çalışmıştır. 2016’da kurduğu PhytoMel Pharma’da Formülasyon Sahibi ve Danışmanlık yapmaktadır.Aynı zamanda Marmara Üniversitesinde doktora öğretim üyesi olarak ders vermektedir.Ayrıca çeşitli bilimsel dergilerde yayımlanan birçok makalesi bulunmaktadır.
URL:https://eczacilarburada.com/program/akilci-ilac-kullanimi/
CATEGORIES:E-Buluşmalar
ATTACH;FMTTYPE=image/jpeg:https://eczacilarburada.com/wp-content/uploads/2025/04/IMG_0474.jpg
END:VEVENT
END:VCALENDAR