BEGIN:VCALENDAR
VERSION:2.0
PRODID:-//Eczacılar Burada - ECPv6.11.2.1//NONSGML v1.0//EN
CALSCALE:GREGORIAN
METHOD:PUBLISH
X-WR-CALNAME:Eczacılar Burada
X-ORIGINAL-URL:https://eczacilarburada.com
X-WR-CALDESC:Eczacılar Burada için etkinlikler
REFRESH-INTERVAL;VALUE=DURATION:PT1H
X-Robots-Tag:noindex
X-PUBLISHED-TTL:PT1H
BEGIN:VTIMEZONE
TZID:Europe/Istanbul
BEGIN:STANDARD
TZOFFSETFROM:+0300
TZOFFSETTO:+0300
TZNAME:+03
DTSTART:20230101T000000
END:STANDARD
END:VTIMEZONE
BEGIN:VEVENT
DTSTART;TZID=Europe/Istanbul:20231004T203000
DTEND;TZID=Europe/Istanbul:20231004T223000
DTSTAMP:20260425T063718
CREATED:20250419T220803Z
LAST-MODIFIED:20250419T220803Z
UID:251466-1696451400-1696458600@eczacilarburada.com
SUMMARY:Altan Demirdere ile İlaç Endüstrisinde 40 Yıl
DESCRIPTION:Öğrenciler Soruyor Profesyoneller Cevaplıyor \nEkim ayına başlarken ilk etkinliğimizi Exeltis’de genel müdür olan değerli eczacı Altan Demirdere ile yapıyoruz. İlaç endüstrisini\, Altan Demirdere’nin kariyer yolculuğunu dinleyeceğimiz keyifli bir etkinlik olacak. \n4 Ekim Çarşamba 20.30’da görüşmek üzere… \nAltan Demirdere Kimdir?\nGalatasaray Lisesi’nden mezun olan Altan Demirdere\, Marmara Üniversitesi Eczacılık Fakültesi’nde lisans\, Basel Üniversitesi Eczacılık Fakültesi’nde ise yüksek lisans ve doktora öğrenimini tamamladı. Ayrıca İstanbul Üniversitesi İşletme İktisadi Enstitüsü’nde öğrenim gördü. \nAltan Demirdere 1980-1984 yılları arasında Sandoz Basel’de Ar-Ge Bölümü’nde araştırmacı olarak görev yaptı. 1984-1993 yılları arasında Sandoz Türkiye’de Tıbbi Tanıtım Sorumlusu\, Bölge Müdürü\, Ürün Müdürü\, Satış Grubu Müdürü\, Planlama & Kontrol Müdürlüğü\, Pazarlama ve Satış Direktörlüğü ve Genel Müdür Yardımcılığı gibi pek çok farklı pozisyonda bulundu. \nDemirdere\,1992’de İsviçre’ye 20 ülkeden sorumlu Doğu ve Orta Avrupa Bölgesi’nin Başkanı olarak gitti. \n1998 yılında Sandoz ve Ciba-Geigy’nin birleşmesiyle kurulan Novartis’in Macaristan Genel Müdürlüğü ve Ülke Başkanlığı görevini üstlendi. \n2002 yılında Novartis Türkiye Genel Müdürü ve Ülke Başkanı olarak Türkiye’ye geri döndü ve bu görevini 2007 yılına kadar sürdürdü. Aynı dönemde Araştırmacı İlaç Firmaları Derneği (AİFD)’nin Kurucu Başkanı oldu ve 6 dönem boyunca Yönetim Kurulu Başkanlığı’nı yaptı. \n2008’de yerli ilaç firması Sanovel’den genel müdürlük teklifi aldı ve burada 5 ay çalıştıktan sonra tekrar Sandoz’a döndü. \n2008-2015 yılları arasında Sandoz Rusya Genel Müdürü ve Novartis Grubu Başkanı olarak görev aldı. Rusya’da büyük başarılara imza atan ve Sandoz’un iş hacmini üçe katlayan Altan Demirdere\, Mart 2015’te Sandoz Türkiye ve CIS Bölgesi Başkanlığı ve Novartis Grup CIS Başkanlığı’na atanarak İstanbul’a geri döndü. \nBunu takiben Altan Demirdere 2016-2017 yılları arasında Sandoz Türkiye ve Ortadoğu Bölgesi Başkanlığı’nı yürüttü. \n2017-2022 yılları arasında Novartis Türkiye Ülke Başkanı olarak görev yaptı. \n2022 yılında Genveon İlaç’ta 6 ay İcra Kurulu Üyesi olarak çalıştı ve ardından Exeltis Türkiye’de Genel Müdür olarak çalışmaya başladı. Şu an bu görevini sürdürmektedir.
URL:https://eczacilarburada.com/program/altan-demirdere-ile-ilac-endustrisinde-40-yil/
CATEGORIES:E-Buluşmalar
ATTACH;FMTTYPE=image/png:https://eczacilarburada.com/wp-content/uploads/2025/04/233441_etkinlikresmi.png
END:VEVENT
END:VCALENDAR