BEGIN:VCALENDAR
VERSION:2.0
PRODID:-//Eczacılar Burada - ECPv6.11.2.1//NONSGML v1.0//EN
CALSCALE:GREGORIAN
METHOD:PUBLISH
X-WR-CALNAME:Eczacılar Burada
X-ORIGINAL-URL:https://eczacilarburada.com
X-WR-CALDESC:Eczacılar Burada için etkinlikler
REFRESH-INTERVAL;VALUE=DURATION:PT1H
X-Robots-Tag:noindex
X-PUBLISHED-TTL:PT1H
BEGIN:VTIMEZONE
TZID:Europe/Istanbul
BEGIN:STANDARD
TZOFFSETFROM:+0300
TZOFFSETTO:+0300
TZNAME:+03
DTSTART:20240101T000000
END:STANDARD
END:VTIMEZONE
BEGIN:VEVENT
DTSTART;TZID=Europe/Istanbul:20240228T203000
DTEND;TZID=Europe/Istanbul:20240228T223000
DTSTAMP:20260425T045108
CREATED:20250419T220825Z
LAST-MODIFIED:20250419T220825Z
UID:251486-1709152200-1709159400@eczacilarburada.com
SUMMARY:Aromaterapiye Giriş
DESCRIPTION:Uzm.Ecz. Sevil Ağalar Altınel ile Aromaterapiye Giriş\nUzm. Ecz. Sevil Ağalar Altınel: Nature&Nurture Kurucusu\, Aromader Başkanı \nModeratör: Ecz. Ahmet Turhaner – Eczacılar Burada Platformu Kurucusu \n28 Şubat Çarşamba 20.30 \nUzm. Ecz. Sevil Ağalar Altınel Kimdir? \nİstanbul Üniversitesi Eczacılık Fakültesini bitirdikten sonra University of Long İsland\, Newyork Arnold Swarts Eczacılık fakültesinde ‘Health care and marketing ‘master eğitimi tamamladı. Master sırasında Pfizer Newyork Headquarter’ında kardiyoloji bölümünde stajer öğrenci olarak çalıştı. Türkiye’ye dönüşü sonrasında Roche ilaçları antibiyotik bölümü ürün yöneticisi olarak çalışmaya başladı ve bir süre sonra Roche ilaçları OTC bölümünün kurulmasında rol oynadı. Bu bölümde birçok önemli OTC ürününü piyasaya çıkardı ve tanıtımını sağladı. Bristol Myers Squibb firması Türkiye’de kurulma aşamasında\, Onkoloji Bölüm Müdürü olarak çalışmaya başladı. Daha sonra Onkoloji ürünleri pazarlama ve satıştan sorumlu ‘Business Unit Manager’ olarak atandı. Kanser tedavisinde öncü ürünlerin Türkiye’ye getirilmesinde rol aldı. İlaç sektöründen ayrıldıktan sonra İstanbul Bebek’te kendi eczanesini açtı. Klinik aromaterapi ve koku konusunda dünyaca ünlü isimlerden eğitimler aldı. Hem eğitimi hem de meslek yaşamı boyunca doğal ürünler ilgi odağı oldu. Kendi yakın çevresine yaptığı doğal formülasyonları bir süre sonra ‘Nature&Nurture’ adı altında markalaştırdı. Halen İstanbul Üniversitesi Eczacılık Fakültesi Farmakognozi AB dalında ikinci master olarak\, fitoterapi tezi “zeytin yaprakları” üzerinde çalışmaktadır.\nAromaterapi Derneği ‘Aromader’ başkanı olarak görev yapmaktadır.\nMerkezi Amerika’da bulunan Airmid Institute ‘Gelecek Nesiller için Tıbbi ve Aromatik Bitkilerin Korunması ve Geleneksel Tıpta Kullanımını’ destekleyen sivil toplum örgütünün Türkiye temsilcisidir.
URL:https://eczacilarburada.com/program/aromaterapiye-giris/
CATEGORIES:E-Buluşmalar
ATTACH;FMTTYPE=image/jpeg:https://eczacilarburada.com/wp-content/uploads/2025/04/233730_etkinlikresmi.jpg
END:VEVENT
END:VCALENDAR