BEGIN:VCALENDAR
VERSION:2.0
PRODID:-//Eczacılar Burada - ECPv6.11.2.1//NONSGML v1.0//EN
CALSCALE:GREGORIAN
METHOD:PUBLISH
X-WR-CALNAME:Eczacılar Burada
X-ORIGINAL-URL:https://eczacilarburada.com
X-WR-CALDESC:Eczacılar Burada için etkinlikler
REFRESH-INTERVAL;VALUE=DURATION:PT1H
X-Robots-Tag:noindex
X-PUBLISHED-TTL:PT1H
BEGIN:VTIMEZONE
TZID:Europe/Istanbul
BEGIN:STANDARD
TZOFFSETFROM:+0300
TZOFFSETTO:+0300
TZNAME:+03
DTSTART:20260101T000000
END:STANDARD
END:VTIMEZONE
BEGIN:VEVENT
DTSTART;TZID=Europe/Istanbul:20260411T100000
DTEND;TZID=Europe/Istanbul:20260411T110000
DTSTAMP:20260424T165032
CREATED:20260301T161315Z
LAST-MODIFIED:20260322T155225Z
UID:260647-1775901600-1775905200@eczacilarburada.com
SUMMARY:CARE GIVER (Bakım Veren Sağlık Profesyoneli)
DESCRIPTION:Film: Wit (2001) \nAna Temalar: Empati\, palyatif bakım\, hastalık deneyimi\, insan onuru \nTartışma Başlıkları: \n\nEczacının hasta yolculuğundaki kritik rolü\nKlinik bilgi – şefkat dengesi\nDuygusal yük yönetimi\n\n 
URL:https://eczacilarburada.com/program/care-giver-bakim-veren-saglik-profesyoneli/
CATEGORIES:Seminerler
ATTACH;FMTTYPE=image/jpeg:https://eczacilarburada.com/wp-content/uploads/2026/01/egitim-banner-Filmlerle10-Yildizli-Eczaci.jpg
END:VEVENT
END:VCALENDAR