BEGIN:VCALENDAR
VERSION:2.0
PRODID:-//Eczacılar Burada - ECPv6.11.2.1//NONSGML v1.0//EN
CALSCALE:GREGORIAN
METHOD:PUBLISH
X-WR-CALNAME:Eczacılar Burada
X-ORIGINAL-URL:https://eczacilarburada.com
X-WR-CALDESC:Eczacılar Burada için etkinlikler
REFRESH-INTERVAL;VALUE=DURATION:PT1H
X-Robots-Tag:noindex
X-PUBLISHED-TTL:PT1H
BEGIN:VTIMEZONE
TZID:Europe/Istanbul
BEGIN:STANDARD
TZOFFSETFROM:+0300
TZOFFSETTO:+0300
TZNAME:+03
DTSTART:20210101T000000
END:STANDARD
END:VTIMEZONE
BEGIN:VEVENT
DTSTART;TZID=Europe/Istanbul:20210321T203000
DTEND;TZID=Europe/Istanbul:20210321T223000
DTSTAMP:20260425T134928
CREATED:20250419T220635Z
LAST-MODIFIED:20250419T220635Z
UID:251402-1616358600-1616365800@eczacilarburada.com
SUMMARY:Cemal Ener ile Arıza Filmler
DESCRIPTION:Eczacılar Burada Platformu olarak bu Pazar Film Kulübü’müzde yine çok özel bir konuğa ev sahipliği yapmaya hazırlanıyoruz. Cemal Ener.  \n  \n1959’da Adana’da başlayan hayatı önce Avusturya Lisesi ile İstanbul’a uzanmış sonra da felsefe ve iletişim bilimleri eğitimini alacağı Viyana Üniversitesi’ne. Kafka\, Roth\, Handke\, Kraus\, Schlink\, Kehlmann\, Oflaum\, Dinev gibi yazarların çevirilerini yapan Ener 2010’da Tarabya Çeviri Teşvik Ödülü’nü almış. \n  \nHalen çevirmenlik yapmaya devam eden Cemal Ener\, hem fiziksel hem de algının sınırlarında yaptığı bu yolculukların getirdiği birikimle “Arıza Filmler’i” konuşmak için 21 Mart Pazar günü saat 17.30’da bizlerle olacak. \n  \nGelin “Arıza” kavramına Cemal Ener’in kaleminden bir bakalım: \n  \n“Sinema için “yedinci sanat” denir ya da sanatların en genci. Bu tür genel geçer sınıflandırmaların\,  film seyircisinin bakışına\, kavrayışına ve yorum gücüne herhangi bir katkı sağlamayacağını bir kenara bıraksak bile\, 20. yüzyılın başlarındaki emekleme döneminden bu yana\, sinemanın da artık oldukça uzun bir geçmişi olduğunu kabul etmeliyiz. Bu süre bir tür “ kanonik sinema dili” oluşturmak\, yani kurallarını hatta yasalarını oluşturmuş hakim bir sinema dili kurmak için yeterli bir süredir. \n  \nYasaların kemikleşerek “doğal” görünen bir hakimiyet sağladıkları her alanda olduğu gibi\, sinemada da böyle bir gelişme sakıncalıdır\, zira seyircide alışkanlıklar yaratarak onun eleştirel bakışını köreltir. Bu sarmaldan çıkışın yolu “arızadan” geçer. \n  \nBir aracın\, sözgelimi bir otomobilin işleyişinin doğal bir süreç değil\, zaman içinde giderek mükemmelleştirilmiş bir tasarımın sonucu olduğunu anlamak için\, önce o aracın arızalanması\, yani peşinen beklenen işlevini yerine getiremez olması gerekir. O zaman aracın “içine”\, yani motoruna veya başka aksamlarına bakmaya başlarız. \n  \nSinemanın geçmiş ve güncel pratiğindeki “#arıza” anlarına bakmak\, her zaman yoruma yeni perspektifler kazandıran çok verimli çalışmalara kapı aralayacaktır.” \n 
URL:https://eczacilarburada.com/program/cemal-ener-ile-ariza-filmler/
CATEGORIES:E-Buluşmalar
ATTACH;FMTTYPE=image/png:https://eczacilarburada.com/wp-content/uploads/2025/04/231592_etkinlikresmi.png
END:VEVENT
END:VCALENDAR