BEGIN:VCALENDAR
VERSION:2.0
PRODID:-//Eczacılar Burada - ECPv6.11.2.1//NONSGML v1.0//EN
CALSCALE:GREGORIAN
METHOD:PUBLISH
X-WR-CALNAME:Eczacılar Burada
X-ORIGINAL-URL:https://eczacilarburada.com
X-WR-CALDESC:Eczacılar Burada için etkinlikler
REFRESH-INTERVAL;VALUE=DURATION:PT1H
X-Robots-Tag:noindex
X-PUBLISHED-TTL:PT1H
BEGIN:VTIMEZONE
TZID:Europe/Istanbul
BEGIN:STANDARD
TZOFFSETFROM:+0300
TZOFFSETTO:+0300
TZNAME:+03
DTSTART:20230101T000000
END:STANDARD
END:VTIMEZONE
BEGIN:VEVENT
DTSTART;TZID=Europe/Istanbul:20230617T203000
DTEND;TZID=Europe/Istanbul:20230617T223000
DTSTAMP:20260425T064024
CREATED:20250419T220751Z
LAST-MODIFIED:20250419T220751Z
UID:251462-1687033800-1687041000@eczacilarburada.com
SUMMARY:Dr. Ecz. Yasemin Kübra Akyel ile Türkiye’den Amerika’ya Bilime Yolculuk
DESCRIPTION:Eczacılar Burada olarak alıştığımız düzenden farklı bir etkinlik günüyle karşınızdayız. 17 Haziran Cumartesi günü İstanbul Üniversitesi Eczacılık Fakültesi mezunu olan ve şu an Medipol Üniversitesi Doktor Öğretim Üyesi\, North Carolina Üniversitesi Aziz Sancar Laboratuvarı Doktora Sonrası Araştırmacısı olarak görev alan Dr. Ecz. Yasemin Kübra Akyel ile birlikte olacağız.\n\nEtkinlikte görüşmek üzere.\n\n\n\nDr. Ecz. Yasemin Kübra Akyel\n\n1992 doğumlu olan Ecz. Yasemin Kübra Akyel 2015 yılında İstanbul Üniversitesi Eczacılık Fakültesi’nden mezun olmuştur. Mezun olduktan sonra Anadolu Üniversitesi Açıköğretim Fakültesi’nde Sağlık Kurumları İşletmeciliği alanında ön lisans programını bitirmiştir. 2015-2021 yılları arasında İstanbul Üniversitesi Eczacılık Fakültesi’nde Farmakoloji alanında doktora derecesini tamamlamıştır. 2022 yılından itibaren İstanbul Medipol Üniversitesi Tıp Fakültesi Tıbbi Farmakoloji Anabilim Dalı’nda doktor öğretim üyesi olarak görev almaktadır. Aynı şekilde 2022 yılından bu yana North Carolina Üniversitesi Tıp Fakültesi Biyokimya ve Biyofizik Bölümü’nde doktora sonrası araştırmacı olarak çalışmaktadır. TÜBİTAK 2219-Aziz Sancar Yurtdışı Doktora Sonrası Araştırma Bursunu kazanmıştır. Şu anda North Carolina’da Aziz Sancar Laboratuvarı’nda çalışmaktadır. Antikanser ilaçların kronofarmakokinetiği\, DNA onarımı ve Sirkadiyen ritimler üzerine çalışmaktadır. 2015’te Yarışmalı Eczacılık Mezuniyet Projeleri Sempozyumu’nda “Anemi Tedavisinde Akılcı İlaç Kullanımı” projesiyle Poster Sunumları İkincilik Ödülü almıştır. 2015 yılından itibaren Türk Farmakoloji Derneği üyesidir.
URL:https://eczacilarburada.com/program/dr-ecz-yasemin-kubra-akyel-ile-turkiyeden-amerikaya-bilime-yolculuk/
CATEGORIES:E-Buluşmalar
ATTACH;FMTTYPE=image/png:https://eczacilarburada.com/wp-content/uploads/2025/04/232651_etkinlikresmi.png
END:VEVENT
END:VCALENDAR