BEGIN:VCALENDAR
VERSION:2.0
PRODID:-//Eczacılar Burada - ECPv6.11.2.1//NONSGML v1.0//EN
CALSCALE:GREGORIAN
METHOD:PUBLISH
X-WR-CALNAME:Eczacılar Burada
X-ORIGINAL-URL:https://eczacilarburada.com
X-WR-CALDESC:Eczacılar Burada için etkinlikler
REFRESH-INTERVAL;VALUE=DURATION:PT1H
X-Robots-Tag:noindex
X-PUBLISHED-TTL:PT1H
BEGIN:VTIMEZONE
TZID:Europe/Istanbul
BEGIN:STANDARD
TZOFFSETFROM:+0300
TZOFFSETTO:+0300
TZNAME:+03
DTSTART:20210101T000000
END:STANDARD
END:VTIMEZONE
BEGIN:VEVENT
DTSTART;TZID=Europe/Istanbul:20210221T203000
DTEND;TZID=Europe/Istanbul:20210221T223000
DTSTAMP:20260425T154557
CREATED:20250419T220622Z
LAST-MODIFIED:20250419T220622Z
UID:251386-1613939400-1613946600@eczacilarburada.com
SUMMARY:Dünden Bugüne Eczacılık
DESCRIPTION:Tarihinden güncel gelişmelere\, eczacılık kültürü ve yaşamını alanında uzman isimlerle konuşup tartışacağımız sohbet serimizin Şubat ayı konuğu eczacılık alanında verdiği sayısız çalışma ve yayının yanı sıra Eczacılık Tarihi Müzesi’ne verdiği katkılarıyla tanıdığımız Prof. Dr. Afife Mat olacak. \n  \nMat\, 21 Şubat Pazar akşamı çevrimiçi gerçekleşecek sohbette\, ilk medeniyetlerde eczacılığın başlangıcından ilk eczanelere\, Türkiye’de eczacılık öğretiminin ilk adımlarından Eczacılık Tarihi Müzesi’ne\, katılımcıları keyifli bir tarih yolculuğuna çıkaracak. Kayıt olmak için link bio’da! \n  \n#afifemat #eczacılık #eczacılarburada #onlineetkinlik #eczacılıktarihi1
URL:https://eczacilarburada.com/program/dunden-bugune-eczacilik/
CATEGORIES:E-Buluşmalar
ATTACH;FMTTYPE=image/png:https://eczacilarburada.com/wp-content/uploads/2025/04/231564_etkinlikresmi.png
END:VEVENT
END:VCALENDAR