BEGIN:VCALENDAR
VERSION:2.0
PRODID:-//Eczacılar Burada - ECPv6.11.2.1//NONSGML v1.0//EN
CALSCALE:GREGORIAN
METHOD:PUBLISH
X-WR-CALNAME:Eczacılar Burada
X-ORIGINAL-URL:https://eczacilarburada.com
X-WR-CALDESC:Eczacılar Burada için etkinlikler
REFRESH-INTERVAL;VALUE=DURATION:PT1H
X-Robots-Tag:noindex
X-PUBLISHED-TTL:PT1H
BEGIN:VTIMEZONE
TZID:Europe/Istanbul
BEGIN:STANDARD
TZOFFSETFROM:+0300
TZOFFSETTO:+0300
TZNAME:+03
DTSTART:20240101T000000
END:STANDARD
END:VTIMEZONE
BEGIN:VEVENT
DTSTART;TZID=Europe/Istanbul:20240327T203000
DTEND;TZID=Europe/Istanbul:20240327T223000
DTSTAMP:20260425T031010
CREATED:20250419T220825Z
LAST-MODIFIED:20250419T220825Z
UID:251494-1711571400-1711578600@eczacilarburada.com
SUMMARY:Ecz. Gaye Karaata ile Tiyatro ve Storytelling
DESCRIPTION:Moderatör: Ahmet Turhaner (Eczacılar Burada Platformu Kurucusu) \n27 Mart Dünya Tiyatro Günü’ne özel hem eczacı hem de tiyatroya ilgili Ecz. Gaye Karaata ile birlikteyiz. Tiyatroyu\, hikaye anlatıcılığını konuşacağımız keyifli bir etkinlik olacak. \n27 Mart Çarşamba akşamı 21.00’da görüşmek üzere… \nEcz. Gaye Karaata Kimdir?\n6 yaşından beri aktif okur\, 9’udan itibaren yazar\, 18 yıllık eczacı ve 13 yıllık annedir.\n1983 Çanakkale doğumlu olan Ecz. Gaye KARAATA\, 2005 Marmara Üniversitesi Eczacılık Fakültesi ve 2007 Marmara Üniversitesi Management & Organisation Yüksek Lisansı mezunudur.\nİlaç sektöründe ürün müdürlüğü\, depo mesul müdürlüğü ve serbest eczane eczacılığı deneyimleriyle 18 yıldır aktif olarak çalışmaktadır. Şu an Pazarlama ve Kurumsal İletişim Direktörü olarak Galenik Ecza’da görevine devam etmektedir.\nEczacılık kariyeri haricinde şiir\, edebiyat\, tiyatro kısaca sanat tutkunudur. Aldığı oyunculuk eğitimini takiben 2017-2018 sezonunda kendi yazıp yönetip oynadığı bir tiyatro oyununu sahneye koymuştur. Çeşitli edebiyat dergilerinde yazı ve şiirleri yer almaktadır. Eczacının Sesi web sitesinde Majistral ve Kültür Sanat konularındaki yazıları devam etmektedir.\nMajistral’i eczacılıkla sanatı birleştirdiği\, “Eczacının Sanatı” olduğu için çok sevmektedir.
URL:https://eczacilarburada.com/program/ecz-gaye-karaata-ile-tiyatro-ve-storytelling/
CATEGORIES:E-Buluşmalar
ATTACH;FMTTYPE=image/jpeg:https://eczacilarburada.com/wp-content/uploads/2025/04/IMG_0530.jpg
END:VEVENT
END:VCALENDAR