BEGIN:VCALENDAR
VERSION:2.0
PRODID:-//Eczacılar Burada - ECPv6.11.2.1//NONSGML v1.0//EN
CALSCALE:GREGORIAN
METHOD:PUBLISH
X-WR-CALNAME:Eczacılar Burada
X-ORIGINAL-URL:https://eczacilarburada.com
X-WR-CALDESC:Eczacılar Burada için etkinlikler
REFRESH-INTERVAL;VALUE=DURATION:PT1H
X-Robots-Tag:noindex
X-PUBLISHED-TTL:PT1H
BEGIN:VTIMEZONE
TZID:Europe/Istanbul
BEGIN:STANDARD
TZOFFSETFROM:+0300
TZOFFSETTO:+0300
TZNAME:+03
DTSTART:20230101T000000
END:STANDARD
END:VTIMEZONE
BEGIN:VEVENT
DTSTART;TZID=Europe/Istanbul:20231018T203000
DTEND;TZID=Europe/Istanbul:20231018T223000
DTSTAMP:20260425T063650
CREATED:20250419T220803Z
LAST-MODIFIED:20250419T220803Z
UID:251468-1697661000-1697668200@eczacilarburada.com
SUMMARY:Ecz. Nur Karataş ile Eczacı Koçluğu
DESCRIPTION:Eczacılık; serbest eczane\, ilaç endüstrisi\, hastane eczacılığı gibi çok çeşitli çalışma alanları olan bir meslek dalıdır. Bu sebeple uzun bir süreç olan eczacılık eğitimi boyunca öğrenciler gelecek hedeflerine karar vermekte zorlanmaktadır. Ecz. Nur Karataş da aldığı koçluk eğitimi ile kararsız kalan\, hayallerinden emin olamayan öğrencilere\, eczacılara koçluk yapmaktadır. \nEczacı koçluğunu bir de Ecz. Nur Karataş’tan dinlemek için etkinliğe katılmayı unutmayın. \n18 Ekim Çarşamba 20.30’da görüşmek üzere… \nEcz. Nur Karataş Kimdir?\n1989 yılında Adana’da dünyaya gelen Nur Karataş Adana Fen Lisesi’nden mezun olmuştur. 2011 yılında Hacettepe Üniversitesi Eczacılık Fakültesi’nden mezun olmuştur. 2012-2013 yıllarında Drogsan İlaç’ta Ruhsatlandırma uzmanı olarak çalıştıktan sonra Ankara’da yardımcı eczacılığını tamamlamıştır. 2015 yılında İzmir’in Konak ilçesinde Cihangir Eczanesi ismiyle kendi eczanesini açmıştır. Şu an eczanenin sahibi olarak mesul müdürlüğünü yapmaktadır. 2022-2023 yıllarında Sola Unitas’tan aldığı Profesyonel Koçluk Eğitimi almıştır. Aldığı eğitimden sonra eczacılara\, eczacılık fakültesi öğrencilerine hayallerine ulaşmaları\, hayal kurmaları ile ilgili eczacı koçluğu yapmaktadır.
URL:https://eczacilarburada.com/program/ecz-nur-karatas-ile-eczaci-koclugu/
CATEGORIES:E-Buluşmalar
ATTACH;FMTTYPE=image/png:https://eczacilarburada.com/wp-content/uploads/2025/04/233448_etkinlikresmi.png
END:VEVENT
END:VCALENDAR