BEGIN:VCALENDAR
VERSION:2.0
PRODID:-//Eczacılar Burada - ECPv6.11.2.1//NONSGML v1.0//EN
CALSCALE:GREGORIAN
METHOD:PUBLISH
X-WR-CALNAME:Eczacılar Burada
X-ORIGINAL-URL:https://eczacilarburada.com
X-WR-CALDESC:Eczacılar Burada için etkinlikler
REFRESH-INTERVAL;VALUE=DURATION:PT1H
X-Robots-Tag:noindex
X-PUBLISHED-TTL:PT1H
BEGIN:VTIMEZONE
TZID:Europe/Istanbul
BEGIN:STANDARD
TZOFFSETFROM:+0300
TZOFFSETTO:+0300
TZNAME:+03
DTSTART:20250101T000000
END:STANDARD
END:VTIMEZONE
BEGIN:VEVENT
DTSTART;TZID=Europe/Istanbul:20251119T203000
DTEND;TZID=Europe/Istanbul:20251119T223000
DTSTAMP:20260424T215316
CREATED:20251015T131251Z
LAST-MODIFIED:20251015T131251Z
UID:255865-1763584200-1763591400@eczacilarburada.com
SUMMARY:Eczanelerde Longevity Yaklaşımı: Hastalık Değil\, Sağlığı Yönetmek
DESCRIPTION:Konuşmacı: Dr. Mustafa Köroğlu – Life Regenera – Kurucu / Pudena Health Consultancy Co – Yönetim Kurulu Başkanı  \nSağlık artık sadece hastalıkların tedavisiyle değil\, önleyici ve bütüncül yaklaşımlarla yönetiliyor. Dr. Mustafa Köroğlu\, iç hastalıkları uzmanı ve longevity girişimcisi olarak\, eczacıların bu dönüşümde üstlenebileceği kritik rolü aktaracak. Webinar\, sağlık süresi (healthspan) ve yaşam süresi (lifespan) kavramlarından başlayarak\, beslenme\, uyku\, hareket\, stres yönetimi ve biyobelirteçler gibi temel taşları kapsayacak. \nDr. Köroğlu\, eczacıların klasik “ilaç dağıtıcı” kimliğinden çıkarak “önleyici sağlık danışmanı” olarak nasıl konumlanabileceğini\, dijital araç ve biyobelirteç destekli kişiselleştirilmiş önerilerle anlatacak ve geleceğin “Longevity Hub” konseptli eczanelerine dair vizyonunu paylaşacak. \nNeler Öğreneceksiniz? \n\nLongevity kavramı\, healthspan vs lifespan farkı\nÖnleyici sağlık danışmanlığında eczacının rolü\nBiyobelirteçler\, dijital araçlar ve kişiselleştirilmiş sağlık önerileri\nGeleceğin eczaneleri: Longevity Hub konsepti ve global örnekler\nTürkiye’de yaşlanan nüfus\, sağlık turizmi ve dijital sağlık fırsatları\n\nKimler Katılabilir? \n\nEczane eczacıları ve klinik eczacılar\nSağlık danışmanlığı ve wellness profesyonelleri\nEczacılık öğrencileri ve dijital sağlık alanına ilgi duyanlar\n\nKatılımcılar\, webinar sonunda Dr. Köroğlu’na sorularını yöneltebilecekleri etkileşimli Q&A oturumuna katılabilecek.
URL:https://eczacilarburada.com/program/eczanelerde-longevity-yaklasimi-hastalik-degil-sagligi-yonetmek/
CATEGORIES:E-Buluşmalar
ATTACH;FMTTYPE=image/jpeg:https://eczacilarburada.com/wp-content/uploads/2025/10/program-banner-19-Kasim-2025.jpg
END:VEVENT
END:VCALENDAR