BEGIN:VCALENDAR
VERSION:2.0
PRODID:-//Eczacılar Burada - ECPv6.11.2.1//NONSGML v1.0//EN
CALSCALE:GREGORIAN
METHOD:PUBLISH
X-WR-CALNAME:Eczacılar Burada
X-ORIGINAL-URL:https://eczacilarburada.com
X-WR-CALDESC:Eczacılar Burada için etkinlikler
REFRESH-INTERVAL;VALUE=DURATION:PT1H
X-Robots-Tag:noindex
X-PUBLISHED-TTL:PT1H
BEGIN:VTIMEZONE
TZID:Europe/Istanbul
BEGIN:STANDARD
TZOFFSETFROM:+0300
TZOFFSETTO:+0300
TZNAME:+03
DTSTART:20240101T000000
END:STANDARD
END:VTIMEZONE
BEGIN:VEVENT
DTSTART;TZID=Europe/Istanbul:20240529T203000
DTEND;TZID=Europe/Istanbul:20240529T223000
DTSTAMP:20260425T031050
CREATED:20250419T220834Z
LAST-MODIFIED:20250419T220834Z
UID:251502-1717014600-1717021800@eczacilarburada.com
SUMMARY:Etkili CV Hazırlama ve Mülakat Teknikleri
DESCRIPTION:CV hazırlamak hem staj hem iş bulma sürecinde biz öğrencileri çok uğraştıran bir aşama. Mayıs ayını sonlandırırken etkili CV hazırlamaya yönelik bir etkinlikle karşınızdayız. Hakan Onel’i konuk edeceğimiz etkinliğimizde CV hazırlarken dikkat etmemiz gerekenleri konuşacağız. \n29 Mayıs Çarşamba akşamı 20.30’da görüşmek üzere… \nHakan Onel kimdir?\n\n1966 yılında Malatya’da doğan ve Yıldız Teknik Üniversitesi Endüstri Mühendisliği bölümünden mezun olan\, Hakan ONEL\, iş hayatına Koç Grubu şirketlerinden Döktaş A.Ş.’de Endüstri Mühendisi olarak başladı. Devamında yine grup içinde Türk Demirdöküm A.Ş. \, Türk Siemens\, Simko\, Birmot şirketlerinde Planlama \, İnsan Kaynakları ve Endüstri ilişkileri süreçlerinin yönetilmesi ve buna bağlı projelerde çalıştı. Sonrasında Koç Holding’e İK Koordinatörü olarak atanan Onel\, toplam 21 yıllık Koç Grubu tecrübesi sonrası ilaç sektöründe Türkiye’nin en büyük ilaç şirketi olan Abdi İbrahim İlaç A.Ş.’ de İnsan Kaynakları Genel Müdür Yardımcısı ve İcra Kurulu Üyesi olarak görev aldı. Burada İnsan kaynakları süreçlerinin yönetimi\, şirketin yurtiçinde\, yurtdışındaki büyüme vizyonuna ve ana stratejilerine bağlı olarak şirket uzun vadeli politika \, planlarının belirlenmesi ve hayata geçirilmesi görevlerini üstlendi. Farklı sektörlerdeki şirketler\, kültürler ve liderlerle dolu 35 yıllık kurumsal iş deneyimini\, kurduğu Onel Danışmanlık şirketi ile profesyonel hayata taşıdı. Bağımsız yönetim kurulu üyesi olarak farklı sektördeki şirketlere İnsan kaynaklarından\, kurumsal yönetim sistemlerine\, stratejik planlamadan\, süreç yönetimine kadar pek çok alanda danışmanlık hizmeti veriyor. Bununla beraber şirket birleşme\, satın alma\, satış aşamaları ile bir şirketi satışa hazırlama süreçlerini yönetiyor. Bu süreçte hissedarlar arasındaki ilişki dahil\, kritik konularda özellikle aile şirketlerine destek veriyor. Bütün bunların yanı sıra kızı\, Eczacı Gülşah Onel’ in doğal ve organik kozmetik sektöründe bir genç girişimci olarak kurduğu Alemara Kozmetik ve Body Beauty şirketlerine melek yatırımcı olarak destek veren Onel\, başka bir girişim de bulunarak alanında lider olan Umay İlaç Tic. Sanayi AŞ.’ ye ortak olarak katılmıştır. Türkiye’nin en büyük STK’larından 50 Yıllık geçmişe sahip Türkiye İnsan Yönetim Derneği PERYÖN’ de 25. ve 26. dönem yönetim kurulunda görev almıştır. Peryön’ e gönüllü olarak hizmet vermeye devam etmekle birlikte 2023-2024 yılları için 27. Dönem Denetim Kurulu Başkanlığını üstlenmiştir.
URL:https://eczacilarburada.com/program/etkili-cv-hazirlama-ve-mulakat-teknikleri/
CATEGORIES:E-Buluşmalar
ATTACH;FMTTYPE=image/png:https://eczacilarburada.com/wp-content/uploads/2025/04/IMG_0861.png
END:VEVENT
END:VCALENDAR