BEGIN:VCALENDAR
VERSION:2.0
PRODID:-//Eczacılar Burada - ECPv6.11.2.1//NONSGML v1.0//EN
CALSCALE:GREGORIAN
METHOD:PUBLISH
X-WR-CALNAME:Eczacılar Burada
X-ORIGINAL-URL:https://eczacilarburada.com
X-WR-CALDESC:Eczacılar Burada için etkinlikler
REFRESH-INTERVAL;VALUE=DURATION:PT1H
X-Robots-Tag:noindex
X-PUBLISHED-TTL:PT1H
BEGIN:VTIMEZONE
TZID:Europe/Istanbul
BEGIN:STANDARD
TZOFFSETFROM:+0300
TZOFFSETTO:+0300
TZNAME:+03
DTSTART:20260101T000000
END:STANDARD
END:VTIMEZONE
BEGIN:VEVENT
DTSTART;TZID=Europe/Istanbul:20260326T203000
DTEND;TZID=Europe/Istanbul:20260326T220000
DTSTAMP:20260424T132724
CREATED:20260128T134858Z
LAST-MODIFIED:20260322T155225Z
UID:259630-1774557000-1774562400@eczacilarburada.com
SUMMARY:Filmlerle 10 Yıldızlı Eczacı
DESCRIPTION:Eczacılık mesleği yalnızca teknik bilgiyle değil; iletişim\, karar verme\, liderlik\, empati ve değişim yaratma becerileriyle icra edilir. \nFilmlerle “10 Yıldızlı Eczacı”\,\nDünya Sağlık Örgütü’nün (WHO) tanımladığı 10-Star Pharmacist modelini\, sinemanın güçlü anlatı diliyle bir araya getiren disiplinlerarası bir öğrenme programıdır. \nBu seminer dizisi; eczacının mesleki rolünü yeniden düşünmesini\, genişletmesini ve derinleştirmesini hedefler. \nBu Eğitim Neden Gerekli?\nGünümüz eczacısı: \n\nyalnızca ilaç veren değil\,\ndanışmanlık yapan\,\nekip yöneten\,\nkriz çözen\,\ntoplumsal sağlıkta söz alan\nbir profesyoneldir.\n\nAncak bu roller çoğu zaman teknik eğitimlerin dışında kalır. \nBu program\, eczacının: davranışsal\, insani ve liderlik becerilerini görünür ve geliştirilebilir hale getirir. \nEğitimin Amacı\nBu atölyenin amacı: \n\nWHO 10-Star Pharmacist modelini eczacıya içselleştirmek\,\nMesleki yetkinlikleri sinema anlatısı üzerinden derinlemesine tartışmak\,\nEczacının kendine ve mesleğine dair farkındalığını artırmaktır.\n\nKimler Katılmalı?\n\nMesleğine bütüncül bakmak isteyen eczacılar\nEczane yöneten veya yönetmeye hazırlananlar\nİletişim\, liderlik ve kişisel gelişimine yatırım yapmak isteyenler\nEczacılık fakültesi öğrencileri\nEczane ekip üyeleri\n\nNeler Öğreneceksiniz?\n\nWHO’nun tanımladığı 10 temel eczacı yetkinliği\nHasta ile empatik ilişki kurma\nKriz anlarında karar verme\nEtkili iletişim ve liderlik\nVeriyle düşünme ve yönetme\nSürekli öğrenme ve kendini geliştirme\nToplumsal sağlıkta aktif rol alma\n\nProgram Akışı\nGenel Bilgiler \n\nSüre: 10 Oturum (her biri 90 dakika)\nFormat: Online\n\nYöntem:\nFilm analizi\, sahne okumaları\, vaka tartışmaları\, mesleki yansıtma
URL:https://eczacilarburada.com/program/filmlerle-10-yildizli-eczaci/
CATEGORIES:Seminerler
ATTACH;FMTTYPE=image/jpeg:https://eczacilarburada.com/wp-content/uploads/2026/01/egitim-banner-Filmlerle10-Yildizli-Eczaci.jpg
END:VEVENT
END:VCALENDAR