BEGIN:VCALENDAR
VERSION:2.0
PRODID:-//Eczacılar Burada - ECPv6.11.2.1//NONSGML v1.0//EN
CALSCALE:GREGORIAN
METHOD:PUBLISH
X-WR-CALNAME:Eczacılar Burada
X-ORIGINAL-URL:https://eczacilarburada.com
X-WR-CALDESC:Eczacılar Burada için etkinlikler
REFRESH-INTERVAL;VALUE=DURATION:PT1H
X-Robots-Tag:noindex
X-PUBLISHED-TTL:PT1H
BEGIN:VTIMEZONE
TZID:Europe/Istanbul
BEGIN:STANDARD
TZOFFSETFROM:+0300
TZOFFSETTO:+0300
TZNAME:+03
DTSTART:20230101T000000
END:STANDARD
END:VTIMEZONE
BEGIN:VEVENT
DTSTART;TZID=Europe/Istanbul:20230510T203000
DTEND;TZID=Europe/Istanbul:20230510T223000
DTSTAMP:20260425T063156
CREATED:20250419T220751Z
LAST-MODIFIED:20250419T220751Z
UID:251456-1683750600-1683757800@eczacilarburada.com
SUMMARY:Güldem Berkman ile Tecrübelerimden Öğrendiklerim
DESCRIPTION:Öğrenciler Soruyor Mezunlar Cevaplıyor\nMayıs ayına Amgen ve Gensenta Genel Müdürü olan Güldem Berkman’ı konuk ederek başlıyoruz. Çeşitli ilaç firmalarında çalışmış olan Güldem Hanım ile e-buluşmamızda ilaç sektörü ve kariyeri hakkında merak ettiklerimiz cevaplanacak. Sohbet havasında geçecek olan etkinliğimize hepinizi bekliyoruz.\n10 Mayıs Çarşamba akşamı 20.30’da görüşmek üzere… \nGÜLDEM BERKMAN\nGüldem Berkman 1969 yılında İstanbul’da 3 kız kardeşin en küçüğü olarak dünyaya geldi. Boğaziçi Üniversitesi Kimya Mühendisliği bölümünden Temmuz 1991’de mezun olmuştur. Çalışma hayatı sırasında da Harvard Üniversitesi’nden 4\, Insead’dan 1 sertifika programına katıldı. 1991’den bu yana sırasıyla Radiometer\, Eczacıbaşı P&G\, DanoneSA\, Kendi şirketi ve Novartis’te çalıştı. 1 Temmuz 2017’den bu yana Amgen ve Gensenta Genel Müdürü olarak çalışıyor. 2008 yılında Capital Dergisi tarafından Türkiye’nin 40 yaş altı en başarılı lideri seçildi. Yine 2008 yılından bu yana her yıl Türkiye’nin en güçlü 50 Kadın’ı arasında yer almaktadır. Profesyonel iş yaşamına devam ederken\, Araştırmacı İlaç Firmaları Derneği (AIFD) Başkanlığı\, YASED Uluslararası Yatırımcılar Derneği (YASED) Başkan Yardımcılığı\, İsviçre Ticaret Odası Başkan Yardımcılığı\, birçok sivil toplum kuruluşu ve şirkette Danışma Kurulu üyeliği yaptı ve yapıyor. En önemli değerlerini; dürüstlük\, azim\, aile ve sevdikleri\, sürekli gelişim ve anlam bulmak olarak tanımlıyor. Evli ve 1 çocuk annesi olan Güldem Berkman’ın en sevdiği söz; Hiçbir şey uzaktan göründüğü kadar güzel ve keyifli ya da zor ve kötü değildir.
URL:https://eczacilarburada.com/program/guldem-berkman-ile-tecrubelerimden-ogrendiklerim/
CATEGORIES:E-Buluşmalar
ATTACH;FMTTYPE=image/png:https://eczacilarburada.com/wp-content/uploads/2025/04/232426_etkinlikresmi.png
END:VEVENT
END:VCALENDAR