BEGIN:VCALENDAR
VERSION:2.0
PRODID:-//Eczacılar Burada - ECPv6.11.2.1//NONSGML v1.0//EN
CALSCALE:GREGORIAN
METHOD:PUBLISH
X-WR-CALNAME:Eczacılar Burada
X-ORIGINAL-URL:https://eczacilarburada.com
X-WR-CALDESC:Eczacılar Burada için etkinlikler
REFRESH-INTERVAL;VALUE=DURATION:PT1H
X-Robots-Tag:noindex
X-PUBLISHED-TTL:PT1H
BEGIN:VTIMEZONE
TZID:Europe/Istanbul
BEGIN:STANDARD
TZOFFSETFROM:+0300
TZOFFSETTO:+0300
TZNAME:+03
DTSTART:20210101T000000
END:STANDARD
END:VTIMEZONE
BEGIN:VEVENT
DTSTART;TZID=Europe/Istanbul:20210317T203000
DTEND;TZID=Europe/Istanbul:20210317T223000
DTSTAMP:20260425T134938
CREATED:20250419T220622Z
LAST-MODIFIED:20250419T220622Z
UID:251390-1616013000-1616020200@eczacilarburada.com
SUMMARY:Günümüzde Eczacılık Bilim mi Ticaret mi?
DESCRIPTION:Eczacılar Burada Platformu’nda Mart ayının konuğu Ecz. Aynur Uluç ile “Günümüzde Eczacılık: Bilim mi Ticaret mi?” sohbeti için geri sayım başladı. Sanatçı kişiliği ile zenginleşen perspektifi ile yoğrulmuş deneyimlerini dinleyeceğiz. ZOOM bağlantı bilgilerini aşağıda bulabilirsiniz. \n  \n“Eğri oturup doğru konuşacağız o gün. Günümüzde eczacılık filan dendi ama ben bilmem eczacılıkta neler oluyor; ben kendimi anlatabilirim sadece. Hasta ile nasıl temaslanıyorum\, nasıl yeniden ve yeniden onarıyorum kendimi bihakkın işimi yapmak için… Nasıl çabalıyorum onu anlatabilirim ancak size…” diyor Uluç bu akşam gerçekleştireceğimiz sohbet için.  \n  \nDeneyim çok\, masaya yatıracak konu çok\, soru ve çözüm çok. Hepsi birlikte daha çok olmak adına. Akşam bu lezzetli saati birlikte paylaşmak dileğiyle. \nhttps://zoom.us/j/91657933904?pwd=SkRkeURXcGp4OEtCUVpkcWgwcW1Edz09  \nMeeting ID: 916 5793 3904  \nPasscode: 098717  \n  \nECZACILAR BURADA PLATFORMU \nRutin Hayatın Dışına Çık! \n  \n#eczacılık #onlinesohbet #eczane #majistral #ilaç #eczacılarburada #rutinhayatındışınaçık @eczanebulvar1954  @aynuruluc \n  \n…………………………………………………………………………………………………………………………………………………………………………. \nOTC’ye (over the counter) odaklanmak BTC’ yi (beyond the counter) unutmaya kapı mı aralıyor? OTC ürünlerin satışına odaklanan eczacı\, uzmanı olduğu konuların en önemlilerinden majistral ilaç çalışmalarından uzaklaşıyor mu? \n  \nYa da hastanın kullandığı ilaçlardan en yüksek verimi almasını sağlayacak danışılan merci olma pozisyonundan uzaklaşıyor mu? Tüm bu sorulara yarın akşam saat 21:00’de\, majistral ilaç çalışmalarıyla bir çok eczacı meslektaşına hizmet veren Bulvar Eczanesi sahibi Ecz. Aynur Uluç’un tiyatro\, resim ve şiirle reçetelenmiş perspektifi ile yanıt bulmaya çalışacağız. \n  \nZOOM platformunda ücretsiz olarak sunmaya devam ettiğimiz etkinliklerimize kaydınızı web sitemizden gerçekleştirebilirsiniz.  \n  \nAkşamımızı keyifli ve verimli kılmak adına ayırdığımız saatimizi bizlerle paylaşmanız dileğiyle. \n  \n#eczacılık #onlinesohbet #eczane #majistral #ilaç #eczacılarburada #rutinhayatındışınaçık @eczanebulvar1954  @aynuruluc \n  \n 
URL:https://eczacilarburada.com/program/gunumuzde-eczacilik-bilim-mi-ticaret-mi/
CATEGORIES:E-Buluşmalar
ATTACH;FMTTYPE=image/png:https://eczacilarburada.com/wp-content/uploads/2025/04/231570_etkinlikresmi.png
END:VEVENT
END:VCALENDAR