BEGIN:VCALENDAR
VERSION:2.0
PRODID:-//Eczacılar Burada - ECPv6.11.2.1//NONSGML v1.0//EN
CALSCALE:GREGORIAN
METHOD:PUBLISH
X-WR-CALNAME:Eczacılar Burada
X-ORIGINAL-URL:https://eczacilarburada.com
X-WR-CALDESC:Eczacılar Burada için etkinlikler
REFRESH-INTERVAL;VALUE=DURATION:PT1H
X-Robots-Tag:noindex
X-PUBLISHED-TTL:PT1H
BEGIN:VTIMEZONE
TZID:Europe/Istanbul
BEGIN:STANDARD
TZOFFSETFROM:+0300
TZOFFSETTO:+0300
TZNAME:+03
DTSTART:20210101T000000
END:STANDARD
END:VTIMEZONE
BEGIN:VEVENT
DTSTART;TZID=Europe/Istanbul:20210210T203000
DTEND;TZID=Europe/Istanbul:20210210T223000
DTSTAMP:20260425T154553
CREATED:20250419T220622Z
LAST-MODIFIED:20260419T211020Z
UID:251394-1612989000-1612996200@eczacilarburada.com
SUMMARY:Hayatı Yaşarken Okuyanlar
DESCRIPTION:Okuma atölyeleriyle tanıdığımız Bahar Gören\, Eczacılar Burada Kitap Kulübü’ne konuk oluyor. Okuma deneyimlerimizi ve günümüz okurunun eğilimlerini değerlendirirken\, Tatar Çölü’nden Yabancı’ya\, Katharina Blum’un Çiğnenen Onuru’ndan Kumların Kadını’na klasik ve modern edebiyatın unutulmaz roman karakterlerinin peşinde keyifli bir sohbete çağırıyor. Ücretsiz gerçekleşecek bu sohbeti kaçırmayın! Link bio’da! \n  \n#kültürsanat #eczacılarburada #onlineetkinlik #kitapkulübü #bahargören
URL:https://eczacilarburada.com/program/hayati-yasarken-okuyanlar/
CATEGORIES:E-Buluşmalar
ATTACH;FMTTYPE=image/png:https://eczacilarburada.com/wp-content/uploads/2025/04/231576_etkinlikresmi.png
END:VEVENT
END:VCALENDAR