BEGIN:VCALENDAR
VERSION:2.0
PRODID:-//Eczacılar Burada - ECPv6.11.2.1//NONSGML v1.0//EN
CALSCALE:GREGORIAN
METHOD:PUBLISH
X-WR-CALNAME:Eczacılar Burada
X-ORIGINAL-URL:https://eczacilarburada.com
X-WR-CALDESC:Eczacılar Burada için etkinlikler
REFRESH-INTERVAL;VALUE=DURATION:PT1H
X-Robots-Tag:noindex
X-PUBLISHED-TTL:PT1H
BEGIN:VTIMEZONE
TZID:Europe/Istanbul
BEGIN:STANDARD
TZOFFSETFROM:+0300
TZOFFSETTO:+0300
TZNAME:+03
DTSTART:20240101T000000
END:STANDARD
END:VTIMEZONE
BEGIN:VEVENT
DTSTART;TZID=Europe/Istanbul:20240612T203000
DTEND;TZID=Europe/Istanbul:20240612T223000
DTSTAMP:20260425T032652
CREATED:20250419T220845Z
LAST-MODIFIED:20250419T220845Z
UID:251506-1718224200-1718231400@eczacilarburada.com
SUMMARY:İlaç Etkileşimlerinin Anlaşılması; Etkileşim Kaynaklı Yan Etkilerin Yönetilmesi
DESCRIPTION:İlaç etkileşimlerinin olası yan etkileri\, belirlenmesi ve yönetiminin konuşulacağı webinarımıza 12 Haziran Çarşamba 20.30’da sizleri de bekliyoruz. \nModeratör: Ecz. Ahmet Turhaner- Eczacılar Burada Platformu \nDr. Öğr. Üyesi Emre UYAR kimdir?\n2008 yılında Anadolu Üniversitesi Eczacılık Fakültesi’nden mezun olmuştur. Dicle Üniversitesi’den 2012 yılında Farmakoloji Anabilim Dalı’nda yüksek lisans eğitimini\, 2018 yılında ise yine Farmakoloji Anabilim Dalı’nda doktora eğitimini tamamlamıştır.
URL:https://eczacilarburada.com/program/ilac-etkilesimlerinin-anlasilmasi-etkilesim-kaynakli-yan-etkilerin-yonetilmesi/
CATEGORIES:E-Buluşmalar
ATTACH;FMTTYPE=image/png:https://eczacilarburada.com/wp-content/uploads/2025/04/IMG_0885.png
END:VEVENT
END:VCALENDAR