BEGIN:VCALENDAR
VERSION:2.0
PRODID:-//Eczacılar Burada - ECPv6.11.2.1//NONSGML v1.0//EN
CALSCALE:GREGORIAN
METHOD:PUBLISH
X-WR-CALNAME:Eczacılar Burada
X-ORIGINAL-URL:https://eczacilarburada.com
X-WR-CALDESC:Eczacılar Burada için etkinlikler
REFRESH-INTERVAL;VALUE=DURATION:PT1H
X-Robots-Tag:noindex
X-PUBLISHED-TTL:PT1H
BEGIN:VTIMEZONE
TZID:Europe/Istanbul
BEGIN:STANDARD
TZOFFSETFROM:+0300
TZOFFSETTO:+0300
TZNAME:+03
DTSTART:20230101T000000
END:STANDARD
END:VTIMEZONE
BEGIN:VEVENT
DTSTART;TZID=Europe/Istanbul:20231101T203000
DTEND;TZID=Europe/Istanbul:20231101T223000
DTSTAMP:20260425T045640
CREATED:20250419T220803Z
LAST-MODIFIED:20250419T220803Z
UID:251472-1698870600-1698877800@eczacilarburada.com
SUMMARY:İlknur Gümüşeli Hırçın ve Emrah Ergörül ile  ISPE Sağlık Bilimleri Derneği
DESCRIPTION:Kasım’ın ilk etkinliğinde ilaç endüstrisi için önemli bir kuruluş olan ISPE Sağlık Bilimleri Derneği’nin Türkiye şubesinden iki isim ile birlikteyiz. Bu etkinlikte ISPE Sağlık Bilimleri Derneği Yönetim Kurulu Başkanı Emrah Ergörül ve Bayer’de Ülke Kalite Direktörü olarak görev almış İlknur Gümüşeli Hırçın bize eşlik edecekler. ISPE Sağlık Bilimleri Derneği’nin neler yaptığını\, ilaç endüstrisi için önemini\, ilaç endüstrisi düşünen öğrenciler için nasıl imkanlar sağladığını yakından öğrenmek için etkinliğimize bekliyoruz. \n1 Kasım Çarşamba akşamı 20.30’da görüşmek üzere… \n\n İlknur Gümüşeli Hırçın Kimdir?\n\nİlknur Gümüşeli Hırçın\, İstanbul Üniversitesi’nden 1985 yılında eczacı olarak mezun olmuş\, 1994-1995 yıllarında İstanbul Üniversitesi İşletme Fakültesinde İşletme İhtisas programı eğitimini tamamlamıştır. 1986-1990 yılları arasında Mustafa Nevzat firmasında Üretim Şefi olarak çalışmıştır. Bayer firmasına geçince\, 1990 yılında Parenteral Bölümünde Üretim Şefi\, 1997-2001 yılları arasında tüm Katı\, Likit ve Pomat üretimlerinden sorumlu Üretim Müdürü olmuş\, 2001-2007 yılları arasında Kalite Güvence Müdürü ve Mesul Müdür olarak çalışmıştır. Bayer ve BİFA’nın tek şirket çatısı altında birleşmesi sonrasında\, 2007-2018 yıllarında tüm Bayer ürünlerinin Mesul Müdürü ve Kalite Grup Müdürü olarak görev almıştır. 2017-2018 yıllarında Bayer Topkapı Fabrika kapanışı sürecinde Fabrika Müdürlüğünü yürütmüştür. 2019 yılında Bayer’de Türkiye ve İran için Ülke Kalite Direktörü olarak görev almıştır. Bayer’de Türkiye\, İsrail ve İran için Ülke Kalite Direktörü görevini sürdürmektedir. Bayer’in küreselleştirilmiş CSV ve e-eğitim stratejisini dünya çapında 62 ülkenin Ticari Kalite Bölümlerine uygulayan Mükemmeliyet Merkezi birimine liderlik etmektedir. \nEmrah Ergörül Kimdir? \nEmrah Ergörül\, İstanbul (Erkek) Lisesi ve Yıldız Teknik Üniversitesi Kimya Mühendisliği mezuniyetinin ardından\, Almanya’da FachhochschuleGelsenkirchen’de (WestfälischeHochschule) – ComputergestützteChemie (Bilgisayar Destekli Kimya) Bölümünün ilk mezunlarından olmuştur. 2005 yılından beri PharmaVision bünyesindeki Kalite Kontrol\, Kalite Güvence ve İmalat kısımlarındaki görevlerini takiben Kalite Güvence Müdürlüğü\, İmalat Müdürlüğü görevleri ve Mali Ticari Direktörlük bünyesindeki rotasyon eğitiminden sonra Genel Müdür Asistanı olarak çalışmış olup\, halen Teknik Direktör olarak çalışmaktadır. 2018 yılında ISPE Sağlık Bilimleri Derneği Yönetim Kuruluna yedek üye olarak seçilmiş olup\, 2019’da ISPE’nin “PAT &Lifecycle Control Strategy” çalışma grubunun yönetim komitesine dahil olmuştur. 2021 yılından itibaren ise ISPE Sağlık Bilimleri Derneği Yönetim Kurulu Başkanı olarak görev yapmaktadır.
URL:https://eczacilarburada.com/program/ilknur-gumuseli-hircin-ve-emrah-ergorul-ile-ispe-saglik-bilimleri-dernegi/
CATEGORIES:E-Buluşmalar
ATTACH;FMTTYPE=image/png:https://eczacilarburada.com/wp-content/uploads/2025/04/233544_etkinlikresmi-2.png
END:VEVENT
END:VCALENDAR