BEGIN:VCALENDAR
VERSION:2.0
PRODID:-//Eczacılar Burada - ECPv6.11.2.1//NONSGML v1.0//EN
CALSCALE:GREGORIAN
METHOD:PUBLISH
X-WR-CALNAME:Eczacılar Burada
X-ORIGINAL-URL:https://eczacilarburada.com
X-WR-CALDESC:Eczacılar Burada için etkinlikler
REFRESH-INTERVAL;VALUE=DURATION:PT1H
X-Robots-Tag:noindex
X-PUBLISHED-TTL:PT1H
BEGIN:VTIMEZONE
TZID:Europe/Istanbul
BEGIN:STANDARD
TZOFFSETFROM:+0300
TZOFFSETTO:+0300
TZNAME:+03
DTSTART:20260101T000000
END:STANDARD
END:VTIMEZONE
BEGIN:VEVENT
DTSTART;TZID=Europe/Istanbul:20260328T130000
DTEND;TZID=Europe/Istanbul:20260328T140000
DTSTAMP:20260424T185907
CREATED:20260316T112528Z
LAST-MODIFIED:20260322T155124Z
UID:260831-1774702800-1774706400@eczacilarburada.com
SUMMARY:Mide Yanması\, Reflü\, Gastrit\, Kabızlık\, IBS ve Bağırsak Problemlerinde Bitkisel Ürün Seçimi
DESCRIPTION:Prof. Dr. Esra Akkol
URL:https://eczacilarburada.com/program/mide-yanmasi-reflu-gastrit-kabizlik-ibs-ve-bagirsak-problemlerinde-bitkisel-urun-secimi/
CATEGORIES:Seminerler
ATTACH;FMTTYPE=image/jpeg:https://eczacilarburada.com/wp-content/uploads/2025/04/egitim-banner-eczanede-klinik-fitoterapi.jpg
END:VEVENT
END:VCALENDAR