BEGIN:VCALENDAR
VERSION:2.0
PRODID:-//Eczacılar Burada - ECPv6.11.2.1//NONSGML v1.0//EN
CALSCALE:GREGORIAN
METHOD:PUBLISH
X-WR-CALNAME:Eczacılar Burada
X-ORIGINAL-URL:https://eczacilarburada.com
X-WR-CALDESC:Eczacılar Burada için etkinlikler
REFRESH-INTERVAL;VALUE=DURATION:PT1H
X-Robots-Tag:noindex
X-PUBLISHED-TTL:PT1H
BEGIN:VTIMEZONE
TZID:Europe/Istanbul
BEGIN:STANDARD
TZOFFSETFROM:+0300
TZOFFSETTO:+0300
TZNAME:+03
DTSTART:20230101T000000
END:STANDARD
END:VTIMEZONE
BEGIN:VEVENT
DTSTART;TZID=Europe/Istanbul:20230412T203000
DTEND;TZID=Europe/Istanbul:20230412T223000
DTSTAMP:20260425T064045
CREATED:20250419T220740Z
LAST-MODIFIED:20250419T220740Z
UID:251452-1681331400-1681338600@eczacilarburada.com
SUMMARY:Ömer Faruk Arslan ile Öğrenciler Soruyor Mezunlar Cevaplıyor
DESCRIPTION:Nisan ayının ikinci etkinliğini fazla beklemeden 12 Nisan Çarşamba akşamı değerli Ömer Faruk Arslan ile gerçekleştireceğiz. GSK’da “commercial director” olarak çalışan Ömer Faruk Arslan bize çeşitli firmalardaki deneyimlerinden\, kariyerinden bahsedecek. Aklınıza takılan\, merak ettiğiniz tüm soruların cevaplanacağı sohbet havasında geçecek olan e-buluşmamıza hepinizi bekliyoruz. \n12 Nisan Çarşamba akşamı 20.30’da görüşmek üzere… \nÖmer Faruk Arslan\n1984 yılında İstanbul Teknik Üniversitesi Kimya Mühendisliği bölümünden mezun olmuştur. Mezun olduktan sonra İstanbul Üniversitesi’nde İşletme Yönetimi Yüksek Lisansı (MBA) yapmıştır. 1987 yılında Roche’de satış temsilcisi olarak çalışmaya başlamıştır.  1989 yılında Roche tarafından “Yılın En İyi Temsilcisi” seçilmiştir. 1990 yılında Kıdemli Satış Temsilcisi olmuştur. 1995’te O.T.C ürünler pazarında Ürün Müdürü olmuştur. 1997 yılında bir antiasit olan Rennie’nin lansmanında dünya Roche Tüketici Sağlığı “President’s Award” ödülünü almaya hak kazanan ekibin bir üyesidir. 1998 yılında Roche Tüketici Sağlığında Grup Ürün Müdürü olarak görev almıştır. \n2001 yılında Lundbeck firmasına Satış Müdürü olarak transfer olmuştur. 2003’te Ticari Operasyonlar Koordinatörü ve Ulusal Satış Müdürü – Nöroloji pozisyonuna atanmıştır. 2005 yılında Pazarlama ve Ticari Operasyonlar Direktörlüğüne terfi olmuştur. \n2008 yılında GlaxoSmithKline firmasına İş Birim Müdürü olarak geçiş yapmıştır. 2008 yılı sonunda Augmentin ile üstün performans nedeniyle “President’s Award” ile ödüllendirilmiştir. 2010 yılında ise Grup İş Birim Müdürü pozisyonuna atanmıştır. 2010-2012 yılları arasında da 3 kez “President’s Award” ile ödüllendirilmiştir. 2014’te Ticari Ticaret Kanalı Direktörlüğüne geçmiştir.  2016’nın Ocak ayında Ticari Ticaret Kanalı ve İş Geliştirme Direktörü olmuştur. 2016 Ekim tarihinde ise Ticari Ticaret Kanalı\, İş Geliştirme ve İş Mükemmelliği Direktörlüğü konumuna atanmıştır. Halen bu görevine devam etmektedir.
URL:https://eczacilarburada.com/program/omer-faruk-arslan-ile-ogrenciler-soruyor-mezunlar-cevapliyor/
CATEGORIES:E-Buluşmalar
ATTACH;FMTTYPE=image/png:https://eczacilarburada.com/wp-content/uploads/2025/04/232325_etkinlikresmi.png
END:VEVENT
END:VCALENDAR