BEGIN:VCALENDAR
VERSION:2.0
PRODID:-//Eczacılar Burada - ECPv6.11.2.1//NONSGML v1.0//EN
CALSCALE:GREGORIAN
METHOD:PUBLISH
X-WR-CALNAME:Eczacılar Burada
X-ORIGINAL-URL:https://eczacilarburada.com
X-WR-CALDESC:Eczacılar Burada için etkinlikler
REFRESH-INTERVAL;VALUE=DURATION:PT1H
X-Robots-Tag:noindex
X-PUBLISHED-TTL:PT1H
BEGIN:VTIMEZONE
TZID:Europe/Istanbul
BEGIN:STANDARD
TZOFFSETFROM:+0300
TZOFFSETTO:+0300
TZNAME:+03
DTSTART:20200101T000000
END:STANDARD
END:VTIMEZONE
BEGIN:VEVENT
DTSTART;TZID=Europe/Istanbul:20201224T203000
DTEND;TZID=Europe/Istanbul:20201224T000000
DTSTAMP:20260425T155522
CREATED:20250419T220702Z
LAST-MODIFIED:20250419T220702Z
UID:251416-1608841800-1608768000@eczacilarburada.com
SUMMARY:Özcan Yurdalan / Hayalden Sanala Fotoğrafın Toplumsal Tarihine Giriş
DESCRIPTION:Eczacılar Burada\, e-buluşmalarında  “Özcan Yurdalan ile Başka Bir Görmek” fotoğraf sohbetleri atölyesi çerçevesinde gerçekleştireceğimiz bu oturumda “Hayalden Sanala Fotoğrafın Toplumsal Tarihi”ne  bakacağız.  \n  \nBaşlangıçta sadece bir hayaldi. İki yüzyıl önce elle tutulur hale geldi. Fotoğraf insanlığın en eski özlemlerinden biriyken gerçek oldu. İstesek de istemesek de yaşantımızın ayrılmaz bir parçası artık. Hele sayısal ortamda üretip sanal alemde dolaşmaya başladıktan sonra fotoğrafsız bir oluş düşünmek mümkün değil. Bu konuşmada fotoğrafın toplumsal tarihine göz atacağız. Sosyal iktisadi ve siyasal dönemlerde fotoğrafın oynadığı role değineceğiz.  \n 
URL:https://eczacilarburada.com/program/ozcan-yurdalan-hayalden-sanala-fotografin-toplumsal-tarihine-giris/
CATEGORIES:E-Buluşmalar
ATTACH;FMTTYPE=image/png:https://eczacilarburada.com/wp-content/uploads/2025/04/231620_etkinlikresmi.png
END:VEVENT
END:VCALENDAR