BEGIN:VCALENDAR
VERSION:2.0
PRODID:-//Eczacılar Burada - ECPv6.11.2.1//NONSGML v1.0//EN
CALSCALE:GREGORIAN
METHOD:PUBLISH
X-WR-CALNAME:Eczacılar Burada
X-ORIGINAL-URL:https://eczacilarburada.com
X-WR-CALDESC:Eczacılar Burada için etkinlikler
REFRESH-INTERVAL;VALUE=DURATION:PT1H
X-Robots-Tag:noindex
X-PUBLISHED-TTL:PT1H
BEGIN:VTIMEZONE
TZID:Europe/Istanbul
BEGIN:STANDARD
TZOFFSETFROM:+0300
TZOFFSETTO:+0300
TZNAME:+03
DTSTART:20210101T000000
END:STANDARD
END:VTIMEZONE
BEGIN:VEVENT
DTSTART;TZID=Europe/Istanbul:20210127T203000
DTEND;TZID=Europe/Istanbul:20210127T223000
DTSTAMP:20260425T171804
CREATED:20250419T220649Z
LAST-MODIFIED:20250419T220649Z
UID:251414-1611779400-1611786600@eczacilarburada.com
SUMMARY:Özcan Yurdalan / Seyahatin Resimli Kültür Tarihi
DESCRIPTION:Seyyah\, yazar\, fotoğrafçı ve eğitmen Özcan Yurdalan ile ”Bir Başka Görmek” fotoğraf sohbetleri serisi bu ay ”Seyahatin Resimli Kültür Tarihi” ile devam ediyor. Katılımcıları bir kültür olarak seyahatin ve seyahat etmenin geçmişine götürecek olan sohbette\, ilk çağlardan bu yana nehir yollarından\, denizden ve karadan yapılan yolculukların hikayesine dalarken seyyahların efsanevi seferlerini de hatırlayacağız. \n  \n 
URL:https://eczacilarburada.com/program/ozcan-yurdalan-seyahatin-resimli-kultur-tarihi/
CATEGORIES:E-Buluşmalar
ATTACH;FMTTYPE=image/png:https://eczacilarburada.com/wp-content/uploads/2025/04/231614_etkinlikresmi.png
END:VEVENT
END:VCALENDAR