BEGIN:VCALENDAR
VERSION:2.0
PRODID:-//Eczacılar Burada - ECPv6.11.2.1//NONSGML v1.0//EN
CALSCALE:GREGORIAN
METHOD:PUBLISH
X-WR-CALNAME:Eczacılar Burada
X-ORIGINAL-URL:https://eczacilarburada.com
X-WR-CALDESC:Eczacılar Burada için etkinlikler
REFRESH-INTERVAL;VALUE=DURATION:PT1H
X-Robots-Tag:noindex
X-PUBLISHED-TTL:PT1H
BEGIN:VTIMEZONE
TZID:Europe/Istanbul
BEGIN:STANDARD
TZOFFSETFROM:+0300
TZOFFSETTO:+0300
TZNAME:+03
DTSTART:20230101T000000
END:STANDARD
END:VTIMEZONE
BEGIN:VEVENT
DTSTART;TZID=Europe/Istanbul:20230607T203000
DTEND;TZID=Europe/Istanbul:20230607T223000
DTSTAMP:20260425T064128
CREATED:20250419T220751Z
LAST-MODIFIED:20250419T220751Z
UID:251458-1686169800-1686177000@eczacilarburada.com
SUMMARY:Prof. Dr. Afife Mat ile Eczacılık Tarihinden Portreler I
DESCRIPTION:“Türkiye’de Farmakognozi ve Farmasötik Botanik Araştırmalarına Öncülük Etmiş İki Eczacı Bilim İnsanı: Turhan Baytop ve Asuman Baytop”\n7 Haziran Çarşamba akşamı Prof. Dr. Afife Mat hocamızla gerçekleştireceğimiz “Eczacılık Tarihinden Portreler” serimizin ilk etkinliğimizde konumuz: “Türkiye’de Farmakognozi ve Farmasötik Botanik Araştırmalarına Öncülük Etmiş İki Eczacı Bilim İnsanı: Turhan Baytop ve Asuman Baytop”. \nBu serimizde eczacılık tarihini derinlemesine keşfederek\, önemli isimlerin katkılarını daha yakından tanıma fırsatı bulacaksınız \nSaat 20.30’da görüşmek üzere… \nPROF. DR. AFİFE MAT\nFatsa doğumlu olan Afife Mat 1972 yılında Notre Dame de Sion Fransız Kız Lisesini bitirdikten sonra\, İstanbul Üniversitesi Eczacılık Fakültesine girdi. 1976 yılında mezun olduktan sonra aynı fakültede Farmakognozi anabilim dalında doktora çalışmasına başladı. 1980’de doktor ünvanını aldı. 1981-1983 yılları arasında Paris-Güney Paris Üniversitesi Eczacılık Fakültesi Farmakognozi Laboratuvarında doktora sonrası araştırmalar yaptı. 1984’de Yardımcı Doçent\, 1987’de Doçent ve 1995’de Profesör oldu. 10 yıl Eczacılık Fakültesi Dekan Yardımcılığı\, Farmakognozi Anabilim Dalı başkanlığı (2012-2020)\,  Eczacılık Fakültesi senatörü (2013-2020) görevlerini yürütmüştür. \n2013 yılında Eczacılık Tarihi ve Etik Anabilim Dalını kurmuştur ve Anabilim Dalı Başkanlığını yürütmüştür. 1960 yılında Prof. Turhan Baytop tarafından kurulan Türk Eczacılık Tarihi Müzesini 1999 İstanbul depreminden sonra korumaya almış ve 2011 yılında yeniden kurmuştur. 2017 yılında Kültür ve Turizm Bakanlığı tarafından Türk Eczacılık Tarihi İhtisas Müzesi olarak tescil edilen bu müzenin müdürlüğünü emekli oluncaya kadar yürütmüştür. 1992 yılında Fransız Eczacılık Akademisi’ne üye seçilmiştir. 2015 yılında Uluslararası Eczacılık Tarihi Akademisi’ni yürütmüştür. 2000 yılından bu yana Eczacılık Tarihi dersini vermektedir. 1 Ocak 2020’de emekli olan Afife Mat’ın mantarlar\, eczacılık gibi konularda birden çok kitabı vardır. Başarılı ve değerli bir eczacı olan Prof. Dr. Afife Mat birçok ödüle sahiptir. \nKitapları: \n\nTürkiye’de Mantar Zehirlenmeleri\, Zehirli Mantarlar ve Tedavi Yöntemleri\nTıp ve Eczacılık Sembolü Yılan\nBitkiden İlaca\, Hepsinin Bir Öyküsü Var\nTüm Dertlerin İlacı Çikolata\nAyrıca 2006 yılında Türk Eczacıları Birliğinin 50.yılı için “Bir Kurumun Öyküsü” kitabını hazırlamıştır.\n\nÖdülleri: \n\nİstanbul Eczacı Odasu Meslekiçi Onur Ödülü 14 Mayıs 2022\nTEB-Eczacılık Akademisi\, Hizmet Ödülü\, 2019\nYaşam Boyu Onur Ödülü\, Türk Eczacıları Birliği\, 2016\nSchelenz Madalyası\, Alman Eczacılık Tarihi Birliği\, 2015\nAltın Havan Hizmet Ödülü\, Eczacı Dergisi\, 2015\nEczacı Hamdi Bey Ödülü\,11.Türk Eczacılık Tarihi Toplantısı\, Kayseri \, 2014\nAltın Havan Eczacılık Tarihi Ödülü\, Eczacı Dergisi\, 2011
URL:https://eczacilarburada.com/program/prof-dr-afife-mat-ile-eczacilik-tarihinden-portreler-i/
CATEGORIES:E-Buluşmalar
ATTACH;FMTTYPE=image/png:https://eczacilarburada.com/wp-content/uploads/2025/04/232432_etkinlikresmi.png
END:VEVENT
END:VCALENDAR