BEGIN:VCALENDAR
VERSION:2.0
PRODID:-//Eczacılar Burada - ECPv6.11.2.1//NONSGML v1.0//EN
CALSCALE:GREGORIAN
METHOD:PUBLISH
X-WR-CALNAME:Eczacılar Burada
X-ORIGINAL-URL:https://eczacilarburada.com
X-WR-CALDESC:Eczacılar Burada için etkinlikler
REFRESH-INTERVAL;VALUE=DURATION:PT1H
X-Robots-Tag:noindex
X-PUBLISHED-TTL:PT1H
BEGIN:VTIMEZONE
TZID:Europe/Istanbul
BEGIN:STANDARD
TZOFFSETFROM:+0300
TZOFFSETTO:+0300
TZNAME:+03
DTSTART:20200101T000000
END:STANDARD
END:VTIMEZONE
BEGIN:VEVENT
DTSTART;TZID=Europe/Istanbul:20201223T203000
DTEND;TZID=Europe/Istanbul:20201223T000000
DTSTAMP:20260425T154547
CREATED:20250419T220649Z
LAST-MODIFIED:20250419T220649Z
UID:251406-1608755400-1608681600@eczacilarburada.com
SUMMARY:Prof. Dr. Cengiz Güleç / Platon'dan Freud'a Aşk
DESCRIPTION:
URL:https://eczacilarburada.com/program/prof-dr-cengiz-gulec-platondan-freuda-ask/
CATEGORIES:E-Buluşmalar
ATTACH;FMTTYPE=image/png:https://eczacilarburada.com/wp-content/uploads/2025/04/231600_etkinlikresmi.png
END:VEVENT
END:VCALENDAR