BEGIN:VCALENDAR
VERSION:2.0
PRODID:-//Eczacılar Burada - ECPv6.11.2.1//NONSGML v1.0//EN
CALSCALE:GREGORIAN
METHOD:PUBLISH
X-WR-CALNAME:Eczacılar Burada
X-ORIGINAL-URL:https://eczacilarburada.com
X-WR-CALDESC:Eczacılar Burada için etkinlikler
REFRESH-INTERVAL;VALUE=DURATION:PT1H
X-Robots-Tag:noindex
X-PUBLISHED-TTL:PT1H
BEGIN:VTIMEZONE
TZID:Europe/Istanbul
BEGIN:STANDARD
TZOFFSETFROM:+0300
TZOFFSETTO:+0300
TZNAME:+03
DTSTART:20230101T000000
END:STANDARD
END:VTIMEZONE
BEGIN:VEVENT
DTSTART;TZID=Europe/Istanbul:20230329T203000
DTEND;TZID=Europe/Istanbul:20230329T223000
DTSTAMP:20260425T064024
CREATED:20250419T220740Z
LAST-MODIFIED:20250419T220740Z
UID:251450-1680121800-1680129000@eczacilarburada.com
SUMMARY:Prof. Dr. Hakkı Zafer Güney ile Afet Döneminde Kronik Hastalıklar ve İlaç Kullanımı
DESCRIPTION:Mart ayının son etkinliğinde Lokman Hekim Üniversitesi öğretim üyesi olan değerli Prof. Dr. Hakkı Zafer Güney ile birlikteyiz. “Afet döneminde Kronik Hastalıklar ve İlaç Kullanımı”ndan bahsedeceğimiz\, ilaca ilk elden erişimi olan doktorların\, eczacıların afet döneminde hangi konumlarda olduğunu konuşacağımız etkinliğimize hepinizi bekliyoruz.\n29 Mart Çarşamba günü 20.30’da görüşmek üzere… \nPROF. DR. HAKKI ZAFER GÜNEY KİMDİR? \nZafer Güney 1992 yılında Ankara Üniversitesi Tıp Fakültesinden mezun olmuştur. Mezun olduktan sonra Gazi Üniversitesi Sağlık Bilimleri Enstitüsü Farmakoloji Anabilim dalında uzmanlığını tamamlamıştır. 2002-2009 yılları arasında Gazi Üniversitesi Tıp Fakültesi Dahili Tıp Bilimleri Bölümü’nde doçent doktor olarak görev almıştır. Antibiyotikler\, otokoidler\, fluorokinolonlar\, farmakovijilans gibi birçok farklı konuda ders vermiştir. Önemli bir farmakoloji bilgi kaynağı olan Goodman&Gilman’ın Farmakoloji ve El Kitabın’da “Farmakokinetik: İlaç Emilimi\, Dağılımı\,Metabolizması ve Eliminasyonunun Dinamiği” isimli bir bölümü yazmıştır. Japonya\, Amerika Birleşik Devletleri\, Fransa ve Türkiye’de birçok uluslararası kongrede bulunmuştur. Hakemli kongre/ sempozyum bildiri kitaplarında yer alan birden çok yayını vardır. \nGazi Üniversitesi’nde 2009 yılından itibaren profesör doktor olarak görev yapmaktadır. Aynı zamanda Lokman Hekim Üniversitesi’nde Prof. Dr. olarak yer almaktadır. Biyoteknolojik İlaçlar Derneği (BİYİLDER) ‘in yönetim kurulu başkanlığını yürütmektedir.
URL:https://eczacilarburada.com/program/prof-dr-hakki-zafer-guney-ile-afet-doneminde-kronik-hastaliklar-ve-ilac-kullanimi/
CATEGORIES:E-Buluşmalar
ATTACH;FMTTYPE=image/png:https://eczacilarburada.com/wp-content/uploads/2025/04/232089_etkinlikresmi.png
END:VEVENT
END:VCALENDAR