BEGIN:VCALENDAR
VERSION:2.0
PRODID:-//Eczacılar Burada - ECPv6.11.2.1//NONSGML v1.0//EN
CALSCALE:GREGORIAN
METHOD:PUBLISH
X-WR-CALNAME:Eczacılar Burada
X-ORIGINAL-URL:https://eczacilarburada.com
X-WR-CALDESC:Eczacılar Burada için etkinlikler
REFRESH-INTERVAL;VALUE=DURATION:PT1H
X-Robots-Tag:noindex
X-PUBLISHED-TTL:PT1H
BEGIN:VTIMEZONE
TZID:Europe/Istanbul
BEGIN:STANDARD
TZOFFSETFROM:+0300
TZOFFSETTO:+0300
TZNAME:+03
DTSTART:20230101T000000
END:STANDARD
END:VTIMEZONE
BEGIN:VEVENT
DTSTART;TZID=Europe/Istanbul:20230927T203000
DTEND;TZID=Europe/Istanbul:20230927T223000
DTSTAMP:20260425T062759
CREATED:20250419T220751Z
LAST-MODIFIED:20250419T220751Z
UID:251464-1695846600-1695853800@eczacilarburada.com
SUMMARY:Prof. Dr. Mesut Sancar ile Klinik Eczacılık ve EUS Süreci
DESCRIPTION:Eylül ayının sonuna gelirken etkinliklerimize hızla başlıyoruz; Marmara Üniversitesi Eczacılık Fakültesi Klinik Eczacılık Anabilim Dalı Başkanı kıymetli eczacımız Mesut Sancar ile birlikteyiz. Klinik eczacılık\, eczacılıkta uzmanlık sınavı ve tüm bu süreç hakkındaki sorularınız için etkinliğimize bekliyoruz. \n27 Eylül Çarşamba günü saat 20.30’da görüşmek üzere… \nProf. Dr. Mesut Sancar Kimdir?\nİstanbul Üniversitesi Eczacılık Fakültesi’nden 1992 yılında mezun olmuştur. Klinik Eczacılık Yüksek Lisans ve Doktora eğitimlerini Marmara Üniversitesi’nde tamamladı. 1998 yılında Klinik Eczacılık Derneği kurucuları arasında yer aldı ve halen aynı derneğin yönetim kurulu üyeliğini sürdürmektedir. ECZAKDER (Ulusal Eczacılık Eğitim Programlarını Değerlendirme ve Akreditasyon Derneği ) Yönetim Kurulu üyesidir. Avrupa Klinik Eczacılık Derneği üyesi olup her yıl düzenli olarak bilimsel kongrelerini takip etmektedir. Marmara Üniversitesi Eczacılık Fakültesi Klinik Eczacılık Uzmanlık Program yöneticisi de olan Sancar’ın uluslararası ve ulusal birçok makalesi ve sunumu bulunmaktadır.
URL:https://eczacilarburada.com/program/prof-dr-mesut-sancar-ile-klinik-eczacilik-ve-eus-sureci/
CATEGORIES:E-Buluşmalar
ATTACH;FMTTYPE=image/png:https://eczacilarburada.com/wp-content/uploads/2025/04/233298_etkinlikresmi.png
END:VEVENT
END:VCALENDAR