BEGIN:VCALENDAR
VERSION:2.0
PRODID:-//Eczacılar Burada - ECPv6.11.2.1//NONSGML v1.0//EN
CALSCALE:GREGORIAN
METHOD:PUBLISH
X-WR-CALNAME:Eczacılar Burada
X-ORIGINAL-URL:https://eczacilarburada.com
X-WR-CALDESC:Eczacılar Burada için etkinlikler
REFRESH-INTERVAL;VALUE=DURATION:PT1H
X-Robots-Tag:noindex
X-PUBLISHED-TTL:PT1H
BEGIN:VTIMEZONE
TZID:Europe/Istanbul
BEGIN:STANDARD
TZOFFSETFROM:+0300
TZOFFSETTO:+0300
TZNAME:+03
DTSTART:20210101T000000
END:STANDARD
END:VTIMEZONE
BEGIN:VEVENT
DTSTART;TZID=Europe/Istanbul:20210207T203000
DTEND;TZID=Europe/Istanbul:20210207T223000
DTSTAMP:20260425T155013
CREATED:20250419T220702Z
LAST-MODIFIED:20250419T220702Z
UID:251424-1612729800-1612737000@eczacilarburada.com
SUMMARY:Şenay Aydemir / Yeni Türkiye Sineması
DESCRIPTION:Film Kulübü’nün Şubat ayındaki sohbet konuğu sinema yazarı Şenay Aydemir olacak. gazeteduvar\, Evrensel Kültür\, Milliyet Sanat\, Arka Pencere\, Altyazı gibi bir çok yayında yayınlanan eleştirileriyle tanıdığımız Aydemir\, 90’ların ikinci yarısından başlayarak bugünlere uzanan Yeni Türkiye Sineması serüvenini anlatacağı ücretsiz etkinliğimizi kaçırmayın! \n 
URL:https://eczacilarburada.com/program/senay-aydemir-yeni-turkiye-sinemasi/
CATEGORIES:E-Buluşmalar
ATTACH;FMTTYPE=image/png:https://eczacilarburada.com/wp-content/uploads/2025/04/231638_etkinlikresmi.png
END:VEVENT
END:VCALENDAR