BEGIN:VCALENDAR
VERSION:2.0
PRODID:-//Eczacılar Burada - ECPv6.11.2.1//NONSGML v1.0//EN
CALSCALE:GREGORIAN
METHOD:PUBLISH
X-WR-CALNAME:Eczacılar Burada
X-ORIGINAL-URL:https://eczacilarburada.com
X-WR-CALDESC:Eczacılar Burada için etkinlikler
REFRESH-INTERVAL;VALUE=DURATION:PT1H
X-Robots-Tag:noindex
X-PUBLISHED-TTL:PT1H
BEGIN:VTIMEZONE
TZID:Europe/Istanbul
BEGIN:STANDARD
TZOFFSETFROM:+0300
TZOFFSETTO:+0300
TZNAME:+03
DTSTART:20210101T000000
END:STANDARD
END:VTIMEZONE
BEGIN:VEVENT
DTSTART;TZID=Europe/Istanbul:20210418T203000
DTEND;TZID=Europe/Istanbul:20210418T223000
DTSTAMP:20260425T134610
CREATED:20250419T220702Z
LAST-MODIFIED:20250419T220702Z
UID:251420-1618777800-1618785000@eczacilarburada.com
SUMMARY:Serdar Koşar / Dur Bir Nefes Al
DESCRIPTION:Aldığımız nefesle verdiğimiz nefes arasındadır hayat. Nefesin ne olduğunu\, yaşamımız için önemini\, duygu ve davranışlarımıza olan etkilerini ne derece biliyoruz? Peki doğru nefes almayı biliyor muyuz? \n  \nÖzellikle içinden geçmekte olduğumuz pandemi sürecinde bir nefesin öneminin bu kadar derin farkındalıklarını yaşarken bizler de nefes konusuna daha kapsamlı bakmanın gerekliliğini hissettik. \n  \n18 Nisan Pazar günü saat 17:30’da Eczacılar Burada Platformu’nun konuğu Nefes Teknikleri ve Nefes Terapi uzmanı Serdar Koşar olacak. \n  \nSadece nefese dair aklımızdaki soruları yanıtlamakla kalmayıp doğru ve bütünsel nefes almayı öğrenmek hedefi ile diyafram ve burun nefes çalışmalarını da deneyimleyeceğimiz bu sohbetimize tüm değerli dostlarımızı bekliyoruz. \n 
URL:https://eczacilarburada.com/program/serdar-kosar-dur-bir-nefes-al/
CATEGORIES:E-Buluşmalar
ATTACH;FMTTYPE=image/png:https://eczacilarburada.com/wp-content/uploads/2025/04/231629_etkinlikresmi.png
END:VEVENT
END:VCALENDAR