BEGIN:VCALENDAR
VERSION:2.0
PRODID:-//Eczacılar Burada - ECPv6.11.2.1//NONSGML v1.0//EN
CALSCALE:GREGORIAN
METHOD:PUBLISH
X-WR-CALNAME:Eczacılar Burada
X-ORIGINAL-URL:https://eczacilarburada.com
X-WR-CALDESC:Eczacılar Burada için etkinlikler
REFRESH-INTERVAL;VALUE=DURATION:PT1H
X-Robots-Tag:noindex
X-PUBLISHED-TTL:PT1H
BEGIN:VTIMEZONE
TZID:Europe/Istanbul
BEGIN:STANDARD
TZOFFSETFROM:+0300
TZOFFSETTO:+0300
TZNAME:+03
DTSTART:20240101T000000
END:STANDARD
END:VTIMEZONE
BEGIN:VEVENT
DTSTART;TZID=Europe/Istanbul:20240207T203000
DTEND;TZID=Europe/Istanbul:20240207T223000
DTSTAMP:20260425T045140
CREATED:20250419T220815Z
LAST-MODIFIED:20250419T220815Z
UID:251482-1707337800-1707345000@eczacilarburada.com
SUMMARY:Türkiye’de Eczacılığın Sorunları
DESCRIPTION:Şubat ayına başlarken ilk konuğumuz eski Türk Eczacıları Birliği başkanı Ecz. Erdoğan Çolak oluyor. Eczacılığın sorunlarından\, şimdiye kadar neler yapıldığından ve yapılabileceğinden bahsedeceğimiz keyifli bir etkinlik olacak. \n7 Şubat Çarşamba akşamı 20.30’da görüşmek üzere… \nEcz. Erdoğan Çolak Kimdir? \n1978-1979 öğrenim yılında Gazi Üniversitesi Eczacılık Fakültesi’ne başlamıştır. Üniversite yılları boyunca çok sayıda öğrenci derneği çalışmalarına katılan Erdoğan Çolak 1984 yılında mezun olmuştur. Mezun olur olmaz Adana’da serbest eczacılık yapmaya başlamıştır. Adana Eczacı Odası’nda aktif olarak meslek siyaseti yürütmüş ve hem yönetim kurulu üyeliği hem de oda başkanlığı görevlerinde bulunmuştur.. 2003-2005 yılları arasında Türk Eczacıları Birliği  Merkez Heyeti II. Başkanlığı\, 2005-2007 yılları arasında Türk Eczacıları Birliği Genel Sekreterliği görevlerini üstlenmiştir. 2007-2021 yılları arasında Türk Eczacıları Birliği Başkanı olarak mesleğimiz\, meslektaşlarımız için çalışmalarını meslektaşlarıyla birlikte\, örgütlü bir şekilde yürütmüştür. Ecz. Füsun Çolak ile evli\, Sarp ve Ateş adında iki oğlu vardır.
URL:https://eczacilarburada.com/program/turkiyede-eczaciligin-sorunlari/
CATEGORIES:E-Buluşmalar
ATTACH;FMTTYPE=image/png:https://eczacilarburada.com/wp-content/uploads/2025/04/233721-2_etkinlikresmi.png
END:VEVENT
END:VCALENDAR