BEGIN:VCALENDAR
VERSION:2.0
PRODID:-//Eczacılar Burada - ECPv6.11.2.1//NONSGML v1.0//EN
CALSCALE:GREGORIAN
METHOD:PUBLISH
X-WR-CALNAME:Eczacılar Burada
X-ORIGINAL-URL:https://eczacilarburada.com
X-WR-CALDESC:Eczacılar Burada için etkinlikler
REFRESH-INTERVAL;VALUE=DURATION:PT1H
X-Robots-Tag:noindex
X-PUBLISHED-TTL:PT1H
BEGIN:VTIMEZONE
TZID:Europe/Istanbul
BEGIN:STANDARD
TZOFFSETFROM:+0300
TZOFFSETTO:+0300
TZNAME:+03
DTSTART:20230101T000000
END:STANDARD
END:VTIMEZONE
BEGIN:VEVENT
DTSTART;TZID=Europe/Istanbul:20231122T203000
DTEND;TZID=Europe/Istanbul:20231122T223000
DTSTAMP:20260425T045643
CREATED:20250419T220803Z
LAST-MODIFIED:20250419T220803Z
UID:251470-1700685000-1700692200@eczacilarburada.com
SUMMARY:Uzm. Ecz.Sema Uysal Zeybek ile Dermokozmetik Okuryazarlığı
DESCRIPTION:Dermokozmetik okulunun kurucusu ve Dermokozmetik uzmanı Ecz Sema Hanım’ın \, dermokozmetik okulunun kuruluş amacını\, dermokozmetik eğitiminin önemini ve dermokozmetik sektörünün geleceğini anlatacağı harika bir söyleşiyle sizlerleyiz. \n22 Kasım Çarşamba 20:30’a alarmlarınızı kurmayı unutmayın… \nUzm. Ecz. Sema Uysal Zeybek Kimdir?\nUzm. Ecz. Sema Uysal Zeybek\, Marmara Üniversitesi Eczacılık Fakültesi’ni 1992 yılında tamamlamış ve yine Marmara Üniversitesi İşletme Fakültesi’nde yüksek lisansını bitirmiştir. \nMedipol Üniversitesi’nde Klinik Eczacılık yüksek lisansını yapıp\, Medipol Üniversitesi’nde Homeopati eğitimini tamamlamıştır. Etkin Eczacılık Derneği Kurucu üyesidir. 1993 – 2000 Bahçelievler’de Sema Eczanesi’ni açmıştır. Daha sonra 2000 – 2019 Sema Uysal Eczanesi İş Kuleleri’nde eczacılığı sürdürmüştür. 2019 yılında Sema Uysal Eczanesi Nişantaşı’nı açmıştır ve halen orada eczacılık faaliyetlerini sürdürmektedir. \nDermokozmetik Okulu ve OTC Okulu’nun kurucusudur. Evli ve iki oğlu bulunmaktadır.
URL:https://eczacilarburada.com/program/uzm-ecz-sema-uysal-zeybek-ile-dermokozmetik-okuryazarligi/
CATEGORIES:E-Buluşmalar
ATTACH;FMTTYPE=image/png:https://eczacilarburada.com/wp-content/uploads/2025/04/233485_etkinlikresmi-2.png
END:VEVENT
END:VCALENDAR