BEGIN:VCALENDAR
VERSION:2.0
PRODID:-//Eczacılar Burada - ECPv6.11.2.1//NONSGML v1.0//EN
CALSCALE:GREGORIAN
METHOD:PUBLISH
X-WR-CALNAME:Eczacılar Burada
X-ORIGINAL-URL:https://eczacilarburada.com
X-WR-CALDESC:Eczacılar Burada için etkinlikler
REFRESH-INTERVAL;VALUE=DURATION:PT1H
X-Robots-Tag:noindex
X-PUBLISHED-TTL:PT1H
BEGIN:VTIMEZONE
TZID:Europe/Istanbul
BEGIN:STANDARD
TZOFFSETFROM:+0300
TZOFFSETTO:+0300
TZNAME:+03
DTSTART:20210101T000000
END:STANDARD
END:VTIMEZONE
BEGIN:VEVENT
DTSTART;TZID=Europe/Istanbul:20210523T203000
DTEND;TZID=Europe/Istanbul:20210523T223000
DTSTAMP:20260425T134742
CREATED:20250419T220622Z
LAST-MODIFIED:20250419T220622Z
UID:251388-1621801800-1621809000@eczacilarburada.com
SUMMARY:Yemek Kültürü ve Kimlik
DESCRIPTION:Beslenmek için yenilen yemek\, kültürün ve sosyal yaşamın da önemli bir parçasıdır. Ne yediğimiz ne zaman yediğimiz\, nasıl yediğimiz bizim kim olduğumuzu anlatır. Yediklerimiz bizim günlük yaşamlarımızı tarif eder. O nedenle insanları ve ait oldukları toplulukları anlamak için yemek kültürü bir araç olarak kullanılmaktadır. \n  \nDr. Öğr. Üyesi Arzu Durukan ile 23 Mayıs Pazar günü saat 18:30’da ZOOM platformu üzerinden ücretsiz olarak gerçekleştireceğimiz sohbetimize kaydınızı https://old.eczacilarburada.com/event/dr-ogr-uyesi-arzu-durukan-ile-yemek-kulturu-ve-kimlik/ adresinde bulunun Ücretsiz Kaydol formundan yapabilirsiniz.  \n  \nECZACILAR BURADA PLATFORMU \n“Rutin Hayatın Dışına Çık!” \n  \n#yemek #kültür #etkinlik #sohbet #onlinesohbet #eczacılarburada #rutinhayatındışınaçık
URL:https://eczacilarburada.com/program/yemek-kulturu-ve-kimlik/
CATEGORIES:E-Buluşmalar
ATTACH;FMTTYPE=image/png:https://eczacilarburada.com/wp-content/uploads/2025/04/231567_etkinlikresmi.png
END:VEVENT
END:VCALENDAR