BEGIN:VCALENDAR
VERSION:2.0
PRODID:-//Eczacılar Burada - ECPv6.11.2.1//NONSGML v1.0//EN
CALSCALE:GREGORIAN
METHOD:PUBLISH
X-WR-CALNAME:Eczacılar Burada
X-ORIGINAL-URL:https://eczacilarburada.com
X-WR-CALDESC:Eczacılar Burada için etkinlikler
REFRESH-INTERVAL;VALUE=DURATION:PT1H
X-Robots-Tag:noindex
X-PUBLISHED-TTL:PT1H
BEGIN:VTIMEZONE
TZID:Europe/Istanbul
BEGIN:STANDARD
TZOFFSETFROM:+0300
TZOFFSETTO:+0300
TZNAME:+03
DTSTART:20210101T000000
END:STANDARD
END:VTIMEZONE
BEGIN:VEVENT
DTSTART;TZID=Europe/Istanbul:20210519T203000
DTEND;TZID=Europe/Istanbul:20210519T223000
DTSTAMP:20260425T135710
CREATED:20250419T220635Z
LAST-MODIFIED:20250419T220635Z
UID:251400-1621456200-1621463400@eczacilarburada.com
SUMMARY:Yrd. Doç. Dr. Bülent Kıran / Eczacılıkta Gelecek Trendleri
DESCRIPTION:19 Mayıs Çarşamba günü saat 21:00’de Dr. Ecz. Bülent Kıran ile “Eczacılıkta Gelecek Trendleri”ni konuşmak üzere bir araya geliyoruz. Sayın Kıran kapsamlı bir içerikle karşımızda olacak; \n  \n\n Tarihsel perspektiften geçmişten günümüze eczacılıkta değişen paradigma • İlaç endüstrisinin doğuşu ve hakimiyeti • Geçmişten günümüze sağlıkta değişen parametreler ve sağlığı etkili faktörler • Kronik hastalıklar ve teknolojik bireysel tıp uygulamaları • Değişen hasta müşteri profili ve farklılaşan talep • Ürün odaklı eczanelerden değer odaklı eczanelere dönüşüm nasıl?\n Geleceğin eczacı profili (WHO)\n Dünya’da Sağlık Sistemleri nereye gidiyor?\n Devletin ve SGK’nin ilaç politikalarına yaklaşımı • İlaç sektöründe pazar yapısında değişim nereye?\n Eczanelerimiz Dünyadaki Eczacılık Uygulamalarının Hangi Evresinde?\n Meslek Örgütleri ne yapıyor? Ne yapmalı?\n Kimlerle nasıl rekabet içindeyiz? Nasıl rekabet edebiliriz?
URL:https://eczacilarburada.com/program/yrd-doc-dr-bulent-kiran-eczacilikta-gelecek-trendleri/
CATEGORIES:E-Buluşmalar
ATTACH;FMTTYPE=image/png:https://eczacilarburada.com/wp-content/uploads/2025/04/231588_etkinlikresmi.png
END:VEVENT
END:VCALENDAR