BEGIN:VCALENDAR
VERSION:2.0
PRODID:-//Eczacılar Burada - ECPv6.11.2.1//NONSGML v1.0//EN
CALSCALE:GREGORIAN
METHOD:PUBLISH
X-ORIGINAL-URL:https://eczacilarburada.com
X-WR-CALDESC:Eczacılar Burada için etkinlikler
REFRESH-INTERVAL;VALUE=DURATION:PT1H
X-Robots-Tag:noindex
X-PUBLISHED-TTL:PT1H
BEGIN:VTIMEZONE
TZID:Europe/Istanbul
BEGIN:STANDARD
TZOFFSETFROM:+0300
TZOFFSETTO:+0300
TZNAME:+03
DTSTART:20240101T000000
END:STANDARD
END:VTIMEZONE
BEGIN:VEVENT
DTSTART;TZID=Europe/Istanbul:20240605T203000
DTEND;TZID=Europe/Istanbul:20240605T223000
DTSTAMP:20260426T070347
CREATED:20250419T220834Z
LAST-MODIFIED:20250419T220834Z
UID:10000223-1717619400-1717626600@eczacilarburada.com
SUMMARY:İşe Alımlarda Adayın Potansiyelinin Ortaya Çıkarılması
DESCRIPTION:Şirketlerde işe alımlarda nasıl ön plana çıkılacağını\, potansiyelin nasıl ortaya çıkacağı hakkındaki webinarda buluşmak için sizi de 5 Haziran Çarşamba günü saat 20.30’da aramıza bekliyoruz.\n\nModeratör: Ecz. Ahmet Turhaner – Eczacılar Burada Platformu Kurucusu \nDerya Kurtkale kimdir?\n1974 yılında doğmuştur ve İstanbul Üniversitesi Biyoloji bölümü mezunudur. Meslek hayatına üniversite eğitimi sırasında tıbbi cihaz sektöründe başlamıştır ve takip eden 24 yıl boyunca ilaç sektöründe devam etmiştir. Lundbeck İlaç’taki 23 yıllık süreçte insan kaynakları öncesinde satış ve eğitim departmanlarında görev almıştır. Son 12 yıldır İnsan ve Organizasyon departmanından sorumlu olarak insan kaynakları\, kurumsal iletişim\, idari operasyonlar ve iç ve dış müşteri toplantı organizasyonları iş süreçlerini yönetmektedir.
URL:https://eczacilarburada.com/program/ise-alimlarda-adayin-potansiyelinin-ortaya-cikarilmasi/
CATEGORIES:E-Buluşmalar
ATTACH;FMTTYPE=image/png:https://eczacilarburada.com/wp-content/uploads/2025/04/IMG_0862.png
END:VEVENT
END:VCALENDAR