BEGIN:VCALENDAR
VERSION:2.0
PRODID:-//Eczacılar Burada - ECPv6.11.2.1//NONSGML v1.0//EN
CALSCALE:GREGORIAN
METHOD:PUBLISH
X-WR-CALNAME:Eczacılar Burada
X-ORIGINAL-URL:https://eczacilarburada.com
X-WR-CALDESC:Eczacılar Burada için etkinlikler
REFRESH-INTERVAL;VALUE=DURATION:PT1H
X-Robots-Tag:noindex
X-PUBLISHED-TTL:PT1H
BEGIN:VTIMEZONE
TZID:Europe/Istanbul
BEGIN:STANDARD
TZOFFSETFROM:+0300
TZOFFSETTO:+0300
TZNAME:+03
DTSTART:20240101T000000
END:STANDARD
END:VTIMEZONE
BEGIN:VEVENT
DTSTART;TZID=Europe/Istanbul:20240727T203000
DTEND;TZID=Europe/Istanbul:20240727T223000
DTSTAMP:20260426T052504
CREATED:20250419T220330Z
LAST-MODIFIED:20250419T220336Z
UID:10000125-1722112200-1722119400@eczacilarburada.com
SUMMARY:Eczacılığa Adım Adım : Öğrenciden Profesyonele Uzanan Yol
DESCRIPTION:27 Temmuz Cumartesi Akşamı saat 20:30’da Azad Turan ve Ömerül Faruk Tavlı ile Büşra Taneli moderatörlüğünde tercih dönemi\, eczacılık fakültesi\, mezuniyet sonrası\, akademisyen ve öğrenci bakış açısı konularında online bir seminer gerçekleştireceğiz. \n\n\nİlgilenen herkesi bekliyoruz!
URL:https://eczacilarburada.com/program/eczaciliga-adim-adim-ogrenciden-profesyonele-uzanan-yol/
CATEGORIES:E-Buluşmalar
END:VEVENT
END:VCALENDAR