BEGIN:VCALENDAR
VERSION:2.0
PRODID:-//Eczacılar Burada - ECPv6.11.2.1//NONSGML v1.0//EN
CALSCALE:GREGORIAN
METHOD:PUBLISH
X-ORIGINAL-URL:https://eczacilarburada.com
X-WR-CALDESC:Eczacılar Burada için etkinlikler
REFRESH-INTERVAL;VALUE=DURATION:PT1H
X-Robots-Tag:noindex
X-PUBLISHED-TTL:PT1H
BEGIN:VTIMEZONE
TZID:Europe/Istanbul
BEGIN:STANDARD
TZOFFSETFROM:+0300
TZOFFSETTO:+0300
TZNAME:+03
DTSTART:20240101T000000
END:STANDARD
END:VTIMEZONE
BEGIN:VEVENT
DTSTART;TZID=Europe/Istanbul:20240807T203000
DTEND;TZID=Europe/Istanbul:20240807T223000
DTSTAMP:20260426T035256
CREATED:20250419T220330Z
LAST-MODIFIED:20250419T220338Z
UID:10000126-1723062600-1723069800@eczacilarburada.com
SUMMARY:Yaz Güneşi: İçeriği Doğru Oku
DESCRIPTION:7 Ağustos Çarşamba Akşamı saat 20:30’da Ecz.Rumeysa Uzak’ın konuşmacı olarak yer alacağı etkinliğimiz\, Göksu Sinangil moderatörlüğünde ilerleyecektir. Yaz Dönemi Cilt Bakım Tavsiyeleri\,ürün içerikleri\,güneş kremleri\,doğru cilt bakımı konularında online bir seminer gerçekleştireceğiz.İlgilenen herkesi etkinliğimize bekliyoruz! \n\n\n\nProgram Akışı\n\n\n\n\nMevzuat ve formülasyon prensiplerine göre ideal bir güneş koruyucu ürün nasıl olmalıdır?\n\n\n\n\n\nGüneşin yararlı etkileri\n\n\n\n\n\nUVA \, UVB \, UVC nedir?\n\n\n\n\n\nSPF nedir?\n\n\n\n\n\nSPF analiz değerlendirme testleri nasıl yorumlanmalıdır?(TİTCK Güneş koruyucu kılavuzuna göre)\n\n\n\n\n\nGüneşten koruyan filtreler nelerdir?\n\n\n\n\nEcz. Rumeysa Uzak kimdir?\n\n\n\n \n\n\n\nİstanbul Üniversitesi Eczacılık Fakültesi mezunudur. Lisansüstü derecesini farmasötik teknoloji alanında almıştır. İspanya Santiago de Compostela Üniversitesi’ne bağlı dermokozmetik enstitüsünde formülasyon geliştirme ekibinde yer almaktadır. Doğru ve etkin kozmetik ürün formülasyonları oluşturmak\, kozmetikte inovasyon sağlamak\, markalara formül danışmanlığı yapmak amacıyla “Ruvio Formül Evi” formül danışmanlık şirketini kurdu. Aynı zamanda kozmetik ürünlerde güvenlik değerlendirme uzmanıdır. Karlova Üniversitesi Teknoloji Transfer Merkezi’nin organize ettiği uluslararası inovatif fikir yarışmasında formülasyonda arttırılmış gerçeklik vurgusuyla hazırladığı projesi derece elde etmiştir. Üzerinde çalıştığı ve Türkiye’de ilk olan inovatif kapsamlı formülasyonu Teaneck\, New Jersey\, İstanbul\, Maputo\, Mozambik\, Hollanda gibi ülkelerde satışa sunulmak üzere faaliyete geçmeye hazırlanıyor. “Akılcı Kozmetik Ürünler” kavramını gündeme alarak bu konuda atölyelere\, eğitimlere ve seminerlere öncülük etmiştir. Yurtiçi ve yurtdışı kozmetik eğitimlere ve fuarlara katılmıştır. Ayrıca 2021 yılında açtığı Rumeysa eczanesinin sahibidir.
URL:https://eczacilarburada.com/program/yaz-gunesi-icerigi-dogru-oku/
CATEGORIES:E-Buluşmalar
ATTACH;FMTTYPE=image/png:https://eczacilarburada.com/wp-content/uploads/2025/04/235546_672622d52eb0f_etkinlikresmi-3.png
END:VEVENT
END:VCALENDAR