BEGIN:VCALENDAR
VERSION:2.0
PRODID:-//Eczacılar Burada - ECPv6.11.2.1//NONSGML v1.0//EN
CALSCALE:GREGORIAN
METHOD:PUBLISH
X-ORIGINAL-URL:https://eczacilarburada.com
X-WR-CALDESC:Eczacılar Burada için etkinlikler
REFRESH-INTERVAL;VALUE=DURATION:PT1H
X-Robots-Tag:noindex
X-PUBLISHED-TTL:PT1H
BEGIN:VTIMEZONE
TZID:Europe/Istanbul
BEGIN:STANDARD
TZOFFSETFROM:+0300
TZOFFSETTO:+0300
TZNAME:+03
DTSTART:20240101T000000
END:STANDARD
END:VTIMEZONE
BEGIN:VEVENT
DTSTART;TZID=Europe/Istanbul:20241030T203000
DTEND;TZID=Europe/Istanbul:20241030T223000
DTSTAMP:20260425T214418
CREATED:20250419T220445Z
LAST-MODIFIED:20250419T220500Z
UID:10000136-1730320200-1730327400@eczacilarburada.com
SUMMARY:Dünyayı Değiştiren Bitkiler
DESCRIPTION:Eczacılar Burada’nın her hafta Çarşamba günleri düzenlediği e-buluşmalar serisinin sıradaki konuğu\, Prof. Dr. Afife Mat…Bitkilerin sağlık ve yaşam üzerindeki etkilerini merak edenler için kaçırılmayacak bir fırsat. \n\n\n\n  Konu Başlığı: “Dünyayı Değiştiren Bitkiler”Bu interaktif oturumda\, Prof. Dr. Mat\, bitkilerin tarihsel ve modern tıptaki rollerini\, insan sağlığına katkılarını ve sürdürülebilirlik konularını derinlemesine ele alacak. \n\n\n\n  Tarih: 30 Ekim Çarşamba⏰ Saat: 20:30  Platform: Zoom (Katılım ücretsiz!) \n\n\n\nBu seminer\, bitkilerin gücünü anlamak ve eczacılıkla ilgili yeni bilgiler edinmek isteyen herkes için mükemmel bir fırsat! \n\n\n\nBitkilerden ilaçlara giden serüvenleri merak ediyorsanız bu fırsatı kaçırmayın!
URL:https://eczacilarburada.com/program/dunyayi-degistiren-bitkiler/
CATEGORIES:E-Buluşmalar
ATTACH;FMTTYPE=image/png:https://eczacilarburada.com/wp-content/uploads/2025/04/Copy-of-Copy-of-Minimal-Photocentric-Productivity-Blog-Banner-3-1-2.png
END:VEVENT
END:VCALENDAR