BEGIN:VCALENDAR
VERSION:2.0
PRODID:-//Eczacılar Burada - ECPv6.11.2.1//NONSGML v1.0//EN
CALSCALE:GREGORIAN
METHOD:PUBLISH
X-ORIGINAL-URL:https://eczacilarburada.com
X-WR-CALDESC:Eczacılar Burada için etkinlikler
REFRESH-INTERVAL;VALUE=DURATION:PT1H
X-Robots-Tag:noindex
X-PUBLISHED-TTL:PT1H
BEGIN:VTIMEZONE
TZID:Europe/Istanbul
BEGIN:STANDARD
TZOFFSETFROM:+0300
TZOFFSETTO:+0300
TZNAME:+03
DTSTART:20240101T000000
END:STANDARD
END:VTIMEZONE
BEGIN:VEVENT
DTSTART;TZID=Europe/Istanbul:20241204T203000
DTEND;TZID=Europe/Istanbul:20241204T223000
DTSTAMP:20260425T183341
CREATED:20250419T220859Z
LAST-MODIFIED:20250419T220859Z
UID:10000231-1733344200-1733351400@eczacilarburada.com
SUMMARY:Dünyada İlaç Endüstrisi: Klinik Araştırmalarda Eczacılığın Yeri
DESCRIPTION:Eczacılar Burada’nın her hafta Çarşamba günleri düzenlediği e-buluşmalar serisinin sıradaki konuğu\, Ecz. Kader Kızıl…Klinik araştırmalarda eczacılığın yerini merak edenler için kaçırılmayacak bir fırsat! \n\n\n\n  Konu Başlığı: “Doğanın Enerjisi: Aromaterapi”Bu interaktif oturumda\, Ecz. Kızıl\, dünyada ilaç endüstrisini ve klinik araştırmalarda eczacılığın nasıl rol aldığını derinlemesine ele alacak. \n\n\n\n  Tarih: 4 Aralık Çarşamba⏰ Saat: 20:30  Platform: Zoom (Katılım ücretsiz!) \n\n\n\nBu seminer\, klinik araştırma detaylarını anlamak ve eczacılıkla ilgili yeni bilgiler edinmek isteyen herkes için mükemmel bir fırsat! \n\n\n\nSiz de klinik araştırmaları merak ediyorsanız bu fırsatı kaçırmayın!
URL:https://eczacilarburada.com/program/dunyada-ilac-endustrisi-klinik-arastirmalarda-eczaciligin-yeri/
CATEGORIES:E-Buluşmalar
ATTACH;FMTTYPE=image/png:https://eczacilarburada.com/wp-content/uploads/2025/04/244953_6749a38f40ee9_etkinlikresmi.png
END:VEVENT
END:VCALENDAR