BEGIN:VCALENDAR
VERSION:2.0
PRODID:-//Eczacılar Burada - ECPv6.11.2.1//NONSGML v1.0//EN
CALSCALE:GREGORIAN
METHOD:PUBLISH
X-ORIGINAL-URL:https://eczacilarburada.com
X-WR-CALDESC:Eczacılar Burada için etkinlikler
REFRESH-INTERVAL;VALUE=DURATION:PT1H
X-Robots-Tag:noindex
X-PUBLISHED-TTL:PT1H
BEGIN:VTIMEZONE
TZID:Europe/Istanbul
BEGIN:STANDARD
TZOFFSETFROM:+0300
TZOFFSETTO:+0300
TZNAME:+03
DTSTART:20250101T000000
END:STANDARD
END:VTIMEZONE
BEGIN:VEVENT
DTSTART;TZID=Europe/Istanbul:20250917T203000
DTEND;TZID=Europe/Istanbul:20250917T203000
DTSTAMP:20260425T040623
CREATED:20250906T113838Z
LAST-MODIFIED:20250906T115233Z
UID:10000036-1758141000-1758141000@eczacilarburada.com
SUMMARY:Sağlıklı Deri ve Cilt Tipleri
DESCRIPTION:Eczaneler\, yalnızca ilaç temini yapılan noktalar değil; aynı zamanda bireylerin en sık danıştığı ilk sağlık merkezleridir. Deri sağlığı ve cilt tiplerinin doğru tanımlanması da eczane danışmanlığının en önemli alanlarından biridir. \nBu özel programda\, Acıbadem Üniversitesi Eczacılık Fakültesi’nden Dr. Öğr. Üyesi Yasemin Yağan Uzuner\, eczane eczacılarına yönelik olarak “sağlıklı deri” kavramını\, cilt tiplerini ve günlük pratikte karşılaşılan danışmanlık noktalarını ele alacak. \nKatılımcılar; \n\nSağlıklı deri yapısının temel özelliklerini ve cildin fizyolojisini öğrenecek\,\nCilt tiplerini doğru sınıflandırmayı ve danışanlara uygun ürün önerileri yapabilmeyi keşfedecek\,\nEn sık rastlanan yanlış uygulamaları ve bunların önlenmesine yönelik ipuçlarını edinecek\,\nDermokozmetik ve bakım ürünleri danışmanlığında bilimsel bakış açısını nasıl geliştireceklerini görecekler.\n\n  \nKimler Katılmalı?\nEczanelerinde dermokozmetik danışmanlığı güçlendirmek isteyen\, cilt sağlığı konusunda danışanlarına daha bilinçli rehberlik sunmak isteyen tüm eczane eczacıları bu webinardan büyük fayda sağlayacak. \n  \nKatılım ücretsizdir\, kayıt gereklidir. \nEtkinlik sertifikalıdır. \nModeratör: Aleyna Açar- İznal Özer
URL:https://eczacilarburada.com/program/saglikli-deri-ve-cilt-tipleri/
CATEGORIES:E-Buluşmalar
ATTACH;FMTTYPE=image/jpeg:https://eczacilarburada.com/wp-content/uploads/2025/09/Sagliikli-Deri-ve-Cilt-Tipleri.jpg
END:VEVENT
END:VCALENDAR