BEGIN:VCALENDAR
VERSION:2.0
PRODID:-//Eczacılar Burada - ECPv6.11.2.1//NONSGML v1.0//EN
CALSCALE:GREGORIAN
METHOD:PUBLISH
X-ORIGINAL-URL:https://eczacilarburada.com
X-WR-CALDESC:Eczacılar Burada için etkinlikler
REFRESH-INTERVAL;VALUE=DURATION:PT1H
X-Robots-Tag:noindex
X-PUBLISHED-TTL:PT1H
BEGIN:VTIMEZONE
TZID:Europe/Istanbul
BEGIN:STANDARD
TZOFFSETFROM:+0300
TZOFFSETTO:+0300
TZNAME:+03
DTSTART:20250101T000000
END:STANDARD
END:VTIMEZONE
BEGIN:VEVENT
DTSTART;TZID=Europe/Istanbul:20251001T203000
DTEND;TZID=Europe/Istanbul:20251001T203000
DTSTAMP:20260425T022357
CREATED:20250926T080049Z
LAST-MODIFIED:20251006T183159Z
UID:10000039-1759350600-1759350600@eczacilarburada.com
SUMMARY:Majistral Eczacılıkta Yapay Zeka
DESCRIPTION:Majistral eczacılık\, eczacının bilgi birikimi ve yetkinliğini doğrudan yansıtan en özel uygulama alanlarından biridir. Günümüzde ise yapay zekâ teknolojileri\, majistral ilaç hazırlama süreçlerine yeni bir bakış açısı kazandırıyor. \n\n\n\nBu webinarda\, “Majistral Eczacılıkta Yapay Zeka” konusu ele alınacak ve eczane pratiğinde yapay zekâdan nasıl faydalanılabileceği tartışılacak. \n\n\n\nKatılımcılar; \n\n\n\n\nYapay zekânın majistral ilaç formülasyonlarında nasıl kullanılabileceğini\,\n\n\n\nDoz hesaplama\, formül optimizasyonu ve hata önleme süreçlerinde sunabileceği katkıları\,\n\n\n\nKlinik veriler ve farmakopelerle entegrasyon imkânlarını\,\n\n\n\nGelecekte majistral eczacılığın dijital dönüşümünde eczacının rolünü öğrenecekler.\n\n\n\n\nBu oturum\, eczane eczacılarının yalnızca bugünün değil\, geleceğin mesleki pratiklerine hazırlanmasına destek olacak. \n\n\n\nKimler Katılmalı? \n\n\n\n\nMajistral uygulamalarla ilgilenen tüm eczane eczacıları\n\n\n\nDijital dönüşüm ve yapay zekânın eczacılığa etkilerini merak eden meslektaşlarımız\n\n\n\nMesleğin geleceğine yatırım yapmak isteyen genç eczacılar\n\n\n\n\nModeratörler: Ecz. Ahmet Turhaner – Aleyna Açar \n\n\n\nKatılım ücretsizdir\, kayıt gereklidir. \n\n\n\nSertifikalıdır. \n\n\n\nUzm. Ecz. Ahmet Nezihi Pekcan Kimdir?\n\n\n\nUzm. Ecz. Ahmet Nezihi Pekcan\, 22 Temmuz 1961’de Ankara’da doğdu. 1981 yılında Gazi Üniversitesi Eczacılık Fakültesi’nden mezun olduktan sonra mesleğe Konya’da açtığı Pekcan Eczanesi’nde başladı. Konya Eczacı Odası’nda çeşitli görevler üstlendi; Haysiyet Divanı Başkanlığı\, Denetleme Kurulu Başkanlığı\, Yönetim Kurulu üyeliği ve TEB Büyük Kongre Delegeliği yaptı. \n\n\n\n2014’te Yeditepe Üniversitesi Homeopati Programı’nı\, 2018’de ise Medipol Üniversitesi Klinik Eczacılık yüksek lisansını tamamlayarak uzmanlık diploması aldı. Türk Farmakopesi Çalışma Grubu üyesi\, Majistral Eczacıları Derneği’nin kurucu üyesi ve Yönetim Kurulu Başkanı’dır. Aynı zamanda Lokman Hekim Üniversitesi Eczacılık Fakültesi’nde misafir öğretim görevlisi ve Farmazi Akademi’de eğitmendir.
URL:https://eczacilarburada.com/program/majistral-eczacilikta-yapay-zeka/
CATEGORIES:E-Buluşmalar
ATTACH;FMTTYPE=image/jpeg:https://eczacilarburada.com/wp-content/uploads/2025/09/Majistral-Eczacilikta-Yapay-Zeka.jpg
END:VEVENT
END:VCALENDAR