BEGIN:VCALENDAR
VERSION:2.0
PRODID:-//Eczacılar Burada - ECPv6.11.2.1//NONSGML v1.0//EN
CALSCALE:GREGORIAN
METHOD:PUBLISH
X-ORIGINAL-URL:https://eczacilarburada.com
X-WR-CALDESC:Eczacılar Burada için etkinlikler
REFRESH-INTERVAL;VALUE=DURATION:PT1H
X-Robots-Tag:noindex
X-PUBLISHED-TTL:PT1H
BEGIN:VTIMEZONE
TZID:Europe/Istanbul
BEGIN:STANDARD
TZOFFSETFROM:+0300
TZOFFSETTO:+0300
TZNAME:+03
DTSTART:20260101T000000
END:STANDARD
END:VTIMEZONE
BEGIN:VEVENT
DTSTART;TZID=Europe/Istanbul:20260114T203000
DTEND;TZID=Europe/Istanbul:20260114T220000
DTSTAMP:20260424T210941
CREATED:20260209T130032Z
LAST-MODIFIED:20260209T130032Z
UID:10000085-1768422600-1768428000@eczacilarburada.com
SUMMARY:Rakamlarla Eczaneye Bakmak: Nerede Kaybediyoruz\, Nereden Başlamalıyız?
DESCRIPTION:Rakamlarla Eczane Yönetimi\, eczane eczacılarının finansal okuryazarlığını artırmayı\, işletmelerini daha sürdürülebilir ve kontrollü şekilde yönetmelerini hedefleyen 8 oturumluk bir webinar serisidir. Seri boyunca eczane işletmeciliği; bilanço\, kârlılık\, stok\, personel\, depo ilişkileri ve yasal mali yükümlülükler çerçevesinde ele alınacaktır. \nNeler öğreneceksiniz?\n\nEczane bilançosunu ve gelir tablosunu temel düzeyde okuyabilecek\nKarlılık–ciro–masraf dengesini yorumlayabilecek\nStok ve depo ilişkilerini daha bilinçli yönetecek\nMali müşavirle daha etkin iletişim kurabilecek\nMASAK\, VEDAS ve beyannameler konusunda farkındalık kazanacak\nEczanesini “içgüdüyle” değil veriyle yönetmeye başlayacak\n\nKimler katılmalı?\n\nSerbest eczacı olarak çalışanlar\nEczane açmayı planlayan genç eczacılar\n“Çok çalışıyorum ama kazancımı göremiyorum” diyenler\nMali müşaviriyle aynı dili konuşmak isteyen eczacılar\nEczanesini büyütmek veya daha sağlıklı yönetmek isteyenler
URL:https://eczacilarburada.com/program/rakamlarla-eczaneye-bakmak-nerede-kaybediyoruz-nereden-baslamaliyiz/
CATEGORIES:E-Buluşmalar
ATTACH;FMTTYPE=image/jpeg:https://eczacilarburada.com/wp-content/uploads/2026/02/program-banner-14-Ocak2.jpg
END:VEVENT
END:VCALENDAR