BEGIN:VCALENDAR
VERSION:2.0
PRODID:-//Eczacılar Burada - ECPv6.11.2.1//NONSGML v1.0//EN
CALSCALE:GREGORIAN
METHOD:PUBLISH
X-ORIGINAL-URL:https://eczacilarburada.com
X-WR-CALDESC:Eczacılar Burada için etkinlikler
REFRESH-INTERVAL;VALUE=DURATION:PT1H
X-Robots-Tag:noindex
X-PUBLISHED-TTL:PT1H
BEGIN:VTIMEZONE
TZID:Europe/Istanbul
BEGIN:STANDARD
TZOFFSETFROM:+0300
TZOFFSETTO:+0300
TZNAME:+03
DTSTART:20260101T000000
END:STANDARD
END:VTIMEZONE
BEGIN:VEVENT
DTSTART;TZID=Europe/Istanbul:20260511T093000
DTEND;TZID=Europe/Istanbul:20260522T133000
DTSTAMP:20260424T192231
CREATED:20260415T144646Z
LAST-MODIFIED:20260417T092331Z
UID:10000288-1778491800-1779456600@eczacilarburada.com
SUMMARY:Yeni Nesil Eczaneye\, Yeni Nesil Teknisyen!!!
DESCRIPTION:Bu eğitim; eczane teknisyenlerine özel olarak\, sahip oldukları temel bilgi\, yeti ve kabiliyetleri göz önüne alınarak hazırlanmıştır. Eğitim; eczane teknisyenlerinin eczanedeki rollerini ve etkinliklerini güçlendirmek\, eczacıya sundukları desteği ve iş birliğini arttırarak ve eczaneleri daha verimli hale getirerek bu alandaki sağlık hizmeti kalitesinin yükseltilmesine odaklanmıştır. Bu özgün eğitim içeriğiyle buluşmak üzere tüm gelişime açık eczane teknisyenlerimizi bekliyoruz. \nAmaç ve Hedefler:\nBu programın amacı\, teknisyenlerin; \n\nSahip oldukları potansiyelin geliştirilmesi\nMesleki özgüvenlerinin desteklenmesi\nEczanedeki etkinliklerinin güçlendirilmesi\nEczane teknisyenlerinin eczacıya verdikleri desteğin güçlendirilmesi ve eczacının mesleki yetkinliklerini daha etkin kullanabilmesi\nEczanede iş verimliliğinin arttırılması ve eczane hizmet kalitesine katma değer sağlayacak yetkinlikler kazandırılmasıdır.\nEczanelerde giderek artan ilaç ve ilaç dışı ürün portföyünü etkili şekilde tanıması\,\nHasta/müşteri ihtiyaçlarını doğru analiz edebilmesi\,\nEtik satış ve iletişim becerilerini geliştirmesi\,\n\nNeler Öğrenecek\, Neler Göreceksiniz?\n\nEtkili iletişim ve mesleki danışmanlık ekseninde ikna becerileri\nHasta profiline göre doğru yaklaşım ve ürün tercihinde ideal rehberlik.\nSatış ve danışmanlık ile eczacı ve eczacı teknisyeni arasındaki rol ve dengeyi yönetmek\nİlaç ve ilaç dışı ürünlerde doğru gruplandırma\, sınıflandırma ve kategorizasyon\nRaf ve kategori yönetimi: görsel düzen\, stok kontrolü\, çapraz satış\nFitoterapötikler\, Dermokozmetik\, Medikal cihazlar\, Gıda Takviyeleri vb tüm öncelikli eczane ürünleri üzerinden temel bilgilendirme ve tanıtım teknikleri.\nEczanede kullanılan teknolojiler\, yazılımlar ve bunların etkin kullanımı.\nStok yönetimi ve operasyonel verimliliğin arttırılması.\nUygulamalı vaka çalışmaları\, rol canlandırmaları ve workshoplar.\n\nKimler Katılmalı?\n\nAktif olarak eczanede çalışan ya da çalışmak isteyen teknisyenler\nİlaç dışı ürünlerde uzmanlaşmak isteyen eczane personeli\nYeni mezun veya mesleğe hazırlanan sağlık meslek lisesi / MYO öğrencileri\nEczane yöneticileri tarafından desteklenen gelişim odaklı ekip üyeleri\n\nEğiitim Bilgileri\nTarih: Mayıs 2026 (11-12-13-14-15 / 18-20-21-22) hafta içi saat 09.30 ile 13.30 arasında\nGünde 4 saat – Toplam 2 hafta / 10 gün – Toplam 36 saat \nEğitim formatı: Online \nÜcret: 13.500 TL (Eğitim materyalleri\, vaka kartları\, katılım belgesi ve uygulama araçları dahildir.)\nÖğrencilere %30 indirim. \nKatılım: Sertifikalı / kontenjanla sınırlı\nSertifika için sınav ve devam zorunlu olacaktır. \nPROGRAM\n\nTemel Eczane Bilgisi ve Sağlık Terminolojisi (TOPLAM 8 SAAT)\n\nTıbbi Temel Terminoloji\nİnsan Biyolojisi\, Fizyoloji & Histoloji ve Sık Görülen Sağlık Sorunları ve Sağlık İstatistikleri\nFarmakoloji\n\nTemel Prensipler\nİlaç bilgisi\nEn sık reçete edilen ilaçlar ve endikasyonları\nTeşhis tanı uyumu\nSUT ile ilgili bilinmesi gerekenler\n\nSUT temel mantığı nedir? Neden SUT’ta güncellemeler ve değişiklikler yapılır?\nSUT’u doğru okumak ve doğru anlamak\n\n\n\n\nEczane Mevzuatı – Meslek Etiği ve İşletme Kültürü\n\nMevzuat ile ilgili Genel Bilgiler\n\nEczane çalışanlarının hak ve sorumlulukları\nHasta hakları ve mesleki sınırlar\nOTC ürün danışmanlığı kapsamı\n\n\nTemel mesleki etik değerler\nİşletme kimliği-İşletme kültürü\n\n\n\n\nBilgi Teknolojileri ve Dijital Uygulamalar (TOPLAM 4 SAAT) \n\nEczane Otomasyon programları/sistemleri\n\nneye hizmet eder\nmantığı nedir\neczane işleyişinde nasıl işimizi kolaylaştırır ve verimi artırır\neczanede kullanmamız gereken yazılımlar ve teknolojik cihazlar\n\n\nEczane yazılımı üzerinden stok ve ürün takibi\nHasta kartları / sadakat sistemleri\nKampanya yönetimi ve CRM uygulamaları\nSosyal medya ve dijital satış farkındalığı\nTekno Tanıtım ve Dijital Workshop\n\n\n İlaç ve İlaç Dışı Ürünler- Ürün Bilgisi ve Eczane İçi Süreç Yönetimi (TOPLAM 12 SAAT)\n\nİlacın Kısa Serüveni: Laboratuardan Hastaya\nFarmakoterapi Süreci ve İlaçların Tedavideki Rolü\nİlaç Dışı Ürünlerin Destekleyici Rolleri ve Sağlığa Katkıları\nEczanede ilaç dışı ürünlerin hasta bakımındaki rolü\nİlaç dışı ürünlerin destekleyici özelliklerinin ortaya çıkması için ilaç ve reçetelerle ilişkilendirme\, eşleştirme\, (etkileşimler\, en sık karşılaşılanlar)\nKategorizasyon: doğru kategorizasyon mantığı\n\nOTC ürünleri ve eczanedeki konumlandırması\, sunumu\, doğru kullanımı)\n\nTakviye edici gıdalarla ilgili tanıtım ve sponsorluk opsiyonları\n\n\nKozmetik ve kişisel hijyen (Kişisel bakım ürünleri ve eczanedeki konumlandırması\, sunumu\, doğru kullanımı)\nMedikal Ürünler (Tıbbi sarf malzemeleri ve Tıbbi cihaz bilgisi\, temel özellikleri\, çalışma mantığı\, potansiyel sorunlar ve çözümleri)\n\nTıbbi cihazlar\, medikal ürünler ve tıbbi/kişisel bakım ürünleri tanıtımı ile ilgili sponsorluk opsiyonları\n\n\n\n\nOlumsuz geri dönüşlerde süreç yönetimi\nDanışmanlık ve satış arasındaki çizgi\nFonksiyonel Ürün Gruplarına Göre Detaylı Bilgilendirme\n\nFitoterapi ve Nutrasötikler \n\nTakviye edici gıdalar: vitamin\, mineral\, probiyotik\nBitkisel çaylar\, şuruplar\, topikal ürünler\nKullanım alanları – etki\, doz\, etkileşim\n\n\nDermokozmetik Ürün Bilgisi \n\nCilt tipine uygun ürün seçimi\nAkne\, atopik dermatit\, yaşlanma karşıtı ürün grupları\nMarkalar arası farkları anlama\n\n\nBebek Ürünleri \n\nMama\, emzik\, pişik kremi\, bebek şampuanları\nAileye bilgilendirme ve yönlendirme\n\n\nMedikal Ürünler ve Cihazlar \n\nTansiyon aleti\, glukometre\, ortopedik destekler\nKullanım talimatları\, satış sonrası destek\n\n\nKişisel Bakım ve Hijyen Ürünleri Bilgisi \n\nAğız bakım\, saç bakım\, genital hijyen ürünleri\nHijyen ürünlerinde doğru bilgilendirme\n\n\n\n\n\n\nEczane İşletmeciliğinde Teknisyenin Rolü ve Operasyonel Katkıları (Toplam 4 saat) \n\nSipariş çıkarma ve satın alma yönetimi. Püf noktalar\, stratejik ve taktiksel yaklaşımlar\nEczanede Verimliliği ve Karlılığı arttıran faaliyetlerde Eczane Teknisyeni\n\nStok yönetimi\nSatın Alma Yönetimi ve Operasyonu (Püf noktalar\, stratejik ve taktiksel yaklaşımlar)\nPazarlık\, ek bütçe\, iskonto\, promosyonlar\nFirma siparişleri\nLokal eczanelerle iletişim\nİnisiyatif alma kullanma (kritik hususlar\, püf noktalar)\nKarlılık\, verimlilik\, etkinlik ve müşteri memnuniyetini arttıran şifreler\nHijyen kuralları\, genel temizlik\, uygulamalarında dikkat edilmesi gerekenler\nİtibar yönetimi eczanenin imajı (Eczanenin imajını çalışanları belirler\nİmaj bir fotoğraf karesi değildir\, davranışlar ve tutum esastır\n\n\n\n\nGörsel Düzen ve Raf Yönetimi (Merchandising) (Toplam 4 saat) \n\nKategorilere göre raf düzeni: göz hizası\, çapraz satış\nEtiketleme ve fiyatlandırma\nStok kontrolü\, miad kontrolü\nKampanya ürünlerinin konumlandırılması\nEczanede tema/kampanya günleri tasarımı\n\n\nEczanede Etkili İletişim\, Doğru Davranış Biçimleri ve Etik Satış Becerileri (Toplam 4 saat) \n\nHasta / müşteri davranışlarını anlama\nİkna edici ve etik iletişim teknikleri\nÜrün sunumunda ihtiyaç analizi\nSatışta aktif dinleme ve soru sorma\nZor hasta/müşteri ile iletişim\nEczane teknisyenliği için iletişim kanalları ve kodları\n\nEczane teknisyeni; eczane teknisyenleri\nEczane teknisyeni; hasta\nEczane teknisyeni; müşteri\,\nEczane teknisyeni; eczacı\nEczane teknisyeni; tıbbi mümessil\nEczane teknisyeni; resmi kurum yetkilisi\nEczane teknisyeni; doktor\nEczane teknisyeni; ecza deposu çalışanları;\n(sevkiyat personeli\, plasiyer (telefoncu)\, bölge müdürü\, muhasebe\, satış / satın alma müdürü ..)
URL:https://eczacilarburada.com/program/yeni-nesil-eczaneye-yeni-nesil-teknisyen/
CATEGORIES:Eğitimler
ATTACH;FMTTYPE=image/jpeg:https://eczacilarburada.com/wp-content/uploads/2026/04/egitim-banner-yeni-nesil.jpg
END:VEVENT
BEGIN:VEVENT
DTSTART;TZID=Europe/Istanbul:20260520T200000
DTEND;TZID=Europe/Istanbul:20260521T220000
DTSTAMP:20260424T192232
CREATED:20260313T103710Z
LAST-MODIFIED:20260329T071355Z
UID:10000096-1779307200-1779400800@eczacilarburada.com
SUMMARY:Eczane ve Hukuk Seminerleri
DESCRIPTION:Eczacılık mesleği\, yalnızca sağlık bilgisi değil; yüksek düzeyde hukuki sorumluluk da taşır. Eczanede yapılan pek çok işlem\, fark edilmeden idari\, cezai ve mali riskler doğurabilir. \nEczanede Legal Konular seminerler serisi\, eczacıların günlük pratikte karşılaşabileceği hukuki riskleri önceden görmesini\, doğru pozisyon almasını ve haklarını bilerek hareket etmesini hedefleyen kapsamlı bir eğitim dizisidir. \nBu eğitim\, eczacıyı “sorun çıktığında” değil\, sorun çıkmadan önce güçlendirmeyi amaçlar. \nBu Eğitim Neden Gerekli?\nBugün eczacılar: \n\nSGK denetimleri\nhasta ve tüketici şikayetleri\nmesul müdürlük riskleri\npersonel uyuşmazlıkları\nKVKK ihlalleri\ndisiplin soruşturmaları gibi çok sayıda hukuki başlıkla karşı karşıyadır.\n\nAncak bu alanların çoğu: \n\neczacılık eğitiminde sınırlı yer alır\nkulaktan dolma bilgilerle yürütülür\n“bana bir şey olmaz” yaklaşımıyla ertelenir\n\nBu eğitim paketi\, eczacının hukuki kör noktalarını görünür kılar. \nEğitimin Amacı\n\nEczacının hukuki statüsünü netleştirmek\nGünlük eczane pratiğinde oluşabilecek riskleri önceden tanımlamak\nMevzuatı teorik değil\, pratik karşılıklarıyla aktarmak\nEczacının yalnızca yükümlülüklerini değil\, haklarını da öğretmek\n\nKimler Katılmalı?\n\nEczane sahibi eczacılar\nMesul müdürlük yapan eczacılar\nYardımcı ve ikinci eczacılar\nEczane açmayı planlayanlar\nEczane yöneten ekip liderleri\n\nProgram\n\nGÜN / Oturum (20 Mayıs 2026 Saat: 20:00-22:00)\n\nEczacının Hukuki Statüsü ve Mesleki Sorumluluğu\n\n6197 sayılı Kanun çerçevesinde eczacının konumu\nBirinci basamak sağlık hizmet sunucusu olarak eczanenin rolü\nKusur\, sorumluluk ve illiyet bağı\n\n\nEczanelerde Cezai Sorumluluk ve Güncel Yargı Kararları\n\nEczacının cezai sorumluluğunun sınırları\nReçete ve ilaç hatalarının ceza hukuku boyutu\nGüncel Yargıtay kararlarının sahaya etkisi\n\n\nMesul Müdürlük: Yetki\, Sorumluluk ve Riskler\n\nMesul müdür kimdir\, kim olabilir?\nEczane sahibi – mesul müdür ayrımı\nİdari\, hukuki ve mali sorumluluklar\nDiploma kullandırma riskleri\n\n\nİkinci Eczacı ve Yardımcı Eczacı Uygulamaları\n\nHukuki statü ve görev sınırları\nHizmet sözleşmeleri\nMesleki hata durumunda sorumluluk paylaşımı\n\n\n\n\nGÜN / Oturum (21 Mayıs 2026 Saat: 20:00-22:00)\n\nSGK Protokolleri ve Eczacının Yükümlülükleri\n\nSGK protokollerinin bağlayıcılığı\nUsulsüzlük iddiaları\nİdari ve cezai yaptırımlar\n\n\nİş Hukuku Açısından Eczane Sahipleri\n\nPersonel ile hukuki ilişki\nİş sözleşmeleri\, fesih ve tazminatlar\nEczane içi görev ilişkileri\n\n\nTüketici Hukuku ve Eczaneler\n\nHasta mı\, tüketici mi?\nAyıplı ürün ve yanlış bilgilendirme\nŞikayet ve dava süreçleri\n\n\nDisiplin Soruşturmaları ve Oda–İdare İlişkisi\n\nDisiplin cezalarının hukuki temeli\nOda\, İl Sağlık Müdürlüğü ve Bakanlık süreçleri\nİtiraz ve yargı yolları\n\n\nEczacının Hakları: Sadece Yükümlülükler Değil\n\nEczacının idareye ve SGK’ya karşı hakları\nHukuki korunma yolları\nBaşvuru ve itiraz mekanizmaları\n\n\n\n\n\nEğitim Ücreti\n\nEğitim Ücreti:  7.500\,- TL\nÖğrencilere %30 indirim\n\nKontenjan sınırlıdır. Katılım\, kayıt sırasına göre kesinleşir. \nEğitim Formatı\n\nOnline / Canlı\n\nNeler Öğreneceksiniz?\n\nHukuki riskleri önceden fark etme\nDenetim ve soruşturmalarda doğru pozisyon alma\nMesul müdürlük ve personel süreçlerini güvenle yürütme\n“Ne yapmam gerekir?” kadar\n“Ne yapmam gerekmez?” bilgisini kazanma
URL:https://eczacilarburada.com/program/eczane-ve-hukuk-seminerleri/
CATEGORIES:Seminerler
ATTACH;FMTTYPE=image/jpeg:https://eczacilarburada.com/wp-content/uploads/2025/04/egitim-banner-eczanevehukuk-mayis.jpg
END:VEVENT
BEGIN:VEVENT
DTSTART;TZID=Europe/Istanbul:20260521T203000
DTEND;TZID=Europe/Istanbul:20260521T220000
DTSTAMP:20260424T192232
CREATED:20260117T115215Z
LAST-MODIFIED:20260207T151156Z
UID:10000076-1779395400-1779400800@eczacilarburada.com
SUMMARY:Pozitif Değişim Yaratan
DESCRIPTION:Eczacılar Burada platformu\, eczacılık mesleğinin dönüşen rolünü anlamak\, güçlendirmek ve genişletmek amacıyla “Filmlerle 10 Yıldızlı Eczacı” başlıklı özel bir program düzenliyor. \nBu seminer dizisi\, Dünya Sağlık Örgütü’nün tanımladığı 10-Star Pharmacist modelinde yer alan temel yetkinlikleri sinemanın anlatı gücüyle bir araya getiriyor. Katılımcılar; her seminerde seçilmiş bir filmi birlikte izleyip çözümleyecek\, filmdeki karakter\, olay örgüsü ve çatışmalar üzerinden ilgili mesleki beceriyi derinlemesine değerlendirecek. \nProgram; eczacının yalnızca bir sağlık profesyoneli değil\, aynı zamanda bir iletişimci\, karar verici\, araştırmacı\, eğitmen\, girişimci ve değişim lideri olduğunu hatırlatan disiplinlerarası bir öğrenme deneyimi sunar. \nSeminerler kapsamında: \n\nWHO’nun her bir “yıldız”ı için sinema tarihinden özel bir film ele alınacak\,\nFilm analizleri mesleki yetkinlikler çerçevesinde yapılacak\,\nKatılımcılar; vaka analizi\, grup tartışması ve kısa yansıtma çalışmalarına dahil olacak\,\nAtölye sonunda tüm katılımcılara kişisel gelişim notları ve önerilen okuma/izleme listesi sağlanacaktır.\n\nBu program\, eczacılık mesleğine bütüncül bakış kazandırmak\, yeni dünyada eczacının konumunu yeniden tanımlamak ve mesleki farkındalığı güçlendirmek isteyen tüm meslektaşlarımıza açıktır. \n“10 yıldızlı eczacı” olma yolculuğuna sinemanın ışığında birlikte çıkıyoruz. \nSeminer 10 – POSITIVE CHANGE AGENT (Pozitif Değişim Yaratan) \n\n\n\nFilm: Erin Brockovich (2000)\nAna Temalar: Toplumsal değişim\, savunuculuk\, sağlık hakkı\nTartışma Başlıkları:\n\nToplum sağlığına katkı sağlayan eczacının rolü\nMeslekte etik ve aktivizm\n\n\n\n\n\n\n\n\n\n\n\n\n\n\n\n\n\n\n\n\n 
URL:https://eczacilarburada.com/program/pozitif-degisim-yaratan/
CATEGORIES:Seminerler
ATTACH;FMTTYPE=image/jpeg:https://eczacilarburada.com/wp-content/uploads/2026/01/egitim-banner-film-10.jpg
END:VEVENT
END:VCALENDAR