BEGIN:VCALENDAR
VERSION:2.0
PRODID:-//Eczacılar Burada - ECPv6.11.2.1//NONSGML v1.0//EN
CALSCALE:GREGORIAN
METHOD:PUBLISH
X-WR-CALNAME:Eczacılar Burada
X-ORIGINAL-URL:https://eczacilarburada.com
X-WR-CALDESC:Eczacılar Burada için etkinlikler
REFRESH-INTERVAL;VALUE=DURATION:PT1H
X-Robots-Tag:noindex
X-PUBLISHED-TTL:PT1H
BEGIN:VTIMEZONE
TZID:Europe/Istanbul
BEGIN:STANDARD
TZOFFSETFROM:+0300
TZOFFSETTO:+0300
TZNAME:+03
DTSTART:20260101T000000
END:STANDARD
END:VTIMEZONE
BEGIN:VEVENT
DTSTART;TZID=Europe/Istanbul:20260408T203000
DTEND;TZID=Europe/Istanbul:20260429T220000
DTSTAMP:20260422T160158
CREATED:20260205T153520Z
LAST-MODIFIED:20260411T151210Z
UID:10000080-1775680200-1777500000@eczacilarburada.com
SUMMARY:Eczacılar İçin Psikolojik Dayanıklılık ve Zihinsel Sağlık Seminerleri
DESCRIPTION:Günümüz eczacılık pratiğinde sadece bilgi değil\, aynı zamanda zihinsel dayanıklılık\, dikkat yönetimi ve psikolojik farkındalık ve sağlık da kritik bir yetkinliktir. \nBirbirini bütünleyici nitelikte 3 webinardan oluşan bu psikoeğitim ve söyleşi serisi şu ana başlıklar çerçevesinde olacaktır: \n\nyoğun tempoda ve zor zamanlarda psikolojik sağlık\, esnek dayanıklılık ve zihinsel denge\ndijital çağda\, uyaran bombardımanı altında dikkat yönetimi ve hayat yönetimi\nkriz anlarında doğru iletişim ve psikolojik ilk yardım\n\n\nProgram \n\n\n\nToplam Süre: 3 Oturum Format: Online – Vaka temelli\, etkileşimli \n\n\n\nSeminer 1: Psikolojik Sağlık ve Esnek Dayanıklılık: Eczacılar İçin Stresle Baş Etme\, Tükenmişlik ve Travma Farkındalığı\nYoğun hasta teması\, yüksek sorumluluk ve zaman baskısı\, eczacıların psikolojik yükünü artırmakta; tükenmişlik ve dolaylı travmatizasyon riskini yükseltmektedir. \nBu webinarda\, psikolojik sağlamlık (resilience)\, stresle baş etme mekanizmaları ve sağlık çalışanlarına özgü tükenmişlik dinamikleri ele alınacaktır. \n\nPsikolojik dayanıklılık (resilience) nedir\, nasıl gelişir?\nStresin sinir sistemi üzerindeki etkiler\nSağlık çalışanlarında tükenmişlik: belirtiler ve süreç\nİkincil ve dolaylı travmatizasyon nedir?\nDuygusal yükle baş etme ve sınır koyma\nTravma sonrası büyüme mümkün mü?\n\nKazanımlar \n\nStres ve tükenmişliğin sinyallerini erken fark etme\nDuygusal yükle baş etme becerilerini geliştirme\nKendi sosyal ve psikolojik kaynaklarını çeşitlendirme ve güçlendirme\n\nSeminer 2: Dijital Tükenmişlik ve Zihinsel Denge: Eczacılar İçin Dijital Detoks\, Özbakım ve Sosyal Medya Okuryazarlığı\nSürekli açık kalma hali\, yoğun bilgi akışı ve dijital maruziyet\, eczacıların dikkat kapasitesini\, karar verme süreçlerini ve psikolojik iyi oluşunu doğrudan etkileyebiliyor. \nBu webinarda\, dijital tükenmişlik kavramı bilimsel temelleriyle ele alınacak; sosyal medya ile kurulan ilişkinin zihinsel süreçler üzerindeki etkileri tartışılacak ve günlük hayatta uygulanabilir özbakım stratejileri paylaşılacaktır. \n\nDijital tükenmişlik nedir? Belirtileri nelerdir?\nSürekli uyarılma\, uyaran yükü ve dikkat parçalanması\nSosyal medya ve travmatik bilgi maruziyetinin psikolojiye etkileri\nAlgoritmalar\, dikkat ekonomisi ve bilişsel yük\nDijital detoks: gerçekçi ve sürdürülebilir yaklaşımlar\nSosyal medya okuryazarlığı; neyi neden takip ediyoruz? Neti\, neden paylaşıyoruz?\nGünlük özbakım pratikleri ve sınırları yeniden düzenleme becerisi\n\nKazanımlar \n\nDijital yorgunluğun erken sinyallerini fark etme\nSosyal medya kullanımını daha bilinçli yönetme\nGünlük yaşamda uygulanabilir zihinsel toparlanma pratikleri geliştirme\n\nSeminer 3: Psikolojik İlk Yardım: Eczacılar İçin Kriz Anlarında Etkili İletişim ve Destek\nEczacılar\, toplumla en hızlı ve doğrudan temas kuran sağlık profesyonellerinden biridir. Kriz\, kayıp\, hastalık veya yoğun stres yaşayan bireylerle karşılaşma olasılığı yüksektir. \nBu webinarda\, psikolojik ilk yardımın temel ilkeleri\, kriz anlarında iletişim\, destek ve regülasyon becerileri ele alınacaktır. \n\nPsikolojik ilk yardım nedir\, ne değildir?\nKriz anında bireyin psikolojik ihtiyaçları\nDinleme\, anlama ve güvenli alan oluşturma\nNe söylemeli\, ne söylememeli? Ne yapmalı\, ne yapmamalı?\nSınırlar ve gerektiğinde yönlendirme: Ne zaman\, nasıl?\nEczane ortamında ve günlük hayatta uygulanabilir pratikler\n\nKazanımlar \n\nKriz anında doğru yaklaşımı geliştirme\nHastalarla daha güvenli ve destekleyici iletişim kurma\nKendi sınırlarını koruyarak destek sunabilme\n\n  \n\n\n\n\n\nKimler Katılmalı?\n\nGünlük hasta ilişkilerinde duygusal olarak zorlanan eczacılar\nZor hasta ve krizlerle daha sakin baş etmek isteyenler\nEkip içi iletişimi güçlendirmek isteyen eczane sahipleri\nMeslekte uzun vadeli psikolojik dayanıklılık arayanlar\n\nÖn koşul: Yok.   \nBu Eğitimde Neler Kazanacaksınız?\n\nZor hasta ve kriz durumlarında psikolojik kontrol\nSınırlarını koruyabilen profesyonel duruş\nHasta ve ekip iletişiminde daha az çatışma\nMesleki tükenmişliğe karşı farkındalık ve dayanıklılık\n\nEğitmen Hakkında\nKlinik Psikolog Serap Altekin\, bireysel ve kurumsal düzeyde stres\, iletişim\, tükenmişlik ve psikolojik dayanıklılık alanlarında çalışmalar yürütmektedir. Sağlık profesyonellerinin mesleki yüklerini ve insan ilişkileri kaynaklı zorlanmalarını odağına alan eğitim ve seminerler vermektedir. \nEğitim Ücreti\n\nEğitim Ücreti: 3 Seminer Toplu Fiyatı 2.250 TL yerine 1.800 TL Her bir seminer 750 TL\n\n\nÖğrencilere %30 indirim\n\nKontenjan sınırlıdır. Katılım\, kayıt sırasına göre kesinleşir.   \nNeden Bu Eğitim?\nÇünkü eczacının en çok zorlandığı konu bilgi değil\, insan yönetimidir. Bu program\, eczacının kendini koruyarak mesleğini sürdürebilmesi için psikolojik bir donanım sunar.
URL:https://eczacilarburada.com/program/eczacilar-icin-psikolojik-dayaniklilik-ve-zihinsel-saglik-seminerleri/
CATEGORIES:Seminerler
ATTACH;FMTTYPE=image/jpeg:https://eczacilarburada.com/wp-content/uploads/2026/02/egitim-banner-eczacilar-icin-a.jpg
END:VEVENT
BEGIN:VEVENT
DTSTART;TZID=Europe/Istanbul:20260413T200000
DTEND;TZID=Europe/Istanbul:20260428T223000
DTSTAMP:20260422T160158
CREATED:20250419T220921Z
LAST-MODIFIED:20260411T151233Z
UID:10000022-1776110400-1777415400@eczacilarburada.com
SUMMARY:Dermokozmetik 360° Seminerleri
DESCRIPTION:Dermokozmetik\, cilt sağlığı ve güzelliği üzerine bilimsel yaklaşımlar sunar. Bu eğitim\, dermokozmetik ürünlerin formülasyon şekilleri\, etkinlik değerlendirmeleri ve uygulama alanları hakkında kapsamlı bilgiler sağlar. Cilt sağlığı ve güzellik sektöründe uzmanlaşmak isteyenler için eşsiz bir fırsattır. \nNeler Öğreneceksiniz?\n\nDermokozmetik ürünlerin bilimsel temelini anlama.\nCilt tipleri ve cilt sorunlarına uygun ürün seçimi.\nDermokozmetik ürünlerin formülasyon şekillerini öğrenme.\nEczacılıkta dermokozmetik danışmanlığı yapabilme.\n\nKimler Katılmalı?\n\nEczacılar\, güzellik uzmanları ve sağlık profesyonelleri\n\nKatılım: Sertifikalı / kontenjanla sınırlı (Sertifika için sınav ve devam zorunlu olacaktır) \nProgram\n13 Nisan 2026 Saat 20:00-22:00\nDermakozmetik ve Kozmetik Ürünler\nTanımlar\, yasal yaklaşımlar \n14 Nisan 2026 Saat 20:00-22:00\nDerinin anatomik\, fizyolojik yapısı ve temel işlevleri\nTemel bilgiler ve temel cilt bakımı (temizleme\, nemlendirme\, sağlıklı tutma) \n16 Nisan 2026 Saat 20:00-22:00\nCilt tipleri ve sık görülen sorunlar\nCilt tipleri ve bakımı (kuru\, karma\, yağlı ciltler ve temel bakımları için ürünler\, yağlı cilt ve akne) \n20 Nisan 2026 Saat 20:00-22:00\nÖzel bakım gerektiren problemler\nKuru cilt sorunları olan dermatitler (egzama\, kseroz\, ihtiyoz gibi) ve psoriyazis ve tedavileri\nCilt hassasiyeti \n21 Nisan 2026 Saat 20:00-22:00\nSaç ve saçların bakımı\nSaçların yapısı\, temel saç bakım ürünleri (Şampuan / Saç kremi)\nKepek ve anti-dandruff ürünler\nSaç dökülmesi – Kellik\, Alopesi \n27 Nisan 2026 Saat 20:00-22:00\nDerinin yaşlanma süreci ve yaşlanma karşıtı stratejiler\nDerinin yaşlanma süreci; anatomik ve fizyolojik değişiklikler\nYaşlanma karşıtı stratejiler: Korunma\, güneş ürünleri \n28 Nisan 2026 Saat 20:00-22:00\nDerinin yaşlanma süreci ve yaşlanma karşıtı stratejiler\nKırışıklık azaltıcı\, esneklik artırıcı\, leke giderici yaklaşımlar \nEğitim Ücreti\n\nEğitim Ücreti: 7 Eğitim Paket Fiyatı 8.750- TL yerine %20 indirimle 7.000- TL\nHer bir seminer 1.250\,- TL\nÖğrencilere %30 indirim\n\nKontenjan sınırlıdır. Katılım\, kayıt sırasına göre kesinleşir. \nEğitmenler\nProgram\, alanında uzman akademisyenler tarafından yürütülmektedir. \nTarih – Süre – Format\nTarih:\n13-14-16 Nisan Saat 20.00 22.00\n20-21 Nisan Saat 20.00 22.00\n27-28 Nisan Saat 20.00 22.00 \nFormat: Online \nKatılım ve Sertifikasyon\n\nEğitim sonunda katılım sertifikası verilecektir.\nSertifika için devam zorunluluğu bulunmaktadır.\nKontenjan sınırlıdır.\n\n  \nDermokozmetiğe bilimsel\, güvenli ve eczacıya yakışır bir yerden bakmak isteyen tüm meslektaşlarımızı bu programa davet ediyoruz.
URL:https://eczacilarburada.com/program/dermokozmetik-360-seminerleri/
CATEGORIES:Seminerler
ATTACH;FMTTYPE=image/jpeg:https://eczacilarburada.com/wp-content/uploads/2025/04/egitim-banner-dermokozmetik-13nisan.jpg
END:VEVENT
BEGIN:VEVENT
DTSTART;TZID=Europe/Istanbul:20260423T203000
DTEND;TZID=Europe/Istanbul:20260423T220000
DTSTAMP:20260422T160158
CREATED:20260117T103633Z
LAST-MODIFIED:20260207T152308Z
UID:10000072-1776976200-1776981600@eczacilarburada.com
SUMMARY:Yaşam Boyu Öğrenen
DESCRIPTION:Eczacılar Burada platformu\, eczacılık mesleğinin dönüşen rolünü anlamak\, güçlendirmek ve genişletmek amacıyla “Filmlerle 10 Yıldızlı Eczacı” başlıklı özel bir program düzenliyor. \nBu seminer dizisi\, Dünya Sağlık Örgütü’nün tanımladığı 10-Star Pharmacist modelinde yer alan temel yetkinlikleri sinemanın anlatı gücüyle bir araya getiriyor. Katılımcılar; her seminerde seçilmiş bir filmi birlikte izleyip çözümleyecek\, filmdeki karakter\, olay örgüsü ve çatışmalar üzerinden ilgili mesleki beceriyi derinlemesine değerlendirecek. \nProgram; eczacının yalnızca bir sağlık profesyoneli değil\, aynı zamanda bir iletişimci\, karar verici\, araştırmacı\, eğitmen\, girişimci ve değişim lideri olduğunu hatırlatan disiplinlerarası bir öğrenme deneyimi sunar. \nSeminerler kapsamında: \n\nWHO’nun her bir “yıldız”ı için sinema tarihinden özel bir film ele alınacak\,\nFilm analizleri mesleki yetkinlikler çerçevesinde yapılacak\,\nKatılımcılar; vaka analizi\, grup tartışması ve kısa yansıtma çalışmalarına dahil olacak\,\nAtölye sonunda tüm katılımcılara kişisel gelişim notları ve önerilen okuma/izleme listesi sağlanacaktır.\n\nBu program\, eczacılık mesleğine bütüncül bakış kazandırmak\, yeni dünyada eczacının konumunu yeniden tanımlamak ve mesleki farkındalığı güçlendirmek isteyen tüm meslektaşlarımıza açıktır. \n“10 yıldızlı eczacı” olma yolculuğuna sinemanın ışığında birlikte çıkıyoruz. \nSeminer 6 – LIFELONG LEARNER (Yaşam Boyu Öğrenen) \n\n\n\nFilm: The Pursuit of Happyness (2006)\nKişisel ve mesleki gelişimin yaşam boyu devam eden bir yolculuk olduğunu güçlü bir karakter draması üzerinden anlatır.\nAna Temalar: Öğrenme motivasyonu\, yılmazlık\, kariyer gelişimi\nTartışma Başlıkları:\n\nEczacılıkta sürekli öğrenme kültürü\nKişisel gelişim planı hazırlama\n\n\n\n\n\n 
URL:https://eczacilarburada.com/program/yasam-boyu-ogrenen/
CATEGORIES:Seminerler
ATTACH;FMTTYPE=image/jpeg:https://eczacilarburada.com/wp-content/uploads/2026/01/egitim-banner-film-6.jpg
END:VEVENT
BEGIN:VEVENT
DTSTART;TZID=Europe/Istanbul:20260427T200000
DTEND;TZID=Europe/Istanbul:20260427T220000
DTSTAMP:20260422T160158
CREATED:20260329T062623Z
LAST-MODIFIED:20260411T151234Z
UID:10000122-1777320000-1777327200@eczacilarburada.com
SUMMARY:6. Eğtim
DESCRIPTION:Güneş Koruması ve Anti-Aging
URL:https://eczacilarburada.com/program/6-egtim/
CATEGORIES:Seminerler
ATTACH;FMTTYPE=image/jpeg:https://eczacilarburada.com/wp-content/uploads/2025/04/egitim-banner-dermokozmetik-13nisan.jpg
END:VEVENT
BEGIN:VEVENT
DTSTART;TZID=Europe/Istanbul:20260428T200000
DTEND;TZID=Europe/Istanbul:20260428T220000
DTSTAMP:20260422T160158
CREATED:20260329T062624Z
LAST-MODIFIED:20260411T151234Z
UID:10000123-1777406400-1777413600@eczacilarburada.com
SUMMARY:7. Eğitim
DESCRIPTION:Güneş Koruması ve Anti-Aging (devam)
URL:https://eczacilarburada.com/program/7-egitim/
CATEGORIES:Seminerler
ATTACH;FMTTYPE=image/jpeg:https://eczacilarburada.com/wp-content/uploads/2025/04/egitim-banner-dermokozmetik-13nisan.jpg
END:VEVENT
BEGIN:VEVENT
DTSTART;TZID=Europe/Istanbul:20260429T203000
DTEND;TZID=Europe/Istanbul:20260429T220000
DTSTAMP:20260422T160158
CREATED:20260329T061228Z
LAST-MODIFIED:20260411T151210Z
UID:10000116-1777494600-1777500000@eczacilarburada.com
SUMMARY:Psikolojik İlk Yardım
DESCRIPTION:Eczacılar İçin Kriz Anlarında Etkili İletişim ve Destek
URL:https://eczacilarburada.com/program/psikolojik-ilk-yardim/
CATEGORIES:Seminerler
ATTACH;FMTTYPE=image/jpeg:https://eczacilarburada.com/wp-content/uploads/2026/02/egitim-banner-eczacilar-icin-a.jpg
END:VEVENT
BEGIN:VEVENT
DTSTART;TZID=Europe/Istanbul:20260430T203000
DTEND;TZID=Europe/Istanbul:20260430T220000
DTSTAMP:20260422T160158
CREATED:20260117T103850Z
LAST-MODIFIED:20260207T152518Z
UID:10000073-1777581000-1777586400@eczacilarburada.com
SUMMARY:Eğitici
DESCRIPTION:Eczacılar Burada platformu\, eczacılık mesleğinin dönüşen rolünü anlamak\, güçlendirmek ve genişletmek amacıyla “Filmlerle 10 Yıldızlı Eczacı” başlıklı özel bir program düzenliyor. \nBu seminer dizisi\, Dünya Sağlık Örgütü’nün tanımladığı 10-Star Pharmacist modelinde yer alan temel yetkinlikleri sinemanın anlatı gücüyle bir araya getiriyor. Katılımcılar; her seminerde seçilmiş bir filmi birlikte izleyip çözümleyecek\, filmdeki karakter\, olay örgüsü ve çatışmalar üzerinden ilgili mesleki beceriyi derinlemesine değerlendirecek. \nProgram; eczacının yalnızca bir sağlık profesyoneli değil\, aynı zamanda bir iletişimci\, karar verici\, araştırmacı\, eğitmen\, girişimci ve değişim lideri olduğunu hatırlatan disiplinlerarası bir öğrenme deneyimi sunar. \nSeminerler kapsamında: \n\nWHO’nun her bir “yıldız”ı için sinema tarihinden özel bir film ele alınacak\,\nFilm analizleri mesleki yetkinlikler çerçevesinde yapılacak\,\nKatılımcılar; vaka analizi\, grup tartışması ve kısa yansıtma çalışmalarına dahil olacak\,\nAtölye sonunda tüm katılımcılara kişisel gelişim notları ve önerilen okuma/izleme listesi sağlanacaktır.\n\nBu program\, eczacılık mesleğine bütüncül bakış kazandırmak\, yeni dünyada eczacının konumunu yeniden tanımlamak ve mesleki farkındalığı güçlendirmek isteyen tüm meslektaşlarımıza açıktır. \n“10 yıldızlı eczacı” olma yolculuğuna sinemanın ışığında birlikte çıkıyoruz. \nSeminer 7 – EDUCATOR (Eğitici) \n\n\n\nFilm: Dead Poets Society (1989)\nBir öğretmenin bilgi aktarmanın ötesine geçen ilham verme gücünü ve öğrenme tutkusunu alevlendirme rolünü merkezine alır.\nAna Temalar: İlham verme\, öğrenmeyi harekete geçirme\, toplumsal sağlık okuryazarlığı\nTartışma Başlıkları:\n\nToplumda ilaç ve sağlık okuryazarlığını artırma\nEczacının eğitmen rolünü güçlendiren pratikler
URL:https://eczacilarburada.com/program/egitici/
CATEGORIES:Seminerler
ATTACH;FMTTYPE=image/jpeg:https://eczacilarburada.com/wp-content/uploads/2026/01/egitim-banner-film-7.jpg
END:VEVENT
BEGIN:VEVENT
DTSTART;TZID=Europe/Istanbul:20260430T203000
DTEND;TZID=Europe/Istanbul:20260430T220000
DTSTAMP:20260422T160158
CREATED:20260316T114935Z
LAST-MODIFIED:20260422T062351Z
UID:10000109-1777581000-1777586400@eczacilarburada.com
SUMMARY:Güncel Farmakolojide Yeni Hedefler ve Mekanizmalar
DESCRIPTION:Farmakoloji bilgisi\, eczacının mesleki kimliğinin temelidir. Ancak güncel tedavi yaklaşımları; yeni hedefler\, karmaşık etkileşimler ve bireyselleştirilmiş tedaviler nedeniyle klasik bilgilerin ötesine geçmiştir. \nEczacı Gözüyle Güncel Farmakoloji Seminerleri\, eczacılara güncel farmakolojik gelişmeleri klinik bağlamı ve hasta güvenliği perspektifiyle değerlendirme yetkinliği kazandırmayı amaçlayan bir seminer serisidir. \nBu Eğitim Neden Gerekli?\nBugün eczacılar: \n\nçoklu ilaç kullanan hastalarla\,\nreçetede görünmeyen etkileşimlerle\,\nkırılgan ve özel hasta gruplarıyla\nher zamankinden daha sık karşı karşıyadır.\n\nBu ortamda eczacının değeri:\n“ilacı tanımak”tan çok\, ilacın hasta üzerindeki olası sonuçlarını öngörebilmesidir. \nBu eğitim\, eczacının bu klinik bakışı güçlendirmeyi hedefler. \nEğitimin Amacı\nBu seminer serisinin amacı eczacılara: \n\nGüncel farmakolojik hedef ve mekanizmaları kavratmak\,\nİlaç–ilaç etkileşimlerini klinik açıdan değerlendirebilme becerisi kazandırmak\,\nPolifarmasi ve özel hasta gruplarında risk farkındalığı oluşturmak\,\nBireyselleştirilmiş tedavi yaklaşımlarına eczacı perspektifi kazandırmaktır.\n\nKimler Katılmalı?\n\nKlinik düşünme becerisini geliştirmek isteyen eczacılar\nPolifarmasi ve etkileşim risklerini daha iyi yönetmek isteyenler\nGüncel farmakoloji bilgisini tazelemek isteyen eczacılar\nEczacılık fakültesi son sınıf öğrencileri\n\nNeler Öğreneceksiniz?\n\nGüncel farmakolojik hedefler ve etki mekanizmaları\nReçetede görünmeyen ilaç–ilaç etkileşimleri\nKırılgan hasta gruplarında farmakolojik riskler\nTerapötik ilaç izleminin (TDM) klinik önemi\nFarmakogenetik verilerin eczacı açısından anlamı\nHasta güvenliği odaklı farmakolojik değerlendirme\n\nProgram\n\nGÜN / Güncel Farmakolojide Yeni Hedefler ve Mekanizmalar (30 Nisan 2026 saat 20.30-22.00)\nGÜN / Reçetede Görünmeyen Riskler: İlaç–İlaç Etkileşimleri (04 Mayıs 2026 saat 20.30-22.00)\nGÜN / Polifarmasi ve Kırılgan Hasta Gruplarında Farmakolojik Yaklaşım (05 Mayıs 2026 saat 20.30-22.00)\nGÜN / Terapötik İlaç İzlemi (TDM): Ne Zaman\, Nasıl\, Kimin İçin? (06 Mayıs 2026 saat 20.30-22.00)\nGÜN / Farmakogenetik Perspektiften Eczacıya Klinik İpuçları (07 Mayıs 2026 saat 20.30-22.00)\n\nEğitmen\n\nProf. Dr. Betül Yerer Aycan\nFarmakoloji alanında akademik ve klinik uzmanlığa sahip\, güncel farmakolojik yaklaşımlar üzerine çalışmaları bulunan deneyimli eğitmen. \nEğitim Ücreti\n\nEğitim Ücreti: 5 Seminer Toplu Fiyatı 6.250\,- TL yerine 5.000\,- TL\nHer bir seminer 1.250\,- TL\nÖğrencilere %30 indirim\n\nKontenjan sınırlıdır. Katılım\, kayıt sırasına göre kesinleşir. \nTarih – Süre – Format\n\nHer seminer: 60 dakika sunum + 30 dakika soru–cevap\nTarihler: 30 Nisan – 4-5-6-7 Mayıs 2026\nFormat: Online \n\nKatılım ve Sertifikasyon\n\nHer oturum için katılım takibi yapılacaktır\nProgram sonunda katılım sertifikası verilecektir\nKontenjan sınırlıdır\n\nFarmakolojiyi sadece teorik değil\, klinik etkileriyle birlikte değerlendirmek isteyen tüm eczacılar bu seminer serisine davetlidir.
URL:https://eczacilarburada.com/program/guncel-farmakolojide-yeni-hedefler-ve-mekanizmalar/
CATEGORIES:Seminerler
ATTACH;FMTTYPE=image/jpeg:https://eczacilarburada.com/wp-content/uploads/2026/02/egitim-banner-Farmakoloji-AB-Dali-Baskan.jpg
END:VEVENT
BEGIN:VEVENT
DTSTART;TZID=Europe/Istanbul:20260430T203000
DTEND;TZID=Europe/Istanbul:20260507T220000
DTSTAMP:20260422T160158
CREATED:20260214T150622Z
LAST-MODIFIED:20260422T062351Z
UID:10000089-1777581000-1778191200@eczacilarburada.com
SUMMARY:Eczacı Gözüyle Güncel Farmakoloji Seminerleri
DESCRIPTION:Farmakoloji bilgisi\, eczacının mesleki kimliğinin temelidir. Ancak güncel tedavi yaklaşımları; yeni hedefler\, karmaşık etkileşimler ve bireyselleştirilmiş tedaviler nedeniyle klasik bilgilerin ötesine geçmiştir. \nEczacı Gözüyle Güncel Farmakoloji Seminerleri\, eczacılara güncel farmakolojik gelişmeleri klinik bağlamı ve hasta güvenliği perspektifiyle değerlendirme yetkinliği kazandırmayı amaçlayan bir seminer serisidir. \nBu Eğitim Neden Gerekli?\nBugün eczacılar: \n\nçoklu ilaç kullanan hastalarla\,\nreçetede görünmeyen etkileşimlerle\,\nkırılgan ve özel hasta gruplarıyla\nher zamankinden daha sık karşı karşıyadır.\n\nBu ortamda eczacının değeri:\n“ilacı tanımak”tan çok\, ilacın hasta üzerindeki olası sonuçlarını öngörebilmesidir. \nBu eğitim\, eczacının bu klinik bakışı güçlendirmeyi hedefler. \nEğitimin Amacı\nBu seminer serisinin amacı eczacılara: \n\nGüncel farmakolojik hedef ve mekanizmaları kavratmak\,\nİlaç–ilaç etkileşimlerini klinik açıdan değerlendirebilme becerisi kazandırmak\,\nPolifarmasi ve özel hasta gruplarında risk farkındalığı oluşturmak\,\nBireyselleştirilmiş tedavi yaklaşımlarına eczacı perspektifi kazandırmaktır.\n\nKimler Katılmalı?\n\nKlinik düşünme becerisini geliştirmek isteyen eczacılar\nPolifarmasi ve etkileşim risklerini daha iyi yönetmek isteyenler\nGüncel farmakoloji bilgisini tazelemek isteyen eczacılar\nEczacılık fakültesi son sınıf öğrencileri\n\nNeler Öğreneceksiniz?\n\nGüncel farmakolojik hedefler ve etki mekanizmaları\nReçetede görünmeyen ilaç–ilaç etkileşimleri\nKırılgan hasta gruplarında farmakolojik riskler\nTerapötik ilaç izleminin (TDM) klinik önemi\nFarmakogenetik verilerin eczacı açısından anlamı\nHasta güvenliği odaklı farmakolojik değerlendirme\n\nProgram\n\nGÜN / Güncel Farmakolojide Yeni Hedefler ve Mekanizmalar (30 Nisan 2026 saat 20.30-22.00)\nGÜN / Reçetede Görünmeyen Riskler: İlaç–İlaç Etkileşimleri (04 Mayıs 2026 saat 20.30-22.00)\nGÜN / Polifarmasi ve Kırılgan Hasta Gruplarında Farmakolojik Yaklaşım (05 Mayıs 2026 saat 20.30-22.00)\nGÜN / Terapötik İlaç İzlemi (TDM): Ne Zaman\, Nasıl\, Kimin İçin? (06 Mayıs 2026 saat 20.30-22.00)\nGÜN / Farmakogenetik Perspektiften Eczacıya Klinik İpuçları (07 Mayıs 2026 saat 20.30-22.00)\n\nEğitmen\n\nProf. Dr. Betül Yerer Aycan\nFarmakoloji alanında akademik ve klinik uzmanlığa sahip\, güncel farmakolojik yaklaşımlar üzerine çalışmaları bulunan deneyimli eğitmen. \nEğitim Ücreti\n\nEğitim Ücreti: 5 Seminer Toplu Fiyatı 6.250\,- TL yerine 5.000\,- TL\nHer bir seminer 1.250\,- TL\nÖğrencilere %30 indirim\n\nKontenjan sınırlıdır. Katılım\, kayıt sırasına göre kesinleşir. \nTarih – Süre – Format\n\nHer seminer: 60 dakika sunum + 30 dakika soru–cevap\nTarihler: 30 Nisan – 4-5-6-7 Mayıs 2026\nFormat: Online \n\nKatılım ve Sertifikasyon\n\nHer oturum için katılım takibi yapılacaktır\nProgram sonunda katılım sertifikası verilecektir\nKontenjan sınırlıdır\n\nFarmakolojiyi sadece teorik değil\, klinik etkileriyle birlikte değerlendirmek isteyen tüm eczacılar bu seminer serisine davetlidir.
URL:https://eczacilarburada.com/program/eczaci-gozuyle-guncel-farmakoloji-seminerleri/
CATEGORIES:Seminerler
ATTACH;FMTTYPE=image/jpeg:https://eczacilarburada.com/wp-content/uploads/2026/02/egitim-banner-Farmakoloji-AB-Dali-Baskan.jpg
END:VEVENT
END:VCALENDAR