BEGIN:VCALENDAR
VERSION:2.0
PRODID:-//Eczacılar Burada - ECPv6.11.2.1//NONSGML v1.0//EN
CALSCALE:GREGORIAN
METHOD:PUBLISH
X-WR-CALNAME:Eczacılar Burada
X-ORIGINAL-URL:https://eczacilarburada.com
X-WR-CALDESC:Eczacılar Burada için etkinlikler
REFRESH-INTERVAL;VALUE=DURATION:PT1H
X-Robots-Tag:noindex
X-PUBLISHED-TTL:PT1H
BEGIN:VTIMEZONE
TZID:Europe/Istanbul
BEGIN:STANDARD
TZOFFSETFROM:+0300
TZOFFSETTO:+0300
TZNAME:+03
DTSTART:20240101T000000
END:STANDARD
END:VTIMEZONE
BEGIN:VEVENT
DTSTART;TZID=Europe/Istanbul:20241002T203000
DTEND;TZID=Europe/Istanbul:20241002T223000
DTSTAMP:20260425T200601
CREATED:20250419T220407Z
LAST-MODIFIED:20250419T220429Z
UID:10000132-1727901000-1727908200@eczacilarburada.com
SUMMARY:Tıbbi Çaylar
DESCRIPTION:2 Ekim Çarşamba günü 20.30’da gerçekleştirilecek Prof. Dr. Ömür Demirezer ile gerçekleştireceğimiz “Tıbbi Çaylar” hakkındaki bilgilendirici etkinliğimize sizler de davetlisiniz!   \n\n\n\nSizleri de kendi aklınızdaki bu sorulara cevap bulmaya ve kendinize yeni bilgiler katmaya davet ediyoruz .✨️ \n\n\n\nProgramımıza ücretsiz kaydolmak için etkinlik formunu doldur\, online etkinliği kaçırma!
URL:https://eczacilarburada.com/program/tibbi-caylar/
CATEGORIES:E-Buluşmalar
ATTACH;FMTTYPE=image/png:https://eczacilarburada.com/wp-content/uploads/2025/04/Copy-of-Copy-of-Minimal-Photocentric-Productivity-Blog-Banner-2-8.png
END:VEVENT
BEGIN:VEVENT
DTSTART;TZID=Europe/Istanbul:20241009T203000
DTEND;TZID=Europe/Istanbul:20241009T223000
DTSTAMP:20260425T200601
CREATED:20250419T220445Z
LAST-MODIFIED:20250419T220453Z
UID:10000135-1728505800-1728513000@eczacilarburada.com
SUMMARY:Sağlık Sektöründe Dijital Pazarlama
DESCRIPTION:9 Ekim Çarşamba günü 20.30’da gerçekleştirilecek Haydar Özkömürcü ile gerçekleştireceğimiz “Sağlık Sektöründe Dijital Pazarlama” etkinliğimize sizler de davetlisiniz!   \n\n\n\nSizleri de sorularınızı cevap bulmaya ve kendinize yeni bilgiler katmaya davet ediyoruz!  \n\n\n\nProgramımıza ücretsiz kaydolmak için etkinlik formunu doldur\, online etkinliği kaçırma!
URL:https://eczacilarburada.com/program/saglik-sektorunde-dijital-pazarlama/
CATEGORIES:E-Buluşmalar
ATTACH;FMTTYPE=image/png:https://eczacilarburada.com/wp-content/uploads/2025/04/Copy-of-Copy-of-Minimal-Photocentric-Productivity-Blog-Banner-2-9.png
END:VEVENT
BEGIN:VEVENT
DTSTART;TZID=Europe/Istanbul:20241016T203000
DTEND;TZID=Europe/Istanbul:20241016T223000
DTSTAMP:20260425T200601
CREATED:20250419T220407Z
LAST-MODIFIED:20250419T220436Z
UID:10000133-1729110600-1729117800@eczacilarburada.com
SUMMARY:Türkiye’nin İlk Eczacılık Tarihi Müzesi
DESCRIPTION:16 Ekim Çarşamba günü 20.30’da gerçekleştirilecek Prof. Dr. Afife Mat ile gerçekleştireceğimiz “Türkiye’nin İlk Eczacılık Tarihi Müzesi” etkinliğimize sizler de davetlisiniz!   \n\n\n\nSizleri de kendi aklınızdaki bu sorulara cevap bulmaya ve kendinize yeni bilgiler katmaya davet ediyoruz .✨️ \n\n\n\nProgramımıza ücretsiz kaydolmak için etkinlik formunu doldur\, online etkinliği kaçırma!
URL:https://eczacilarburada.com/program/turkiyenin-ilk-eczacilik-tarihi-muzesi/
CATEGORIES:E-Buluşmalar
ATTACH;FMTTYPE=image/png:https://eczacilarburada.com/wp-content/uploads/2025/04/Copy-of-Copy-of-Minimal-Photocentric-Productivity-Blog-Banner-2-1-2.png
END:VEVENT
BEGIN:VEVENT
DTSTART;TZID=Europe/Istanbul:20241023T203000
DTEND;TZID=Europe/Istanbul:20241023T223000
DTSTAMP:20260425T200601
CREATED:20250419T220445Z
LAST-MODIFIED:20250419T220445Z
UID:10000134-1729715400-1729722600@eczacilarburada.com
SUMMARY:Farmasötik Bakım – 102
DESCRIPTION:23 Ekim Çarşamba günü 20.30’da gerçekleştirilecek Prof. Dr. Şule Apikoğlu ile gerçekleştireceğimiz “Farmasötik Bakım 102” devam etkinliğimiz ile farmasötik bakım hakkındaki bilgileri öğrenmeye devam ediyoruz! Sizleri de aramızda görmeyi bekliyoruz!   \n\n\n\nSizleri de kendi aklınızdaki bu sorulara cevap bulmaya ve kendinize yeni bilgiler katmaya davet ediyoruz .✨️ \n\n\n\nProgramımıza ücretsiz kaydolmak için etkinlik formunu doldur\, online etkinliği kaçırma!
URL:https://eczacilarburada.com/program/farmasotik-bakim-102/
CATEGORIES:E-Buluşmalar
ATTACH;FMTTYPE=image/png:https://eczacilarburada.com/wp-content/uploads/2025/04/Copy-of-Copy-of-Minimal-Photocentric-Productivity-Blog-Banner-3-5.png
END:VEVENT
BEGIN:VEVENT
DTSTART;TZID=Europe/Istanbul:20241030T203000
DTEND;TZID=Europe/Istanbul:20241030T223000
DTSTAMP:20260425T200601
CREATED:20250419T220445Z
LAST-MODIFIED:20250419T220500Z
UID:10000136-1730320200-1730327400@eczacilarburada.com
SUMMARY:Dünyayı Değiştiren Bitkiler
DESCRIPTION:Eczacılar Burada’nın her hafta Çarşamba günleri düzenlediği e-buluşmalar serisinin sıradaki konuğu\, Prof. Dr. Afife Mat…Bitkilerin sağlık ve yaşam üzerindeki etkilerini merak edenler için kaçırılmayacak bir fırsat. \n\n\n\n  Konu Başlığı: “Dünyayı Değiştiren Bitkiler”Bu interaktif oturumda\, Prof. Dr. Mat\, bitkilerin tarihsel ve modern tıptaki rollerini\, insan sağlığına katkılarını ve sürdürülebilirlik konularını derinlemesine ele alacak. \n\n\n\n  Tarih: 30 Ekim Çarşamba⏰ Saat: 20:30  Platform: Zoom (Katılım ücretsiz!) \n\n\n\nBu seminer\, bitkilerin gücünü anlamak ve eczacılıkla ilgili yeni bilgiler edinmek isteyen herkes için mükemmel bir fırsat! \n\n\n\nBitkilerden ilaçlara giden serüvenleri merak ediyorsanız bu fırsatı kaçırmayın!
URL:https://eczacilarburada.com/program/dunyayi-degistiren-bitkiler/
CATEGORIES:E-Buluşmalar
ATTACH;FMTTYPE=image/png:https://eczacilarburada.com/wp-content/uploads/2025/04/Copy-of-Copy-of-Minimal-Photocentric-Productivity-Blog-Banner-3-1-2.png
END:VEVENT
END:VCALENDAR