BEGIN:VCALENDAR
VERSION:2.0
PRODID:-//Eczacılar Burada - ECPv6.11.2.1//NONSGML v1.0//EN
CALSCALE:GREGORIAN
METHOD:PUBLISH
X-ORIGINAL-URL:https://eczacilarburada.com
X-WR-CALDESC:Eczacılar Burada için etkinlikler
REFRESH-INTERVAL;VALUE=DURATION:PT1H
X-Robots-Tag:noindex
X-PUBLISHED-TTL:PT1H
BEGIN:VTIMEZONE
TZID:Europe/Istanbul
BEGIN:STANDARD
TZOFFSETFROM:+0300
TZOFFSETTO:+0300
TZNAME:+03
DTSTART:20240101T000000
END:STANDARD
END:VTIMEZONE
BEGIN:VEVENT
DTSTART;TZID=Europe/Istanbul:20241120T203000
DTEND;TZID=Europe/Istanbul:20241120T223000
DTSTAMP:20260425T183539
CREATED:20250419T220445Z
LAST-MODIFIED:20250419T220508Z
UID:10000137-1732134600-1732141800@eczacilarburada.com
SUMMARY:Beslenme ve İlaç Etkileşimleri
DESCRIPTION:Eczacılar Burada’nın her hafta Çarşamba günleri düzenlediği e-buluşmalar serisinin sıradaki konuğu\, Ecz. Dyt. İnci Bulut…Beslenmenin ilaçlar üzerindeki etkilerini merak edenler için kaçırılmayacak bir fırsat! \n\n\n\n  Konu Başlığı: “Beslenme ve İlaç Etkileşimleri”Bu interaktif oturumda\, Ecz. Dyt. Bulut\, beslenmenin ve tükettiğimiz gıdaların vücudumuzdaki etkilerini ve ilaçlar üzerindeki etkilerini konularını derinlemesine ele alacak. \n\n\n\n  Tarih: 20 Kasım Çarşamba⏰ Saat: 20:30  Platform: Zoom (Katılım ücretsiz!) \n\n\n\nBu seminer\, beslenmenin ve gıdaları detayıyla  anlamak ve eczacılıkla ilgili yeni bilgiler edinmek isteyen herkes için mükemmel bir fırsat! \n\n\n\nGıdalardan ilaçlara giden serüvenleri merak ediyorsanız bu fırsatı kaçırmayın!
URL:https://eczacilarburada.com/program/beslenme-ve-ilac-etkilesimleri/
CATEGORIES:E-Buluşmalar
ATTACH;FMTTYPE=image/png:https://eczacilarburada.com/wp-content/uploads/2025/04/242225_672931089e1bc_etkinlikresmi-1.png
END:VEVENT
BEGIN:VEVENT
DTSTART;TZID=Europe/Istanbul:20241127T203000
DTEND;TZID=Europe/Istanbul:20241127T223000
DTSTAMP:20260425T183539
CREATED:20250419T220845Z
LAST-MODIFIED:20250419T220845Z
UID:10000227-1732739400-1732746600@eczacilarburada.com
SUMMARY:Geçmişten Günümüze İlaç Endüstrisi
DESCRIPTION:Eczacılar Burada’nın her hafta Çarşamba günleri düzenlediği e-buluşmalar serisinin sıradaki konuğu\, Ecz. Onur Dal ve Prof. Dr. Afife Mat…İlaç endüstrisinin geçmişten günümüze ilerleyişini merak edenler için kaçırılmayacak bir fırsat. \n\n\n\n  Konu Başlığı: “Geçmişten Günümüze İlaç Endüstrisi”Bu interaktif oturumda\, Prof. Dr. Mat ve Ecz. Dal\, ilaç endüstrisinin geçmişten günümüze gelişimini ve tarihini derinlemesine ele alacak. \n\n\n\n  Tarih: 27 Kasım Çarşamba⏰ Saat: 20:30  Platform: Zoom (Katılım ücretsiz!) \n\n\n\nBu seminer\, ilaç endüstrisini anlamak ve eczacılıkla ilgili yeni bilgiler edinmek isteyen herkes için mükemmel bir fırsat! \n\n\n\nİlaç endüstrisinin tarihteki serüvenlerini merak ediyorsanız bu fırsatı kaçırmayın!
URL:https://eczacilarburada.com/program/gecmisten-gunumuze-ilac-endustrisi/
CATEGORIES:E-Buluşmalar
ATTACH;FMTTYPE=image/png:https://eczacilarburada.com/wp-content/uploads/2025/04/244320_6735d7e4a83e9_etkinlikresmi.png
END:VEVENT
END:VCALENDAR