BEGIN:VCALENDAR
VERSION:2.0
PRODID:-//Eczacılar Burada - ECPv6.11.2.1//NONSGML v1.0//EN
CALSCALE:GREGORIAN
METHOD:PUBLISH
X-WR-CALNAME:Eczacılar Burada
X-ORIGINAL-URL:https://eczacilarburada.com
X-WR-CALDESC:Eczacılar Burada için etkinlikler
REFRESH-INTERVAL;VALUE=DURATION:PT1H
X-Robots-Tag:noindex
X-PUBLISHED-TTL:PT1H
BEGIN:VTIMEZONE
TZID:Europe/Istanbul
BEGIN:STANDARD
TZOFFSETFROM:+0300
TZOFFSETTO:+0300
TZNAME:+03
DTSTART:20250101T000000
END:STANDARD
END:VTIMEZONE
BEGIN:VEVENT
DTSTART;TZID=Europe/Istanbul:20250115T000000
DTEND;TZID=Europe/Istanbul:20250115T000000
DTSTAMP:20260425T152057
CREATED:20250419T220859Z
LAST-MODIFIED:20250422T075529Z
UID:10000031-1736899200-1736899200@eczacilarburada.com
SUMMARY:Eczane ve Hukuk
DESCRIPTION:Eczacılar Burada’nın her hafta Çarşamba günleri düzenlediği e-buluşmalar serisinin sıradaki konuğu\, Av. Ecz. İbrahim Ankara.Hukukta eczacılığın konumunu merak edenler için kaçırılmayacak bir fırsat! \n\n\n\nKonu Başlığı: “Eczane ve Hukuk”Bu interaktif oturumda\, Av. Ecz. Ankara\, hukukun eczacılıkta nasıl rol aldığını derinlemesine ele alacak. \n\n\n\nTarih: 15 Ocak Çarşamba⏰ Saat: 20:30Platform: Zoom (Katılım ücretsiz!) \n\n\n\nBu seminer\, hukuk ve eczacılığın detaylarını anlamak ve eczacılıkla ilgili yeni bilgiler edinmek isteyen herkes için mükemmel bir fırsat! \n\n\n\nSiz de merak ediyorsanız ve yeni bilgiler öğrenmek istiyorsanız bu fırsatı kaçırmayın! \n\n\n\nAv. Ecz. İbrahim Ankara Kimdir?\n\n\n\nİbrahim ANKARA\, Anadolu Üniversitesi Eczacılık Fakültesi ve Erciyes Üniversitesi Hukuk Fakültesi mezunu olup Çankaya Üniversitesi Özel Hukuk yüksek lisansını tamamlamıştır. İlaç ve Eczacılık Hukuku alanında çalışmaları olan ANKARA\, bu alanda ulusal ve uluslararası kitap ve makalelere sahiptir. Sağlık Bakanlığı Hukuk ve Mevzuat Daire Başkanlığında görev alan ANKARA\, Adalet Bakanlığına bağlı arabulucu olarak görev almaktadır. Ankara Barosu ve Ankara Eczacı Odası’na kayıtlıdır.
URL:https://eczacilarburada.com/program/eczane-ve-hukuk/
CATEGORIES:E-Buluşmalar
ATTACH;FMTTYPE=image/png:https://eczacilarburada.com/wp-content/uploads/2025/04/Etkinlik-15-Ocak.png
END:VEVENT
BEGIN:VEVENT
DTSTART;TZID=Europe/Istanbul:20250122T000000
DTEND;TZID=Europe/Istanbul:20250122T000000
DTSTAMP:20260425T152057
CREATED:20250419T220921Z
LAST-MODIFIED:20250422T075513Z
UID:10000030-1737504000-1737504000@eczacilarburada.com
SUMMARY:Sağlık Hizmetleri\, Sosyal Güvenlik ve Geri Ödeme Sistemi\, Eczacılık Hizmetleri
DESCRIPTION:Eczacılar Burada’nın her hafta Çarşamba günleri düzenlediği e-buluşmalar serisinin sıradaki konuğu\, Ecz. Murat Tülü. \n\n\n\nEczcılık ve sağlık hizmetlerinin\,sSosyal güvenlik ve geri ödeme hizmetlerini merak edenler için kaçırılmayacak bir fırsat! \n\n\n\nKonu Başlığı: “Sağlık Hizmetleri\, Sosyal Güvenlik ve Geri Ödeme Sistemi\, Eczacılık Hizmetleri”Bu interaktif oturumda\,Ecz. Tülü\, eczacılık hizmetlerinin ve geri ödeme sisteminin işleyişini derinlemesine ele alacak. \n\n\n\nTarih: 22 Ocak Çarşamba⏰ Saat: 20:30Platform: Zoom (Katılım ücretsiz!) \n\n\n\nBu seminer\, eczacılıkla ilgili yeni bilgiler edinmek isteyen herkes için mükemmel bir fırsat! \n\n\n\nSiz de merak ediyorsanız ve yeni bilgiler öğrenmek istiyorsanız bu fırsatı kaçırmayın! \n\n\n\nEcz. Murat Tülü Kimdir?\n\n\n\n1976 Konya Ereğli doğumlu. 1999 İstanbul Üniversitesi Eczacılık Fakültesi mezunudur. Kadir Has Üniversitesi Sağlık Bilimleri Enstitüsü’nde Biyokimya yüksek lisans yapmıştır (2004). 2000 yılından bu yana Güngören ilçesinde Tülü Eczanesinin sahibi ve mesul müdürüdür. 3 dönem Güngören Bölge Temsilciliği yapmıştır (2015–2021). İEO’da üç dönem Belge Tetkik Komisyonu üyeliği\, iki dönem Medikal Malzeme Komisyonu üyeliği\, iki dönem Proje ve Strateji Komisyonu üyeliği görevlerinde bulunmuştur. 41. ve 42. Dönem TEB Büyük Kongre delegesidir. 42. Dönem TEB Medikal Ürünler Komisyonunda çalışmıştır. İstanbul Eczacı Hareketi Sözcüler Kurulu ve Birlikte Değişim Grubu Sekretaryası görevlerini üstlenmiştir. 2021–2023 döneminde Yönetim Kurulu Üyesi olarak görev almıştır. Halen Yönetim Kurulu Üyesi olarak görev yapmaktadır. Evli ve üç çocuk babasıdır.
URL:https://eczacilarburada.com/program/saglik-hizmetleri-sosyal-guvenlik-ve-geri-odeme-sistemi-eczacilik-hizmetleri/
CATEGORIES:E-Buluşmalar
ATTACH;FMTTYPE=image/png:https://eczacilarburada.com/wp-content/uploads/2025/04/Etkinlik-22-Ocak.png
END:VEVENT
END:VCALENDAR