BEGIN:VCALENDAR
VERSION:2.0
PRODID:-//Eczacılar Burada - ECPv6.11.2.1//NONSGML v1.0//EN
CALSCALE:GREGORIAN
METHOD:PUBLISH
X-WR-CALNAME:Eczacılar Burada
X-ORIGINAL-URL:https://eczacilarburada.com
X-WR-CALDESC:Eczacılar Burada için etkinlikler
REFRESH-INTERVAL;VALUE=DURATION:PT1H
X-Robots-Tag:noindex
X-PUBLISHED-TTL:PT1H
BEGIN:VTIMEZONE
TZID:Europe/Istanbul
BEGIN:STANDARD
TZOFFSETFROM:+0300
TZOFFSETTO:+0300
TZNAME:+03
DTSTART:20260101T000000
END:STANDARD
END:VTIMEZONE
BEGIN:VEVENT
DTSTART;TZID=Europe/Istanbul:20260204T203000
DTEND;TZID=Europe/Istanbul:20260204T220000
DTSTAMP:20260424T181544
CREATED:20260209T130647Z
LAST-MODIFIED:20260209T130710Z
UID:10000087-1770237000-1770242400@eczacilarburada.com
SUMMARY:AR-GE’den Eczaneye: İlaç Teknolojisindeki Gelişmeler Eczacıyı Nasıl Dönüştürüyor?
DESCRIPTION:Türkiye’de ilaç geliştirme ve üretim süreçleri; çok paydaşlı\, mevzuata dayalı ve yüksek bilimsel uzmanlık gerektiren bir ekosistem içinde ilerlemektedir. Bu ekosistemde yaşanan teknolojik dönüşüm\, yalnızca Ar-Ge laboratuvarlarını değil\, eczane pratiğini de doğrudan etkilemektedir. \nEczacılar Burada Akademi Çarşamba Toplantıları kapsamında düzenlenen bu oturumda; ilaç teknolojilerinde yaşanan güncel gelişmelerin nasıl ortaya çıktığı\, bu gelişmelerin ruhsatlandırma\, biyoyararlanım\, biyoeşdeğerlik ve biyobenzer süreçlerine nasıl yansıdığı ve nihayetinde eczane pratiğinde ne anlama geldiği ele alınacaktır. \nOturumun konuğu Prof. Dr. Erem Bilensoy; farmasötik teknoloji alanında 30 yılı aşan akademik ve bilimsel deneyimiyle\, nanoilaçlardan hedeflenmiş taşıyıcı sistemlere\, biyobenzer ürünlerden ileri üretim teknolojilerine uzanan geniş bir perspektif sunacaktır. \nBu program\, eczacının yalnızca ürünü sunan değil; ilacın arkasındaki bilimi anlayan\, yorumlayan ve geleceğe hazırlanan bir meslek paydaşı olmasını hedeflemektedir. \nProf. Dr. Erem Bilensoy Kimdir?\nFarmasötik Teknoloji profesörü olan Erem Bilensoy\, Özel İzmir Amerikan Lisesi’nden 1988’de\, Hacettepe Üniversitesi Eczacılık Fakültesi’nden ise 1992’de mezun olmuştur. Farmasötik Teknoloji Doktora tezini Paris XI Üniversitesi ve Hacettepe Üniversitesi’nde çift doktora alarak 2002’de tamamlamıştır. Hacettepe Üniversitesi Eczacılık Fakültesi’nde 2005 yılında Yardımcı Doçent\, 2007 yılında Doçent ve 2013 yılında Profesör ünvanı almıştır. \nProf. Dr. Erem Bilensoy\, 2007-2012 ve 2016-2019 yılları arasında Sağlık Bakanlığı İlaç ve Tıbbi Cihaz Kurumu Biyoyararlanım-Biyoeşdeğerlik Değerlendirme Komisyonu’nda görev almış olup\, 2010-2013 yılları arasında ise Hacettepe Üniversitesi Eczacılık Fakültesi Dekan Yardımcılığı görevini yürütmüştür. \n90’den fazla uluslararası bilimsel yayın\, 15 uluslararası bilimsel kitap bölümü yazarlığı olan Bilensoy\, 300 adet uluslararası poster ve sözlü tebliğ\, 30’un üzerinde uluslararası davetli konuşma yapmış olup\, bilimsel atıf sayısı 3000’in üstündedir ve h-indeksi 34’dür. \nCyclodextrins in Pharmaceutics\, Cosmetics and Biomedicine: Current and Future Industrial Applications başlıklı kitabı John Wiley&Sons tarafından ABD’de 2012 yılında basılmıştır. \nProf. Bilensoy\, Avrupa Eczacılık Bilimleri Federasyonu EUFEPS’in Başkanlığına 2015 yılında seçilmiştir ve 2019 yılında bu görevini tamamladıktan sonra EUFEPS icra komitesinde ve Uluslararası İlaç Federasyonu (FIP) Farmasötik Bilimler Kurulunda PSMO temsilcisi olarak görevini sürdürmektedir.  Ayrıca Prof. Bilensoy Bilensoy\, Avrupa Eczacılık Öğrencileri Birliği (EPSA) Mütevelli Heyeti Üyesi olarak seçilmiştir. Erem Bilensoy\, aynı zamanda TÜFTAD Türk Farmasötik Teknoloji Araştırmacıları Derneği’nin de 2011’den beri Yönetim Kurulu üyesi ve Başkan Yardımcısıdır. 2010 yılında EUFEPS Network on Nanomedicine’in kuruculuğunu yapmıştır ve 2009 yılından beri European Cyclodextrin Society Yönetim Kurulu üyesidir. \nBilimsel araştırma alanları nanoilaçlar\, nanobiyoteknoloji\, kanser tedavisinde nanopartiküller\, tümöre hedeflenmiş ilaç taşıyıcı sistemler\, pozitif yüklü nanopartiküller\, kolesterole hedeflenmiş nanopartiküller\, inkjet ve 3D printing teknolojileri ile ilaç geliştirme\, biyoyararlanım/biyoeşdeğerlik ve biyobenzer ürünlerdir. Formülasyon geliştirme\, pre-klinik ve klinik değerlendirme ve regülasyonlar konularında uzmanlaşmıştır. Erem Bilensoy evli ve 1 çocuk annesidir
URL:https://eczacilarburada.com/program/ar-geden-eczaneye-ilac-teknolojisindeki-gelismeler-eczaciyi-nasil-donusturuyor/
CATEGORIES:E-Buluşmalar
ATTACH;FMTTYPE=image/jpeg:https://eczacilarburada.com/wp-content/uploads/2026/02/program-banner-4Subat.jpg
END:VEVENT
BEGIN:VEVENT
DTSTART;TZID=Europe/Istanbul:20260211T203000
DTEND;TZID=Europe/Istanbul:20260211T220000
DTSTAMP:20260424T181544
CREATED:20260209T131643Z
LAST-MODIFIED:20260209T132105Z
UID:10000088-1770841800-1770847200@eczacilarburada.com
SUMMARY:Geleceğin Sağlığında Eczacıların Rolü
DESCRIPTION:Sağlık sistemleri; demografik değişimler\, kronik hastalık yükü\, dijitalleşme ve yapay zeka uygulamalarıyla birlikte köklü bir dönüşüm sürecinden geçmektedir. Bu dönüşüm\, yalnızca hekimleri ve hastaneleri değil; eczacının sistem içindeki rolünü de yeniden şekillendirmektedir. \nEczacılar Burada Akademi Çarşamba Toplantıları kapsamında düzenlenen bu oturumda; geleceğin sağlık ekosisteminde eczacının hangi alanlarda daha etkin rol alabileceği\, disiplinler arası iş birliklerinin nasıl gelişeceği ve eczanelerin bu yeni düzene nasıl hazırlanması gerektiği ele alınacaktır. \nOturumun konuğu Prof. Dr. Melih Bulut; klinik hekimlikten hastane yöneticiliğine\, sağlıkta inovasyondan sivil inisiyatiflere uzanan çok katmanlı deneyimiyle\, sağlık sistemine bütüncül bir perspektiften bakacaktır. \nBu program\, eczacının yalnızca hizmet sunan değil; sağlık ekosisteminin aktif\, stratejik ve vazgeçilmez bir bileşeni olmasını hedeflemektedir. \nProf. Dr. Melih Bulut Kimdir?\nSağlıkta İşbirliği Platformu Kurucusu / Hedef Nobel İnsiyatifi ve Sağlıkta Yapay Zeka Grubu Üyesi / Sağlıkta Önder Ülke Türkiye Yöneticisi \n09.01.1954 tarihinde doğdu. Ankara Fen Lisesi ve Hacettepe Üniversitesi Tıp Fakültesi’nden mezun oldu. Aynı Fakültede Çocuk Cerrahisi ihtisası yaptı ve doçent oldu. 1987 yılında İstanbul Şişli Etfal Hastanesi’nde Çocuk Cerrahisi Kliniği’ni kurdu. 1997 yılından itibaren International Hospital\, Anadolu Sağlık Merkezi\, Yeditepe Üniversitesi Hastanelerinde başhekim olarak görev yaptı. 2005 yılında profesörlük unvanını aldı. Başkent Üniversitesi Marmara Bölge Genel Koordinatörü ve Medicana International İstanbul Hastanesi Genel Müdürü olarak görev yaptı. Hastane Dergisinden Yılın En İyi Hastane Yöneticisi Ödülünü ve Hospital Manager Dergisinden Yaşam Boyu Başarı Ödülünü aldı. Bir süre Sağlık ve Sigorta Yöneticileri Derneği’nin başkanlığını yaptı. Bulut obezite\, sağlıkta inovasyon\, yapay zeka\, nadir hastalıklar ve yaşlılık konularında gönüllü olarak çalışıyor. Sağlıkta İşbirliği Platformu ve Obeziteye Karşı İşbirliği Hareketinin kurucusu olup Hedef Nobel İnsiyatifi ve Sağlıkta Yapay Zeka Grubunun aktif üyesidir.
URL:https://eczacilarburada.com/program/gelecegin-sagliginda-eczacilarin-rolu/
CATEGORIES:E-Buluşmalar
ATTACH;FMTTYPE=image/jpeg:https://eczacilarburada.com/wp-content/uploads/2026/02/program-banner-11Subat.jpg
LOCATION:https://eczacilarburada.com/program/gelecegin-sagliginda-eczacilarin-rolu/
END:VEVENT
BEGIN:VEVENT
DTSTART;TZID=Europe/Istanbul:20260212T203000
DTEND;TZID=Europe/Istanbul:20260212T203000
DTSTAMP:20260424T181544
CREATED:20251210T211904Z
LAST-MODIFIED:20260207T140000Z
UID:10000052-1770928200-1770928200@eczacilarburada.com
SUMMARY:Herkesin Cebindeki Stüdyo
DESCRIPTION:Günümüzde her eczacının cebinde\, doğru kullanıldığında güçlü bir anlatım aracına dönüşebilen bir kamera var. Herkesin Cebindeki Stüdyo\, cep telefonu ile nitelikli video üretmenin temel prensiplerini\, hikâye anlatımı odağında ve yoğun uygulama eşliğinde aktaran 3 günlük bir atölye programıdır. \nBu eğitim; teknik terimlere boğulmadan\, katılımcının çekebilen\, kurgulayabilen ve yayınlayabilen bir üreticiye dönüşmesini hedefler. Sosyal medya\, eğitim\, söyleşi ve bilgilendirici içerikler için kullanılabilecek pratik ve sürdürülebilir bir üretim becerisi kazandırır.\n \nProgram \nToplam Süre: 12 13 16 Şubat 3 Gün (Teorik + Uygulamalı) \n\n Gün – Temel Bilgiler ve Senaryolaştırma\n\n\nCep telefonu kamera ayarları (çözünürlük\, kare hızı\, yatay/dikey çekim)\nTemel kompozisyon kuralları ve görsel hikâye anlatımı\nUzak – orta – yakın plan ve detay çekimlerin işlevsel kullanımı\nUygulamalı örnek çekimler\n\nUygulama Ödevi: Katılımcılar\, temel kompozisyon kurallarını kullanarak 4 plandan oluşan kısa bir hikâye anlatımı dener (ör. bir bardağa çay doldurma\, kapı açma\, basit bir günlük eylem). \n\n Gün – Uygulamalı Çekim Teknikleri (Saha)\n\n\nİlk gün çekilen görüntülerin birlikte izlenmesi ve değerlendirilmesi\nSes kaydı teknikleri (harici mikrofon\, ortam sesi\, rüzgar koruyucu)\nSöyleşi (röportaj) çekim teknikleri\nIşık\, mekan ve kadraj ilişkisi\n\nUygulama Ödevi: Katılımcılar belirledikleri bir konuda\, maksimum 1 dakikalık bir söyleşi videosu çeker. \n\n Gün – Cep Telefonunda Kurgu ve Yayına Hazırlık\n\n\nSöyleşi çekimlerinin izlenmesi ve değerlendirilmesi\nÜcretsiz ve yaygın kurgu uygulamaları: CapCut\, InShot vb.\nHam görüntülerin seçimi\, sıralanması ve kesilmesi\nAltyazı ekleme\, temel color grading\nMüzik ve ses senkronizasyonu\nPlatforma uygun formatta dışa aktarım (Instagram\, YouTube\, vb.)\n\nKimler Katılmalı?\n\nEczacılar ve eczane ekipleri\nKendi içeriklerini üretmek isteyen sağlık profesyonelleri\nSosyal medyada daha nitelikli ve güven veren video içerik üretmek isteyenler\nKamera bilgisi olmayan ancak üretmeye istekli herkes\n\nÖn koşul: Yok. Teknik bilgi gerektirmez. \n  \nBu Eğitimde Neler Kazanacaksınız?\n\nCep telefonu ile bilinçli ve kontrollü çekim yapabilme\nBasit bir hikâyeyi görsel olarak anlatabilme\nRöportaj ve bilgilendirici video çekimlerinde güven kazanma\nVideoları telefonda kurgulayıp yayına hazır hale getirme\n\nEczane iletişimi ve sosyal medya için sürdürülebilir içerik üretme becerisi \nEğitmen: Tahsin İşbilen\nGörüntü yönetmeni ve belgesel film yönetmeni. History Channel\, ARD ve Al Jazeera Türk gibi ulusal ve uluslararası kanallara projeler üretti. Türkiye ve yurtdışında çok sayıda belgesel film festivalinde\, üniversitelerde ve atölye programlarında eğitmen ve koordinatör olarak görev aldı. \nNazım Hikmet Kültür Evi’nde 4 yıl boyunca belgesel sinema atölyeleri yürüttü; çevre\, yeni medya ve belgesel sinema alanlarında uluslararası seminerler verdi. TRT Belgesel Film Yarışması’nda ödüllü çalışmaları bulunan İşbilen\, halen İzmir’de Paradoks Yapım bünyesinde çalışmalarını sürdürmektedir. \nTarih – Mekan – Ücret\n\nTarih: (12-13-16 Şubat saat 20.30)\nMekan: (Online)\nEğitim Ücreti: 900 TL \nÖğrencilere %30 indirim\n\nKontenjan sınırlıdır. Katılım\, kayıt sırasına göre kesinleşir. \n  \nNeden Bu Eğitim?\nÇünkü iyi bir video için pahalı ekipmanlara değil\, doğru bakış açısına ihtiyacınız var. Bu program\, eczacının kendi bilgisini\, deneyimini ve mesajını görünür kılabilmesi için tasarlanmıştır. \n 
URL:https://eczacilarburada.com/program/herkesin-cebindeki-studyo/
CATEGORIES:Atölyeler
ATTACH;FMTTYPE=image/jpeg:https://eczacilarburada.com/wp-content/uploads/2025/12/egitim-banner-HERKESIN-CEBINDEKI-STUDYO-1.jpg
END:VEVENT
BEGIN:VEVENT
DTSTART;TZID=Europe/Istanbul:20260218T200000
DTEND;TZID=Europe/Istanbul:20260218T220000
DTSTAMP:20260424T181544
CREATED:20260216T101548Z
LAST-MODIFIED:20260216T114655Z
UID:10000090-1771444800-1771452000@eczacilarburada.com
SUMMARY:Eczacılık ve İlaç Açısından Üniversite – Kamu – Endüstri İş Birliğinde Neredeyiz?
DESCRIPTION:İlaç ve eczacılık alanında sürdürülebilir ilerleme; üniversitelerde üretilen bilginin\, kamu tarafından doğru regülasyonlarla yönlendirilmesi ve endüstriyle etkin biçimde buluşturulmasıyla mümkündür. Ancak bu üçlü yapı her zaman uyum içinde çalışmamaktadır. \nEczacılar Burada Akademi Çarşamba Toplantıları kapsamında düzenlenen bu oturumda; Türkiye’de üniversite–kamu–endüstri iş birliğinin mevcut durumu\, güçlü ve zayıf yönleri\, yapısal tıkanıklıklar ve eczacılar açısından doğurduğu sonuçlar ele alınacaktır. \n.Oturumun konuğu Prof. Dr. Zeynep Şafak Teksin; akademi\, regülasyon\, teknoloji transferi\, patent\, biyoyararlanım–biyoeşdeğerlik ve ilaç Ar-Ge süreçlerinde aktif görev almış bir bilim insanı olarak\, sistemi teoriden değil uygulamanın içinden okuyacaktır \nBu program\, eczacının yalnızca sahadaki son halka değil; bilgi üretimi\, karar süreçleri ve politika yapımında da konumlanabilen bir meslek profesyoneli olarak düşünmesini hedefler. \nNeden Bu Oturuma Katılmalısınız?\n\nÜniversite–kamu–endüstri ilişkilerinin eczacıyı nasıl etkilediğini bütüncül görmek\,\nAr-Ge\, patent\, regülasyon ve uygulama arasındaki kopuklukları ve fırsat alanlarını anlamak için\nEczacının bu sistemde nasıl daha etkin bir paydaş olabileceğini görmek isteyenler bu oturuma katılmalıdır.
URL:https://eczacilarburada.com/program/eczacilik-ve-ilac-acisindan-universite-kamu-endustri-is-birliginde-neredeyiz/
CATEGORIES:E-Buluşmalar
ATTACH;FMTTYPE=image/jpeg:https://eczacilarburada.com/wp-content/uploads/2026/02/program-banner-18subat-1.jpg
LOCATION:https://us06web.zoom.us/j/81047289631
END:VEVENT
BEGIN:VEVENT
DTSTART;TZID=Europe/Istanbul:20260225T203000
DTEND;TZID=Europe/Istanbul:20260225T220000
DTSTAMP:20260424T181544
CREATED:20260216T125922Z
LAST-MODIFIED:20260216T130625Z
UID:10000091-1772051400-1772056800@eczacilarburada.com
SUMMARY:Onkoloji Eczacılığı: Güvenli Tedavi\, Doğru Uygulama\, Eczacının Kritik Rolü
DESCRIPTION:Onkoloji tedavileri; yüksek riskli ilaçlar\, karmaşık hazırlama süreçleri ve sıfır tolerans gerektiren güvenlik standartlarıyla sağlık sisteminin en hassas alanlarından biridir. Bu alanda eczacının rolü yalnızca ilaç temini değil; hasta güvenliğini doğrudan etkileyen kritik bir uzmanlık alanıdır. Eczacılar Burada Akademi Çarşamba Toplantıları kapsamında düzenlenen bu oturumda; \n\n\n\nonkoloji eczacılığının temel ilkeleri\, merkezi kemoterapi ilaç hazırlama süreçleri\, kalite ve güvenlik standartları ile eczacının klinik ve operasyonel sorumlulukları ele alınacaktır. \n\n\n\nOturumun konuğu Uzm. Ecz. Ahmet Sami Boşnak; sahada aktif olarak görev yapan\, ulusal ve uluslararası onkoloji eczacılığı standartlarının oluşumuna katkı sunmuş bir uzman olarak\, teoriden değil uygulamanın içinden gelen bir perspektif paylaşacaktır. \n\n\n\nBu program\, eczacının onkoloji alanında yalnızca destekleyici değil; hayati bir meslek paydaşı olduğunu ortaya koymayı amaçlamaktadır. \n\n\n\nNeden Bu Oturuma Katılmalısınız?\n\n\n\n\nOnkoloji eczacılığının temel sorumluluklarını sahadan örneklerle öğrenmek\,\n\n\n\nKemoterapi ilaçlarında güvenli hazırlama ve kalite standartlarını anlamak\,\n\n\n\nKlinik eczacılığın en kritik alanlarından birine dair farkındalık kazanmak için bu oturuma katılmalısınız.
URL:https://eczacilarburada.com/program/onkoloji-eczaciligi-guvenli-tedavi-dogru-uygulama-eczacinin-kritik-rolu/
CATEGORIES:E-Buluşmalar
ATTACH;FMTTYPE=image/jpeg:https://eczacilarburada.com/wp-content/uploads/2026/02/program-banner-25subat-1.jpg
LOCATION:https://us06web.zoom.us/j/88332144555
END:VEVENT
END:VCALENDAR