BEGIN:VCALENDAR
VERSION:2.0
PRODID:-//Eczacılar Burada - ECPv6.11.2.1//NONSGML v1.0//EN
CALSCALE:GREGORIAN
METHOD:PUBLISH
X-ORIGINAL-URL:https://eczacilarburada.com
X-WR-CALDESC:Eczacılar Burada için etkinlikler
REFRESH-INTERVAL;VALUE=DURATION:PT1H
X-Robots-Tag:noindex
X-PUBLISHED-TTL:PT1H
BEGIN:VTIMEZONE
TZID:Europe/Istanbul
BEGIN:STANDARD
TZOFFSETFROM:+0300
TZOFFSETTO:+0300
TZNAME:+03
DTSTART:20260101T000000
END:STANDARD
END:VTIMEZONE
BEGIN:VEVENT
DTSTART;TZID=Europe/Istanbul:20260311T203000
DTEND;TZID=Europe/Istanbul:20260311T220000
DTSTAMP:20260424T162944
CREATED:20260305T121120Z
LAST-MODIFIED:20260310T142934Z
UID:10000093-1773261000-1773266400@eczacilarburada.com
SUMMARY:Gıda Takviyelerinin Olası Toksik Etkileri
DESCRIPTION:Gıda takviyeleri\, günümüzde sağlığı destekleme amacıyla yaygın biçimde kullanılmaktadır. Ancak “doğal” veya “bitkisel” olarak tanımlanmaları\, her zaman güvenli oldukları anlamına gelmez. Kontrolsüz kullanım\, yüksek doz uygulamaları\, etkileşimler ve kalite sorunları ciddi toksikolojik riskler doğurabilmektedir. \nBu Çarşamba Toplantıları oturumunda\, Prof. Dr. Ülfet Pınar Erkekoğlu\, gıda takviyelerinin: \n\nOlası hepatotoksik\, nefrotoksik ve nörotoksik etkilerini\nEndokrin bozucu potansiyellerini\nAğır metal ve kontaminant risklerini\nİlaç–takviye etkileşimlerini\nBilimsel risk değerlendirme kriterlerini toksikoloji perspektifinden ele alacaktır.\n\nBilimsel kanıta dayalı\, eczacı merkezli bir bakış açısıyla güvenli kullanım çerçevesi tartışılacaktır. \nKimler Katılmalı?\n\nEczane eczacıları\nKlinik eczacılar\nEndüstride çalışan eczacılar\nFarmasötik toksikoloji alanına ilgi duyan akademisyenler\nLisans ve lisansüstü öğrencileri\nSağlık profesyonelleri\n\nÖzellikle eczane pratiğinde aktif danışmanlık veren meslektaşlarımız için yüksek değerli bir içeriktir. \nNeler Öğreneceksiniz?\n\nEczacının hasta danışmanlığında dikkat etmesi gereken kritik noktalar nelerdir?\n“Doğal ürün = güvenli ürün” algısının bilimsel karşılığı nedir?\nVitamin ve minerallerde toksisite eşikleri nasıl belirlenir?\nBitkisel ürünlerde kontaminasyon ve adulterasyon riskleri nelerdir?\nEndokrin bozucu potansiyel taşıyan bileşenler nelerdir?\nGıda takviyelerinde farmakovijilans ve toksikovijilans yaklaşımı nasıl olmalıdır?
URL:https://eczacilarburada.com/program/gida-takviyelerinin-olasi-toksik-etkileri/
CATEGORIES:E-Buluşmalar
ATTACH;FMTTYPE=image/jpeg:https://eczacilarburada.com/wp-content/uploads/2026/03/program-banner-11Mart-C.jpg
LOCATION:https://eczacilarburada.com/program/gida-takviyelerinin-olasi-toksik-etkileri/
END:VEVENT
BEGIN:VEVENT
DTSTART;TZID=Europe/Istanbul:20260318T203000
DTEND;TZID=Europe/Istanbul:20260318T220000
DTSTAMP:20260424T162944
CREATED:20260303T133703Z
LAST-MODIFIED:20260310T143031Z
UID:10000092-1773865800-1773871200@eczacilarburada.com
SUMMARY:Eczacı Perspektifinden Takviye Edici Gıdalar
DESCRIPTION:Takviye edici gıdalar\, toplumda “doğal ve zararsız” algısıyla yaygın olarak kullanılmaktadır. Ancak bu ürünler; kronik hastalığı olan bireyler\, çoklu ilaç kullanan hastalar ve hassas gruplar için ciddi riskler barındırabilir. \nBu webinarda\, takviye edici gıdalar eczacı perspektifiyle; bilimsel kanıtlar\, etik sorumluluklar ve hasta güvenliği çerçevesinde ele alınacak; eczane pratiğinde doğru danışmanlık için yol gösterici bir yaklaşım sunulacaktır. \nKimler Katılmalı?\n\nEczanesinde takviye edici gıda danışmanlığı yapan eczacılar\n“Bu ürünü kullanabilir miyim?” sorusuyla sık karşılaşan eczacılar\nEczacılık öğrencileri\nHasta güvenliğini önceleyen sağlık profesyonelleri\n\nNeler Öğreneceksiniz?\n\nTakviye edici gıdaların mevzuattaki yeri ve sınırları\nBilimsel kanıt ile pazarlama söylemi arasındaki fark\nRiskli hasta gruplarında dikkat edilmesi gereken noktalar\nİlaç–takviye edici gıda etkileşimleri\nEczacının etik ve mesleki sorumlulukları\nGüvenli ve doğru hasta danışmanlığına dair pratik yaklaşımlar
URL:https://eczacilarburada.com/program/eczaci-perspektifinden-takviye-edici-gidalar/
CATEGORIES:E-Buluşmalar
ATTACH;FMTTYPE=image/jpeg:https://eczacilarburada.com/wp-content/uploads/2026/03/program-banner-18Mart.jpg
LOCATION:https://eczacilarburada.com/program/eczaci-perspektifinden-takviye-edici-gidalar/
END:VEVENT
BEGIN:VEVENT
DTSTART;TZID=Europe/Istanbul:20260319T203000
DTEND;TZID=Europe/Istanbul:20260319T220000
DTSTAMP:20260424T162944
CREATED:20260117T095553Z
LAST-MODIFIED:20260207T151612Z
UID:10000067-1773952200-1773957600@eczacilarburada.com
SUMMARY:Bakım Veren Sağlık Profesyoneli
DESCRIPTION:Eczacılar Burada platformu\, eczacılık mesleğinin dönüşen rolünü anlamak\, güçlendirmek ve genişletmek amacıyla “Filmlerle 10 Yıldızlı Eczacı” başlıklı özel bir program düzenliyor. \nBu seminer dizisi\, Dünya Sağlık Örgütü’nün tanımladığı 10-Star Pharmacist modelinde yer alan temel yetkinlikleri sinemanın anlatı gücüyle bir araya getiriyor. Katılımcılar; her seminerde seçilmiş bir filmi birlikte izleyip çözümleyecek\, filmdeki karakter\, olay örgüsü ve çatışmalar üzerinden ilgili mesleki beceriyi derinlemesine değerlendirecek. \nProgram; eczacının yalnızca bir sağlık profesyoneli değil\, aynı zamanda bir iletişimci\, karar verici\, araştırmacı\, eğitmen\, girişimci ve değişim lideri olduğunu hatırlatan disiplinlerarası bir öğrenme deneyimi sunar. \nSeminerler kapsamında: \n\nWHO’nun her bir “yıldız”ı için sinema tarihinden özel bir film ele alınacak\,\nFilm analizleri mesleki yetkinlikler çerçevesinde yapılacak\,\nKatılımcılar; vaka analizi\, grup tartışması ve kısa yansıtma çalışmalarına dahil olacak\,\nAtölye sonunda tüm katılımcılara kişisel gelişim notları ve önerilen okuma/izleme listesi sağlanacaktır.\n\nBu program\, eczacılık mesleğine bütüncül bakış kazandırmak\, yeni dünyada eczacının konumunu yeniden tanımlamak ve mesleki farkındalığı güçlendirmek isteyen tüm meslektaşlarımıza açıktır. \n“10 yıldızlı eczacı” olma yolculuğuna sinemanın ışığında birlikte çıkıyoruz. \nSeminer 1 – CARE GIVER (Bakım Veren Sağlık Profesyoneli) \n\n\n\nFilm: Wit (2001)\nPalyatif bakım\, insan onuru\, empati ve sağlık profesyonellerinin hasta ile kurduğu ilişkiyi merkeze alan en etkileyici filmlerden biri.\nAna Temalar: Empati\, palyatif bakım\, hastalık deneyimi\, insan onuru\nTartışma Başlıkları:\n\nEczacının hasta yolculuğundaki kritik rolü\nKlinik bilgi – şefkat dengesi\nDuygusal yük yönetimi\n\n\n\n\n\n 
URL:https://eczacilarburada.com/program/bakim-veren-saglik-profesyoneli/
CATEGORIES:Seminerler
ATTACH;FMTTYPE=image/jpeg:https://eczacilarburada.com/wp-content/uploads/2026/01/egitim-banner-film-1.jpg
END:VEVENT
BEGIN:VEVENT
DTSTART;TZID=Europe/Istanbul:20260326T203000
DTEND;TZID=Europe/Istanbul:20260326T220000
DTSTAMP:20260424T162944
CREATED:20260117T100142Z
LAST-MODIFIED:20260207T151508Z
UID:10000068-1774557000-1774562400@eczacilarburada.com
SUMMARY:Karar Verici
DESCRIPTION:Eczacılar Burada platformu\, eczacılık mesleğinin dönüşen rolünü anlamak\, güçlendirmek ve genişletmek amacıyla “Filmlerle 10 Yıldızlı Eczacı” başlıklı özel bir program düzenliyor. \nBu seminer dizisi\, Dünya Sağlık Örgütü’nün tanımladığı 10-Star Pharmacist modelinde yer alan temel yetkinlikleri sinemanın anlatı gücüyle bir araya getiriyor. Katılımcılar; her seminerde seçilmiş bir filmi birlikte izleyip çözümleyecek\, filmdeki karakter\, olay örgüsü ve çatışmalar üzerinden ilgili mesleki beceriyi derinlemesine değerlendirecek. \nProgram; eczacının yalnızca bir sağlık profesyoneli değil\, aynı zamanda bir iletişimci\, karar verici\, araştırmacı\, eğitmen\, girişimci ve değişim lideri olduğunu hatırlatan disiplinlerarası bir öğrenme deneyimi sunar. \nSeminerler kapsamında: \n\nWHO’nun her bir “yıldız”ı için sinema tarihinden özel bir film ele alınacak\,\nFilm analizleri mesleki yetkinlikler çerçevesinde yapılacak\,\nKatılımcılar; vaka analizi\, grup tartışması ve kısa yansıtma çalışmalarına dahil olacak\,\nAtölye sonunda tüm katılımcılara kişisel gelişim notları ve önerilen okuma/izleme listesi sağlanacaktır.\n\nBu program\, eczacılık mesleğine bütüncül bakış kazandırmak\, yeni dünyada eczacının konumunu yeniden tanımlamak ve mesleki farkındalığı güçlendirmek isteyen tüm meslektaşlarımıza açıktır. \n“10 yıldızlı eczacı” olma yolculuğuna sinemanın ışığında birlikte çıkıyoruz. \nSeminer 2 – DECISION MAKER (Karar Verici) \n\n\n\nFilm: Apollo 13 (1995)\nKriz anında doğru kararı\, doğru zamanda\, sınırlı kaynaklarla verme becerisinin sinema tarihindeki en iyi temsillerinden biri.\nAna Temalar: Kriz yönetimi\, hızlı karar alma\, risk–fayda analizi\nTartışma Başlıkları:\n\nİlaç danışmanlığında belirsizlikle karar vermek\nKısıtlı kaynaklarla optimum çözüm geliştirmek\n\n\n\n\n\n 
URL:https://eczacilarburada.com/program/karar-verici/
CATEGORIES:Seminerler
ATTACH;FMTTYPE=image/jpeg:https://eczacilarburada.com/wp-content/uploads/2026/01/egitim-banner-film-2.jpg
END:VEVENT
BEGIN:VEVENT
DTSTART;TZID=Europe/Istanbul:20260326T203000
DTEND;TZID=Europe/Istanbul:20260326T220000
DTSTAMP:20260424T162944
CREATED:20260128T134858Z
LAST-MODIFIED:20260322T155225Z
UID:10000077-1774557000-1774562400@eczacilarburada.com
SUMMARY:Filmlerle 10 Yıldızlı Eczacı
DESCRIPTION:Eczacılık mesleği yalnızca teknik bilgiyle değil; iletişim\, karar verme\, liderlik\, empati ve değişim yaratma becerileriyle icra edilir. \nFilmlerle “10 Yıldızlı Eczacı”\,\nDünya Sağlık Örgütü’nün (WHO) tanımladığı 10-Star Pharmacist modelini\, sinemanın güçlü anlatı diliyle bir araya getiren disiplinlerarası bir öğrenme programıdır. \nBu seminer dizisi; eczacının mesleki rolünü yeniden düşünmesini\, genişletmesini ve derinleştirmesini hedefler. \nBu Eğitim Neden Gerekli?\nGünümüz eczacısı: \n\nyalnızca ilaç veren değil\,\ndanışmanlık yapan\,\nekip yöneten\,\nkriz çözen\,\ntoplumsal sağlıkta söz alan\nbir profesyoneldir.\n\nAncak bu roller çoğu zaman teknik eğitimlerin dışında kalır. \nBu program\, eczacının: davranışsal\, insani ve liderlik becerilerini görünür ve geliştirilebilir hale getirir. \nEğitimin Amacı\nBu atölyenin amacı: \n\nWHO 10-Star Pharmacist modelini eczacıya içselleştirmek\,\nMesleki yetkinlikleri sinema anlatısı üzerinden derinlemesine tartışmak\,\nEczacının kendine ve mesleğine dair farkındalığını artırmaktır.\n\nKimler Katılmalı?\n\nMesleğine bütüncül bakmak isteyen eczacılar\nEczane yöneten veya yönetmeye hazırlananlar\nİletişim\, liderlik ve kişisel gelişimine yatırım yapmak isteyenler\nEczacılık fakültesi öğrencileri\nEczane ekip üyeleri\n\nNeler Öğreneceksiniz?\n\nWHO’nun tanımladığı 10 temel eczacı yetkinliği\nHasta ile empatik ilişki kurma\nKriz anlarında karar verme\nEtkili iletişim ve liderlik\nVeriyle düşünme ve yönetme\nSürekli öğrenme ve kendini geliştirme\nToplumsal sağlıkta aktif rol alma\n\nProgram Akışı\nGenel Bilgiler \n\nSüre: 10 Oturum (her biri 90 dakika)\nFormat: Online\n\nYöntem:\nFilm analizi\, sahne okumaları\, vaka tartışmaları\, mesleki yansıtma
URL:https://eczacilarburada.com/program/filmlerle-10-yildizli-eczaci/
CATEGORIES:Seminerler
ATTACH;FMTTYPE=image/jpeg:https://eczacilarburada.com/wp-content/uploads/2026/01/egitim-banner-Filmlerle10-Yildizli-Eczaci.jpg
END:VEVENT
BEGIN:VEVENT
DTSTART;TZID=Europe/Istanbul:20260328T100000
DTEND;TZID=Europe/Istanbul:20260328T110000
DTSTAMP:20260424T162944
CREATED:20260316T112528Z
LAST-MODIFIED:20260322T155124Z
UID:10000099-1774692000-1774695600@eczacilarburada.com
SUMMARY:Bağışıklıkta Bitkisel Destekler ve Adaptojenler
DESCRIPTION:Prof. Dr. Didem Deliorman Orhan
URL:https://eczacilarburada.com/program/bagisiklikta-bitkisel-destekler-ve-adaptojenler/
CATEGORIES:Seminerler
ATTACH;FMTTYPE=image/jpeg:https://eczacilarburada.com/wp-content/uploads/2025/04/egitim-banner-eczanede-klinik-fitoterapi.jpg
END:VEVENT
BEGIN:VEVENT
DTSTART;TZID=Europe/Istanbul:20260328T110000
DTEND;TZID=Europe/Istanbul:20260328T120000
DTSTAMP:20260424T162944
CREATED:20260316T112528Z
LAST-MODIFIED:20260322T155124Z
UID:10000100-1774695600-1774699200@eczacilarburada.com
SUMMARY:Üst solunum yolu hastalıklarında (Öksürük\, Soğuk Algınlığı\, astım) fitoterapiden nasıl faydalanılır?
DESCRIPTION:Prof. Dr. Didem Deliorman Orhan
URL:https://eczacilarburada.com/program/ust-solunum-yolu-hastaliklarinda-oksuruk-soguk-alginligi-astim-fitoterapiden-nasil-faydalanilir/
CATEGORIES:Seminerler
ATTACH;FMTTYPE=image/jpeg:https://eczacilarburada.com/wp-content/uploads/2025/04/egitim-banner-eczanede-klinik-fitoterapi.jpg
END:VEVENT
BEGIN:VEVENT
DTSTART;TZID=Europe/Istanbul:20260328T120000
DTEND;TZID=Europe/Istanbul:20260328T130000
DTSTAMP:20260424T162944
CREATED:20260316T112528Z
LAST-MODIFIED:20260322T155124Z
UID:10000101-1774699200-1774702800@eczacilarburada.com
SUMMARY:Stres\, Anksiyete ve Uyku Problemlerinde Eczacının Bitkisel Yol Haritası
DESCRIPTION:Prof. Dr. Esra Akkol
URL:https://eczacilarburada.com/program/stres-anksiyete-ve-uyku-problemlerinde-eczacinin-bitkisel-yol-haritasi/
CATEGORIES:Seminerler
ATTACH;FMTTYPE=image/jpeg:https://eczacilarburada.com/wp-content/uploads/2025/04/egitim-banner-eczanede-klinik-fitoterapi.jpg
END:VEVENT
BEGIN:VEVENT
DTSTART;TZID=Europe/Istanbul:20260328T130000
DTEND;TZID=Europe/Istanbul:20260328T140000
DTSTAMP:20260424T162944
CREATED:20260316T112528Z
LAST-MODIFIED:20260322T155124Z
UID:10000102-1774702800-1774706400@eczacilarburada.com
SUMMARY:Mide Yanması\, Reflü\, Gastrit\, Kabızlık\, IBS ve Bağırsak Problemlerinde Bitkisel Ürün Seçimi
DESCRIPTION:Prof. Dr. Esra Akkol
URL:https://eczacilarburada.com/program/mide-yanmasi-reflu-gastrit-kabizlik-ibs-ve-bagirsak-problemlerinde-bitkisel-urun-secimi/
CATEGORIES:Seminerler
ATTACH;FMTTYPE=image/jpeg:https://eczacilarburada.com/wp-content/uploads/2025/04/egitim-banner-eczanede-klinik-fitoterapi.jpg
END:VEVENT
BEGIN:VEVENT
DTSTART;TZID=Europe/Istanbul:20260328T200000
DTEND;TZID=Europe/Istanbul:20260328T220000
DTSTAMP:20260424T162944
CREATED:20260128T153953Z
LAST-MODIFIED:20260317T143120Z
UID:10000078-1774728000-1774735200@eczacilarburada.com
SUMMARY:Eczanede Klinik Fitoterapi Seminerleri
DESCRIPTION:Bitkisel tedavi\, eczanede ürün önerisinin ötesinde klinik bir bakış gerektirir. \nEczanede Klinik Fitoterapi Yaklaşımı Seminerleri\, eczacılara sistem bazlı düşünme\, bitkisel tedaviyi doğru hasta profiliyle eşleştirme ve güvenli fitoterapi danışmanlığı yapabilme yetkinliği kazandırmak üzere hazırlanmıştır. \nProgram\, fitoterapiyi organ–sistem–hasta ekseninde ele alır ve eczacının klinik karar verme sürecini destekler. \nBu Eğitim Neden Gerekli?\nFitoterapi alanında: \n\nBilgi parçalı\,\nÜrün sayısı fazla\,\nYanlış kullanım riski yüksektir.\n\nEczacının rolü; “hangi bitki iyi?” sorusundan çok\, “hangi hasta için\, hangi sistemde\, hangi sınırla?” sorusunu doğru yanıtlayabilmektir. \nBu eğitim\, eczacıyı ezberden sistematik\, bilimsel ve güvenli hasta yönetimine taşır. \nEğitimin Amacı\nBu seminer dizisinin amacı eczacılara: \n\nKlinik fitoterapiye sistem bazlı yaklaşım kazandırmak\,\nBitkisel tedavileri farmakognozi temelli değerlendirebilme yetkinliği kazandırmak\,\nHasta profiline göre doğru bitkisel destek planlaması yapabilme becerisi kazandırmaktır.\n\nKimler Katılmalı?\n\nFitoterapiyi bilimsel zeminde öğrenmek isteyen eczacılar\nEczanesinde bitkisel ürün danışmanlığını klinik bakışla yapmak isteyenler\nFitoterapi alanında kendini geliştirmek isteyen eczacılık fakültesi öğrencileri\nHastaya bütüncül yaklaşımı önemseyen sağlık profesyonelleri\n\nNeler Öğreneceksiniz?\n\nSistem bazlı fitoterapi yaklaşımı\nBitkisel tedavilerin etki mekanizmaları\nFitoterapide endikasyon–kontrendikasyon değerlendirmesi\nİlaç–bitki etkileşimlerine dikkat edilmesi gereken noktalar\nEczanede güvenli ve etik fitoterapi danışmanlığı\nHasta beklentisi yönetimi ve doğru yönlendirme\n\nProgram:\n\nGÜN (28 Mart 2026 saat 10.00-14.00) Seminerleri\n\nBağışıklıkta Bitkisel Destekler ve Adaptojenler / Prof. Dr. Didem Deliorman Orhan\nÜst solunum yolu hastalıklarında (Öksürük\, Soğuk Algınlığı\, astım) fitoterapiden nasıl faydalanılır? / Prof. Dr. Didem Deliorman Orhan\nStres\, Anksiyete ve Uyku Problemlerinde Eczacının Bitkisel Yol Haritası / Prof. Dr. Esra Akkol\nMide Yanması\, Reflü\, Gastrit\, Kabızlık\, IBS ve Bağırsak Problemlerinde Bitkisel Ürün Seçimi / Prof. Dr. Esra Akkol\n\n\n\n\nGÜN (29 Mart 2026 saat 10.00-14.00) Seminerleri\n\nAlerjide ve paraziter hastalıklarda doğal destekler / Prof. Dr. Didem Deliorman Orhan \nKaraciğer sağlığında ve diyabette fitoterapinin yeri / Prof. Dr. Didem Deliorman Orhan \nCilt Problemlerinde Bitkisel ve Oral Destekler / Prof. Dr. Esra Akkol \nKas-İskelet sağlığında fitoterapiden beklentiler / Prof. Dr. Esra Akkol \n\n\n\n\nGÜN (30 Mart 2026 saat 20.00-22.00) Seminerleri\n\nKilo kontrol ürünleri / Prof. Dr. Didem Deliorman Orhan\nKadın Sağlığında Bitkisel Destekler: PMS’den Menopoza / Prof. Dr. Esra Akkol \n\n\n\n  \nEğitim Ücreti\n\nEğitim Ücreti: 10 Seminer Toplu Fiyatı 12.500\,- TL yerine 10.000\,- TL\nHer bir seminer 1.250\,- TL\nÖğrencilere %30 indirim\n\nKontenjan sınırlıdır. Katılım\, kayıt sırasına göre kesinleşir. \nEğitmenler\nProf. Dr. Esra Akkol\nGazi Üniversitesi Eczacılık Fakültesi\nFarmakognozi Anabilim Dalı \nProf. Dr. Didem Deliorman Orhan\nGazi Üniversitesi Eczacılık Fakültesi\nFarmakognozi Anabilim Dalı \nProgram\, farmakognozi alanında akademik ve bilimsel yetkinliğe sahip eğitmenler tarafından yürütülmektedir. \nTarih – Süre – Format \n\nHer seminer: 60 dakika \nFormat: Online\n\nKatılım ve Sertifikasyon\n\nHer oturum için katılım kaydı alınacaktır.\nProgram sonunda katılım sertifikası verilecektir.\nSertifika için devam şartı bulunmaktadır.\nKontenjan sınırlıdır.\n\n  \nFitoterapiyi ezberden değil\, sistemden öğrenmek; bitkisel tedaviyi güvenli ve bilimsel şekilde hastaya sunmak isteyen tüm eczacıları bu programa davet ediyoruz.
URL:https://eczacilarburada.com/program/eczanede-klinik-fitoterapi-seminerleri/
CATEGORIES:Seminerler
ATTACH;FMTTYPE=image/jpeg:https://eczacilarburada.com/wp-content/uploads/2025/04/egitim-banner-eczanede-klinik-fitoterapi.jpg
END:VEVENT
BEGIN:VEVENT
DTSTART;TZID=Europe/Istanbul:20260329T100000
DTEND;TZID=Europe/Istanbul:20260329T110000
DTSTAMP:20260424T162944
CREATED:20260316T112529Z
LAST-MODIFIED:20260322T155124Z
UID:10000103-1774778400-1774782000@eczacilarburada.com
SUMMARY:Alerjide ve paraziter hastalıklarda doğal destekler
DESCRIPTION:Prof. Dr. Didem Deliorman Orhan
URL:https://eczacilarburada.com/program/alerjide-ve-paraziter-hastaliklarda-dogal-destekler/
CATEGORIES:Seminerler
ATTACH;FMTTYPE=image/jpeg:https://eczacilarburada.com/wp-content/uploads/2025/04/egitim-banner-eczanede-klinik-fitoterapi.jpg
END:VEVENT
BEGIN:VEVENT
DTSTART;TZID=Europe/Istanbul:20260329T110000
DTEND;TZID=Europe/Istanbul:20260329T120000
DTSTAMP:20260424T162944
CREATED:20260316T112529Z
LAST-MODIFIED:20260322T155124Z
UID:10000104-1774782000-1774785600@eczacilarburada.com
SUMMARY:Karaciğer sağlığında ve diyabette fitoterapinin yeri
DESCRIPTION:Prof. Dr. Didem Deliorman Orhan
URL:https://eczacilarburada.com/program/karaciger-sagliginda-ve-diyabette-fitoterapinin-yeri/
CATEGORIES:Seminerler
ATTACH;FMTTYPE=image/jpeg:https://eczacilarburada.com/wp-content/uploads/2025/04/egitim-banner-eczanede-klinik-fitoterapi.jpg
END:VEVENT
BEGIN:VEVENT
DTSTART;TZID=Europe/Istanbul:20260329T120000
DTEND;TZID=Europe/Istanbul:20260329T130000
DTSTAMP:20260424T162944
CREATED:20260316T112529Z
LAST-MODIFIED:20260322T155124Z
UID:10000105-1774785600-1774789200@eczacilarburada.com
SUMMARY:Cilt Problemlerinde Bitkisel ve Oral Destekler
DESCRIPTION:Prof. Dr. Esra Akkol
URL:https://eczacilarburada.com/program/cilt-problemlerinde-bitkisel-ve-oral-destekler/
CATEGORIES:Seminerler
ATTACH;FMTTYPE=image/jpeg:https://eczacilarburada.com/wp-content/uploads/2025/04/egitim-banner-eczanede-klinik-fitoterapi.jpg
END:VEVENT
BEGIN:VEVENT
DTSTART;TZID=Europe/Istanbul:20260329T130000
DTEND;TZID=Europe/Istanbul:20260329T140000
DTSTAMP:20260424T162944
CREATED:20260316T112529Z
LAST-MODIFIED:20260322T155124Z
UID:10000106-1774789200-1774792800@eczacilarburada.com
SUMMARY:Kas-İskelet sağlığında fitoterapiden beklentiler
DESCRIPTION:Prof. Dr. Esra Akkol
URL:https://eczacilarburada.com/program/kas-iskelet-sagliginda-fitoterapiden-beklentiler/
CATEGORIES:Seminerler
ATTACH;FMTTYPE=image/jpeg:https://eczacilarburada.com/wp-content/uploads/2025/04/egitim-banner-eczanede-klinik-fitoterapi.jpg
END:VEVENT
BEGIN:VEVENT
DTSTART;TZID=Europe/Istanbul:20260330T200000
DTEND;TZID=Europe/Istanbul:20260330T210000
DTSTAMP:20260424T162945
CREATED:20260316T112530Z
LAST-MODIFIED:20260322T155124Z
UID:10000107-1774900800-1774904400@eczacilarburada.com
SUMMARY:Kilo kontrol ürünleri
DESCRIPTION:Prof. Dr. Didem Deliorman Orhan
URL:https://eczacilarburada.com/program/kilo-kontrol-urunleri/
CATEGORIES:Seminerler
ATTACH;FMTTYPE=image/jpeg:https://eczacilarburada.com/wp-content/uploads/2025/04/egitim-banner-eczanede-klinik-fitoterapi.jpg
END:VEVENT
BEGIN:VEVENT
DTSTART;TZID=Europe/Istanbul:20260330T210000
DTEND;TZID=Europe/Istanbul:20260330T220000
DTSTAMP:20260424T162945
CREATED:20260316T112530Z
LAST-MODIFIED:20260322T155124Z
UID:10000108-1774904400-1774908000@eczacilarburada.com
SUMMARY:Kadın Sağlığında Bitkisel Destekler: PMS’den Menopoza
DESCRIPTION:Prof. Dr. Esra Akkol
URL:https://eczacilarburada.com/program/kadin-sagliginda-bitkisel-destekler-pmsden-menopoza/
CATEGORIES:Seminerler
ATTACH;FMTTYPE=image/jpeg:https://eczacilarburada.com/wp-content/uploads/2025/04/egitim-banner-eczanede-klinik-fitoterapi.jpg
END:VEVENT
END:VCALENDAR