BEGIN:VCALENDAR
VERSION:2.0
PRODID:-//Eczacılar Burada - ECPv6.11.2.1//NONSGML v1.0//EN
CALSCALE:GREGORIAN
METHOD:PUBLISH
X-ORIGINAL-URL:https://eczacilarburada.com
X-WR-CALDESC:Eczacılar Burada için etkinlikler
REFRESH-INTERVAL;VALUE=DURATION:PT1H
X-Robots-Tag:noindex
X-PUBLISHED-TTL:PT1H
BEGIN:VTIMEZONE
TZID:Europe/Istanbul
BEGIN:STANDARD
TZOFFSETFROM:+0300
TZOFFSETTO:+0300
TZNAME:+03
DTSTART:20260101T000000
END:STANDARD
END:VTIMEZONE
BEGIN:VEVENT
DTSTART;TZID=Europe/Istanbul:20260504T100000
DTEND;TZID=Europe/Istanbul:20260504T160000
DTSTAMP:20260424T164912
CREATED:20250419T220955Z
LAST-MODIFIED:20260330T143714Z
UID:10000006-1777888800-1777910400@eczacilarburada.com
SUMMARY:Tıbbi Bitki Yetiştiriciliği Atölyesi
DESCRIPTION:Bitkisel ürünler eczane pratiğinde giderek daha fazla yer alırken\, eczacının en kritik ihtiyacı bitkiyi rafta değil\, kaynağında tanıyabilmektir. \nTıbbi bitkiler; doğru tür seçimi\, doğru yetiştirme tekniği\, uygun hasat zamanı ve doğru muhafaza koşulları sağlanmadığında\, beklenen etkiyi göstermeyen hatta riskli hale gelebilen ürünlere dönüşebilir. \nTıbbi Bitki Yetiştiriciliği Atölyesi\, eczacılara tarım öğretmeyi değil; bitkisel ürünleri bilimsel\, ayırt edici ve eleştirel bir gözle değerlendirme becerisi kazandırmayı amaçlar. Program\, saha deneyimi ile akademik bilgiyi bir araya getirerek eczacının danışmanlık niteliğini güçlendirmeyi hedefler. \nProgram Yapısı\nFormat: Atölye – Uygulamalı anlatım ve örnek incelemeleri\nYaklaşım: Bilimsel altyapı + saha pratiği + eczacılık perspektifi \nATÖLYE İÇERİĞİ\n\n Tıbbi Bitkileri Tanımak ve Ayırt Etmek\n\n\nTıbbi ve aromatik bitkilerin ayırt edici özellikleri\nTür–etki–kullanım ilişkisi\nYanlış tanımlamanın doğurabileceği riskler\n\n\n İklim\, Toprak ve Tür Seçimi\n\n\nBitkilerin iklim ve toprak istekleri\nFarklı alanlara ve ölçeklere uygun tür seçimi\nEkonomik değeri yüksek ürünlerin değerlendirilmesi\n\n\n Üretim Teknikleri ve Tarımsal Uygulamalar\n\n\nTıbbi bitki üretim teknikleri\nGübreleme\, sulama ve bitki besleme temelleri\nMünavebe (rotasyon) uygulamalarının önemi\n\n\n Hasat\, Kurutma ve Muhafaza\n\n\nDoğru hasat zamanı ve yöntemleri\nEtken maddeyi koruyan kurutma teknikleri\nSaklama koşulları ve kalite kaybı riskleri\n\n\n Sanayi ve Eczacılık Bağlantısı\n\n\nTıbbi bitkilerin farklı sanayi kollarında değerlendirilmesi\nEczacılık uygulamalarında doğru kullanım perspektifi\nDanışmanlıkta sık yapılan hatalar\n\n\n Uygulamalı Örnekler ve Saha Deneyimleri\n\n\nGerçek üretim alanlarından örneklerin değerlendirilmesi\nÜretim tekniklerinin uygulamalı gösterimi\n\nKimler Katılmalı?\n\nBitkisel ürünlerde daha güvenli danışmanlık yapmak isteyen eczacılar\nTıbbi ve aromatik bitkilere bilimsel yaklaşım kazanmak isteyenler\nBitkisel ürünlerin üretim sürecini anlamayı önemseyen sağlık profesyonelleri\nBu alanda hobi\, yan uğraş veya uzun vadeli perspektif geliştirmek isteyenler\n\nBu Atölyeden Ne Kazanırsınız?\n\nTıbbi bitkileri ayırt etme ve değerlendirme becerisi\nÜretimden muhafazaya kadar süreci okuma yetkinliği\nBitkisel ürün danışmanlığında güven ve bilimsel zemin\nSürdürülebilirlik ve kalite odaklı bakış açısı\n\nEğitmen Hakkında\nZiraat Yüksek Mühendisi Furkan Tınmaz\, Trakya Üniversitesi Ziraat Fakültesi mezunu olup Bahçe Bitkileri alanında yüksek lisansını tamamlamıştır. Uzun yıllardır geniş ölçekli tarımsal üretim alanlarında yöneticilik yapmakta\, akademik yayınlar ve saha uygulamalarını bir araya getiren çalışmalarıyla tanınmaktadır. 2020 yılından bu yana Üsküdar Üniversitesi’nde Öğretim Görevlisi olarak Tıbbi ve Aromatik Bitkiler\, muhafaza\, pazarlama ve üretim teknikleri üzerine dersler vermektedir. \nTarih – Mekan – Ücret\nTarih: 16 Nisan 2026\nMekan: Zeytinburnu Tıbbi Bitkiler Bahçesi\nKatılım Ücreti: 3.850 TL\nÖğrencilere %30 indirim\nKontenjan sınırlıdır. Katılım\, kayıt sırasına göre kesinleşir. \nNeden Bu Atölye?\nÇünkü bitkisel ürünlerde güven\, etikette değil üretim sürecinde başlar.
URL:https://eczacilarburada.com/program/tibbi-bitki-yetistiriciligi-ve-girisimciligi-atolyesi/
LOCATION:Zeytinburnu Tıbbi Bitkiler Bahçesi\, Merkezefendi Yeniçiftlik yolu 1\, Zeytinburnu\, İstanbul\, İstanbul\, 34015\, Turkey
CATEGORIES:Atölyeler
ATTACH;FMTTYPE=image/jpeg:https://eczacilarburada.com/wp-content/uploads/2025/04/egitim-banner-tibbi-bitki-mayis.jpg
GEO:41.0107613;28.9070859
X-APPLE-STRUCTURED-LOCATION;VALUE=URI;X-ADDRESS=Zeytinburnu Tıbbi Bitkiler Bahçesi Merkezefendi Yeniçiftlik yolu 1 Zeytinburnu İstanbul İstanbul 34015 Turkey;X-APPLE-RADIUS=500;X-TITLE=Merkezefendi Yeniçiftlik yolu 1\, Zeytinburnu:geo:28.9070859,41.0107613
END:VEVENT
END:VCALENDAR